{"text_format":"1","workbook":"xlsx","n_sheets":7,"sheets":["About","Entry","OrderNew","ARREAR","INNER","OUTER","RC"],"not_rendered":{"charts":0,"images":0,"macros":1,"external_links":0,"defined_names":4,"comments":1,"pivot_tables":0},"unopened":[],"bounds":{"document_bytes":16777216,"sheet_cells":100000,"rows_first":2000,"rows_last":500,"rows_between":2000,"halvings":0,"cell_chars":16384,"cell_head_chars":4096},"cells_cut":0,"cells_raw":0,"read":"whole","date_system":"1900"}

{"sheet":"About","index":0,"n_rows":239,"n_cols":13,"rows_kept":239,"cut":false,"hidden":false,"merged":[[23,0,23,3],[18,0,21,3],[0,1,0,2],[1,0,9,3],[10,0,13,3],[14,0,17,3]]}
[null,"ABOUT  FILE"]
["                                      M S Excel 2007 esa ;g ,d esdzks ;qDr Qkby gS ftlds }kjk ekg fnlEcj 2014 rd dk ,lhih ,fj;j cuk;k tk ldrk gS A bldsmi;ksx ls iwoZ fnukad QkesZV \"dd/mm/yyyy\" djuk vko';d gS rkfd lgh x.kukgks lds Ablds ckn ,Mz~sl ckj dsmij vkI'ku dks fDyd dj esdzks ,uscy fd;k tkuk gS Alacaf/kr  dkye esa okafNr lwpuk Hkjsa A vuqnkfur fo|ky;ksa ls vk;s dkfeZdks ds ,fj;j dk izko/kku lekfo\"V fd, tkus ls Lohd`fr fnukad ,oa ,fj;j vo/kh gsrq vyx vyx dkye fu;r fd, x, gSa A HkRrs ,oa dVkSfr;ksa dk p;u lacaf/kr dkye esa fyLV ls djuk gS A \n                \n\n\n\n"]
[]
[]
[]
[]
[]
[]
[]
[]
["          ljs.Mj gsrq ;Fkk LFkku vko';d iwfrZ djsa A ;fn okLrfod vkgfjr osru ,oa Lohd`fr fnukad dks LFkjhdj.k gsrq osru esa fHkUurk gks rks dkye lh 35 ls Mh 38 dk mi;ksx djsa Aekg ,oa fnol vafdr djuk gS AvoSrfud vodk'k ,oa v)Z osru dk izHkko n'kkZus gsrq izLrkfor dkye esa ekg ds dkye esa ekg dh izFke fnukad vafdr djuk gS ,oa izLrkfor LFkku ij vodk'k fnol vfdr djuk gS A"]
[]
[]
[]
["         pwafd ;g izksxzke fnlEcj 14 rd gS vr% le; le; ij c<+us okys egxkbZ HkRrs gsrq LFkku izLrkfor fd;k x;k gS blesa jsV ds dkye esa fcuk izfr'kr dk fu'kku yxk;s lEcf/kr ekg ds le{k ?kksf\"kr nj ,aoe vkxkeh dkye esa thih,Q esa tek gksus okys ekg vafdr djus gS ftlls lEcfU/kr ekg esa egxkbZ HkRrk viMsV gksdj thih,Q dh izHkkfor gksus okyh dVkSfr gks ldsxh A "]
[]
[]
[]
["         ;g Qkby dkfeZdks dh lqfo/kk ,aoe lg;ksx ds n`f\"Vxr rS;kj dh xbZ gS blesa x.kuk dks iqu% O;fDr'k% tkap dj gh dke esa ys fdlh izdkj dh =qfV gsrq Qkby rS;kjdrkZ mRrjnk;h ugha gksxkA"]
[]
[]
[]
["         blds mi;ksx esa fdlh izdkj dh dfBukbZ gks vFkok vkids dksbZ lq>ko gks rks lnSo vkeaf=r gS "]
[" d`i;k  vki vius lq>ko @leL;k uhps fn;s irs ij esy Hkh dj ldrs gSA"]
[]
[]
["Password    acp2017"]
["        "]
[]
[]
[null,null,"vkidk gh"]
[]
["Update  13-10-2015 Tuesday"]
[null,null,"jes'k /kkHkkbZ\ndk;kZy; lgk;d\njkiVsy mekfo&C;koj\ngurjar511@gmail.com\n"]
[]
[]
[]
[]
[]
[]
[]
[]
["rakesh"]
[]
[]
[]
[]
[]
[]
[]
[]
[]
[]
[]
[]
[]
[]
[]
[]
[]
[]
[]
[]
[]
[]
[]
[]
[]
[]
[]
[]
[]
[]
[]
[]
[]
[]
[]
[]
[]
[]
[]
[]
[]
[]
[]
[]
[]
[]
[]
[]
[]
[]
[]
[]
[]
[]
[]
[]
[]
[]
[]
[]
[]
[]
[]
[]
[]
[]
[]
[]
[]
[]
[]
[]
[]
[]
[]
[]
[]
[]
[]
[]
[]
[]
[]
[]
[]
[]
[]
[]
[]
[]
[]
[]
[]
[]
[]
[]
[]
[]
[]
[]
[]
[]
[]
[]
[]
[]
[]
[]
[]
[]
[]
[]
[]
[]
[]
[]
[]
[]
[]
[]
[]
[]
[]
[]
[]
[]
[]
[]
[]
[]
[]
[]
[]
[]
[]
[]
[]
[]
[]
[]
[]
[]
[]
[]
[]
[]
[]
[]
[]
[]
[]
[]
[]
[]
[]
[]
[]
[]
[]
[]
[]
[]
[]
[]
[]
[]
[]
[]
[]
[]
[]
[]
[]
[]
[]
[]
[]
[]
[]
[]
[]
[]
[]
[]
[]
[]
[]
[]
[]
[]
[]
[]
[]
[]
[]
[null,null,null,null,null,null,null,null,null,null,null,null,"bUgsa 31-12-06 rd dh vo/kh gsrq dksbZ ,fj;j ns; ugha gksxk"]

{"sheet":"Entry","index":1,"n_rows":50,"n_cols":26,"rows_kept":50,"cut":false,"hidden":false,"merged":[[30,0,30,1],[14,0,14,1],[16,7,16,8],[15,0,15,1],[15,3,15,4],[16,5,16,6],[16,2,16,4],[21,7,21,8],[22,7,22,8],[23,7,23,8],[24,7,24,8],[25,7,25,8],[17,7,17,8],[18,7,18,8],[19,7,19,8],[20,7,20,8],[21,5,21,6],[17,3,17,4],[18,3,18,4],[19,3,19,4],[20,3,20,4],[21,3,21,4],[17,5,17,6],[18,5,18,6],[19,5,19,6],[20,5,20,6],[22,3,22,4],[23,3,23,4],[24,3,24,4],[39,4,39,5],[22,5,22,6],[23,5,23,6],[24,5,24,6],[25,5,25,6],[38,6,42,11],[0,0,1,8],[9,0,10,8],[13,0,13,2],[13,4,13,6],[11,2,11,3],[12,2,12,3],[8,3,8,4],[6,2,6,4],[7,2,7,8],[2,2,2,8],[3,2,3,8],[4,2,4,8],[5,2,5,4],[5,5,6,8]]}
["ACP Pay Fixtation Order & Arrear For State Employees , PLEASE Fill Required INFORMATION"]
[null,null,null,null,null,null,null,null,null,null,null,null,null,null,null,null,null,null,null,null,null,"A","DA","Y",0.1,0]
["dk;kZy;",null,"iz/kkukpk;Z jktdh; iVsy mPp ek?;fed fo|ky;]C;koj",null,null,null,null,null,null,null,null,null,null,null,null,null,null,null,null,null,null,"B","All","N",0.2,10]
["Lohd`fr drkZ",null,"mifuns'kd ek/;fed f'k{kk vtesj e.My vtesj",null,null,null,null,null,null,null,null,null,null,null,null,null,null,null,null,null,null,"N","Nill",null,"Nill",20]
["vkns'kkad",null,null,null,null,null,null,null,null,null,null,null,null,null,null,null,null,null,null,null,null,null,null,null,null,30]
["deZpkjh dk uke",null,"Jh egsUnz iky oekZ",null,null,"By- R.C. DHABHAI-O.A.\nGovt Patel Sr Sec Sch. BEAWAR(AJMER)"]
["in",null,"o0v0"]
["inLFkkiu LFkku"]
["ns; Lohd`fr fnukad",null,"2015-09-04","Lohd`r xzsM is",null,5400,"lsok o\"kZ",18,{"$f":"IF(OR(H9=9,H9<17),\"izFke\",IF(OR(H9=18,H9<27),\"f}rh;\",IF(H9>=27,\"r`rh;\")))","v":"f}rh;"}]
[",lhih 01&07&2013 ds iwoZ dh fnukad ls gksus dh fLFkfr esa Lohd`fr fnukad dksa dze'k% 01-09-06 ,oa 01-01-06 ds rgr LFkjhdj.k Lo:i ns; osru dh fLFkfr;ka vafdr djsa ,oa 01&07&13 vFkok i'pkr dh frfFk ls Lohd`fr ds ekeeys esa 01&01&06 ds LFkjhdj.k Lo:i  ns; osru fu;r dkyEl esa vafdr djuk gS"]
[]
["Lohd`fr fnukad dks osru",null,"As Per Fix 01-09-06",null,null,"xzsM is",null,";ksx",{"$f":"E12+G12","v":0}]
["Lohd`fr fnukad dks osru",null,"As Per Fix 01-01-06",null,18990,"xzsM is",4800,";ksx",{"$f":"E13+G13","v":23790}]
["fnukad 01&07&13 dks vkgfjr xzsM is &",null,null,null,"fnukad 01&07&13 dks ns; xzsM is &",null,null,null,"if ACP pre 01-07-13"]
["DDO Office Name",null,"PRINCIPAL GOVT SENIOR SEC.SCH.KANKROLI-RAJSAMAND",null,null,null,"TREASURY"," RAJSAMAND"]
["ARREAR FROM",null,"2015-09-04","ARREAR UP TO",null,"2015-10-31",null,"DDO-DETAIL"]
["ALLOWANCES",null,"PERSONAL   DETAIL",null,null,"PLAN /NonPLAN",null,"Non Plan"]
["DA","Y","GPF No",815428,null,"Voted/Charged",null,"Voted"]
["HRA",0.1,"SI No",723626,null,"BUDGET HEAD",null,"2202-02-109-01-00"]
["CCA","N","ID No","RJRA199431000302",null,"TAN NO",null,"JDHR04285D"]
[null,null,"BANK ","SBBJ",null,"DDONO",null,70036]
[null,null,"A/C No",51060322803,null,"OID",null,18273]
["DEDUCATIONS",null,null,null,null,"B.No",null,16]
["GPF","All",null,null,null,"Date",null,"2013-07-01"]
["SI","N",null,null,null,"DEMAND No",null,24]
["HRA","Y",null,null,null,"OBJECT CODE",null,"01"]
["RPMF","Y",null,"In Month Coloum Use Ist of month  as \"dd/mm/yyyy\"↓"]
["CPF","N","        LWP OR HALF PAY EFFECT IF ANY ( Fill Days Of Leave Taken)"]
[null,null,"Month","HPL","LWP",null,"Month","HPL","LWP"]
["TDS",0,"( Effect for Due pay)",null,null,null,"( Effect For Drawn Pay)"]
["SURRENDER",null,null,null,null,null,{"$f":"IF(C31=\"\",\"\",C31)","v":""},{"$f":"IF(D31=\"\",\"\",D31)","v":""},{"$f":"IF(E31=\"\",\"\",E31)","v":""}]
["Month","Days",null,null,null,null,{"$f":"IF(C32=\"\",\"\",C32)","v":""},{"$f":"IF(D32=\"\",\"\",D32)","v":""},{"$f":"IF(E32=\"\",\"\",E32)","v":""}]
["2008-08-01",null,null,null,null,null,"","",""]
["2009-08-01",null,null,null,null,null,"","",""]
["2010-08-01",null,null,null,null,null,"","",""]
["2011-08-01",null,null,null,null,null,"","",""]
["2012-08-01",null,null,null,null,null,"","",""]
["2013-08-01",null,"FILL MANUALY if Drawn is Differ From Order else Leave Blank"]
["2014-08-01",null,"DATE","Drawn\nPay",null,null,";fn fdlh deZpkjh dk okLrfod vkgfjr osru ,oa ,lhih esa osrufu/kkZj.k iwoZ dk osru fHkUu gks rks vkgfjr osru dk fooj.k okLrfod vkgj.k vuq:i Hkjk tkos ;Fkk fdlh deZpkjh dks 2&07&11 ls ,lhih Lohd`r gqbZ ,oa mls vkt rd twu 11 dh nj ls osru fn;k x;k rks ek= fnukad dkye esa 01@07@2011 ,oa osru dkye esa twu 11 dk osru vafdr djuk gS 'ks\"k dkye fjDr jgusa nsa A"]
["2015-04-01",null,null,null,"←           →"]
[]
[]
[]
[]
[]
[]
[]
[]
[]
[null,null,null,null,null,null,null,null,null,null,null,null,null,null,null,null,{"$f":"#REF!","v":{"$error":"#REF!"}},{"$f":"YEAR(H47)","v":1900},{"$f":"LEFT(#REF!,1)","v":{"$error":"#REF!"}},null,{"$f":"RIGHT(T50,1)","v":""}]

{"sheet":"OrderNew","index":2,"n_rows":38,"n_cols":12,"rows_kept":38,"cut":false,"hidden":false,"merged":[[7,9,8,11],[6,5,6,11],[2,0,5,11],[0,0,0,11],[1,0,1,11],[6,1,6,3],[6,0,9,0],[6,4,9,4],[7,2,9,2],[7,5,8,7]]}
[{"$f":"Entry!C3","v":"iz/kkukpk;Z jktdh; iVsy mPp ek?;fed fo|ky;]C;koj"}]
["dk;kZy; & vkns'k"]
[{"$f":"'RC'!G244","v":"           Jheku  mifuns'kd ek/;fed f'k{kk vtesj e.My vtesj ds vkns'kkad &  }kjk Jh egsUnz iky oekZ o0v0 dks fnukad 04&09&2015 ls f}rh; ,';ksjM dSfj;j izkxs'ku¼,lhih½ xszM is  5400 Lohd`r fd, tkus ls mDr vkns'kksa ds funZs'kk/khu budk osru fu/kkZj.k fuEukuqlkj fd;k tkdj vkxkeh osru o`f);ka Lohd`r dh tkrh gS A"}]
[]
[]
[]
[",lhih Lohd`fr frfFk ,oa Lohd`r xzsM is","Lohd`fr frfFk dks",null,null,"vkxkeh osru o`f) dh fnukad","osru o`f) frfFk dkas fLFkfr"]
[null,"osru","o`f) dh tkus okyh jk'kh","fu/kkZfjr osru",null,",lhih iwoZ dk osru",null,null,null,",lhih ckn la'kksf/kr osru"]
[null,"xzsM is",null,"xzsM is"]
[null,"jfuax is cS.M",null,"jfuax is cS.M",null,"PAY"," GP","Total",null,"PAY"," GP","Total"]
[{"$f":"IF('RC'!AF$18=\"\",'RC'!AF27,'RC'!AF18)","v":"2015-09-04"},{"$f":"IF('RC'!AF$18=\"\",'RC'!AG27,'RC'!AG18)","v":18990},{"$f":"IF('RC'!AF$18=\"\",'RC'!AH27,'RC'!AH18)","v":720},{"$f":"IF('RC'!AF$18=\"\",'RC'!AI27,'RC'!AI18)","v":19710},{"$f":"IF('RC'!AF$18=\"\",'RC'!AJ27,'RC'!AJ18)","v":"2016-07-01"},{"$f":"IF(E11=\"\",\"\",IF('RC'!AG$18=\"\",'RC'!AK27,'RC'!AK18))","v":""},{"$f":"IF(F11=\"\",\"\",IF('RC'!AH$18=\"\",'RC'!AL27,'RC'!AL18))","v":""},{"$f":"IF(F11=\"\",\"\",SUM(F11:G11))","v":""},null,{"$f":"IF(E11=\"\",\"\",IF('RC'!AJ$18=\"\",'RC'!AN27,'RC'!AN18))","v":""},{"$f":"IF(J11=\"\",\"\",IF('RC'!AK$18=\"\",'RC'!AO27,'RC'!AO18))","v":""},{"$f":"IF(J11=\"\",\"\",SUM(J11:K11))","v":""}]
[{"$f":"IF('RC'!AF$18=\"\",'RC'!AF28,'RC'!AF19)","v":5400},{"$f":"IF('RC'!AF$18=\"\",'RC'!AG28,'RC'!AG19)","v":4800},{"$f":"IF('RC'!AF$18=\"\",'RC'!AH28,'RC'!AH19)","v":600},{"$f":"IF('RC'!AF$18=\"\",'RC'!AI28,'RC'!AI19)","v":5400},{"$f":"IF('RC'!AF$18=\"\",'RC'!AJ28,'RC'!AJ19)","v":""},{"$f":"IF(E12=\"\",\"\",IF('RC'!AG$18=\"\",'RC'!AK28,'RC'!AK19))","v":""},{"$f":"IF(F12=\"\",\"\",IF('RC'!AH$18=\"\",'RC'!AL28,'RC'!AL19))","v":""},{"$f":"IF(F12=\"\",\"\",SUM(F12:G12))","v":""},null,{"$f":"IF(E12=\"\",\"\",IF('RC'!AJ$18=\"\",'RC'!AN28,'RC'!AN19))","v":""},{"$f":"IF(J12=\"\",\"\",IF('RC'!AK$18=\"\",'RC'!AO28,'RC'!AO19))","v":""},{"$f":"IF(J12=\"\",\"\",SUM(J12:K12))","v":""}]
[{"$f":"IF('RC'!AF$18=\"\",'RC'!AF29,'RC'!AF20)","v":"f}rh;"},{"$f":"IF('RC'!AF$18=\"\",'RC'!AG29,'RC'!AG20)","v":23790},null,{"$f":"IF('RC'!AF$18=\"\",'RC'!AI29,'RC'!AI20)","v":25110},{"$f":"IF('RC'!AF$18=\"\",'RC'!AJ29,'RC'!AJ20)","v":""},{"$f":"IF(E13=\"\",\"\",IF('RC'!AG$18=\"\",'RC'!AK29,'RC'!AK20))","v":""},{"$f":"IF(F13=\"\",\"\",IF('RC'!AH$18=\"\",'RC'!AL29,'RC'!AL20))","v":""},"",null,{"$f":"IF(E13=\"\",\"\",IF('RC'!AJ$18=\"\",'RC'!AN29,'RC'!AN20))","v":""},{"$f":"IF(J13=\"\",\"\",IF('RC'!AK$18=\"\",'RC'!AO29,'RC'!AO20))","v":""},""]
[null,{"$f":"IF('RC'!AF$18=\"\",'RC'!AG30,'RC'!AG21)","v":"9300-34800"},null,{"$f":"IF('RC'!AF$18=\"\",'RC'!AI30,'RC'!AI21)","v":"9300-34800"},{"$f":"IF('RC'!AF$18=\"\",'RC'!AJ30,'RC'!AJ21)","v":""},{"$f":"IF(E14=\"\",\"\",IF('RC'!AG$18=\"\",'RC'!AK30,'RC'!AK21))","v":""},{"$f":"IF(F14=\"\",\"\",IF('RC'!AH$18=\"\",'RC'!AL30,'RC'!AL21))","v":""},"",null,{"$f":"IF(E14=\"\",\"\",IF('RC'!AJ$18=\"\",'RC'!AN30,'RC'!AN21))","v":""},{"$f":"IF(J14=\"\",\"\",IF('RC'!AK$18=\"\",'RC'!AO30,'RC'!AO21))","v":""},""]
[null,{"$f":"IF('RC'!AJ4=\"A\",\"Arrear up to 30-06-2013\",\"\")","v":""},null,null,{"$f":"IF('RC'!AF$18=\"\",'RC'!AJ31,'RC'!AJ22)","v":""},{"$f":"IF(E15=\"\",\"\",IF('RC'!AG$18=\"\",'RC'!AK31,'RC'!AK22))","v":""},{"$f":"IF(F15=\"\",\"\",IF('RC'!AH$18=\"\",'RC'!AL31,'RC'!AL22))","v":""},"",null,{"$f":"IF(E15=\"\",\"\",IF('RC'!AJ$18=\"\",'RC'!AN31,'RC'!AN22))","v":""},{"$f":"IF(J15=\"\",\"\",IF('RC'!AK$18=\"\",'RC'!AO31,'RC'!AO22))","v":""},""]
[null,null,null,null,{"$f":"IF('RC'!AF$18=\"\",'RC'!AJ32,'RC'!AJ23)","v":""},{"$f":"IF(E16=\"\",\"\",IF('RC'!AG$18=\"\",'RC'!AK32,'RC'!AK23))","v":""},{"$f":"IF(F16=\"\",\"\",IF('RC'!AH$18=\"\",'RC'!AL32,'RC'!AL23))","v":""},"",null,{"$f":"IF(E16=\"\",\"\",IF('RC'!AJ$18=\"\",'RC'!AN32,'RC'!AN23))","v":""},{"$f":"IF(J16=\"\",\"\",IF('RC'!AK$18=\"\",'RC'!AO32,'RC'!AO23))","v":""},""]
[{"$f":"IF('RC'!AJ4=\"A\",\"Pay Detail As Per RPS 2008 ivth Amendment\",\"\")","v":""},null,null,null,{"$f":"IF('RC'!AF$18=\"\",'RC'!AJ33,'RC'!AJ24)","v":""},{"$f":"IF(E17=\"\",\"\",IF('RC'!AG$18=\"\",'RC'!AK33,'RC'!AK24))","v":""},{"$f":"IF(F17=\"\",\"\",IF('RC'!AH$18=\"\",'RC'!AL33,'RC'!AL24))","v":""},"",null,{"$f":"IF(E17=\"\",\"\",IF('RC'!AJ$18=\"\",'RC'!AN33,'RC'!AN24))","v":""},{"$f":"IF(J17=\"\",\"\",IF('RC'!AK$18=\"\",'RC'!AO33,'RC'!AO24))","v":""},""]
[{"$f":"IF(A$17=\"\",\"\",'RC'!AF27)","v":""},{"$f":"IF($A$17=\"\",\"\",'RC'!AG27)","v":""},{"$f":"IF($A$17=\"\",\"\",'RC'!AH27)","v":""},{"$f":"IF($A$17=\"\",\"\",'RC'!AI27)","v":""},{"$f":"IF(B$18='RC'!AG$27,'RC'!AJ27,IF(E17>Entry!F$16,\"\",IF(B$11='RC'!AG$27,'RC'!AJ34,'RC'!AJ25)))","v":""},{"$f":"IF(E18=\"\",\"\",IF('RC'!AG$18=\"\",'RC'!AK34,IF('RC'!AG$27=OrderNew!B$18,'RC'!AK27,'RC'!AK25)))","v":""},{"$f":"IF(F18=\"\",\"\",INDEX('RC'!AL$18:AL$38,MATCH(OrderNew!F18,'RC'!AK$18:AK$38,0)))","v":""},"",null,{"$f":"IF(F18=\"\",\"\",INDEX('RC'!AN$18:AN$38,MATCH(OrderNew!F18,'RC'!AK$18:AK$38,0)))","v":""},{"$f":"IF(F18=\"\",\"\",INDEX('RC'!AO$18:AO$38,MATCH(OrderNew!F18,'RC'!AK$18:AK$38,0)))","v":""},""]
[{"$f":"IF(A$17=\"\",\"\",'RC'!AF28)","v":""},{"$f":"IF($A$17=\"\",\"\",'RC'!AG28)","v":""},{"$f":"IF($A$17=\"\",\"\",'RC'!AH28)","v":""},{"$f":"IF($A$17=\"\",\"\",'RC'!AI28)","v":""},{"$f":"IF(B$18='RC'!AG$27,'RC'!AJ28,IF(E18>Entry!F$16,\"\",IF(B$11='RC'!AG$27,'RC'!AJ35,'RC'!AJ26)))","v":""},{"$f":"IF(E19=\"\",\"\",IF('RC'!AG$18=\"\",'RC'!AK35,IF('RC'!AG$27=OrderNew!B$18,'RC'!AK28,'RC'!AK26)))","v":""},{"$f":"IF(F19=\"\",\"\",INDEX('RC'!AL$18:AL$38,MATCH(OrderNew!F19,'RC'!AK$18:AK$38,0)))","v":""},"",null,{"$f":"IF(F19=\"\",\"\",INDEX('RC'!AN$18:AN$38,MATCH(OrderNew!F19,'RC'!AK$18:AK$38,0)))","v":""},{"$f":"IF(F19=\"\",\"\",INDEX('RC'!AO$18:AO$38,MATCH(OrderNew!F19,'RC'!AK$18:AK$38,0)))","v":""},""]
[{"$f":"IF(A$17=\"\",\"\",'RC'!AF29)","v":""},{"$f":"IF(A$17=\"\",\"\",'RC'!AG29)","v":""},null,{"$f":"IF($A$17=\"\",\"\",'RC'!AI29)","v":""},{"$f":"IF(B$18='RC'!AG$27,'RC'!AJ29,IF(E19>Entry!F$16,\"\",IF(B$11='RC'!AG$27,'RC'!AJ36,'RC'!AJ27)))","v":""},{"$f":"IF(E20=\"\",\"\",IF('RC'!AG$18=\"\",'RC'!AK36,IF('RC'!AG$27=OrderNew!B$18,'RC'!AK29,'RC'!AK27)))","v":""},{"$f":"IF(F20=\"\",\"\",INDEX('RC'!AL$18:AL$38,MATCH(OrderNew!F20,'RC'!AK$18:AK$38,0)))","v":""},"",null,{"$f":"IF(F20=\"\",\"\",INDEX('RC'!AN$18:AN$38,MATCH(OrderNew!F20,'RC'!AK$18:AK$38,0)))","v":""},{"$f":"IF(F20=\"\",\"\",INDEX('RC'!AO$18:AO$38,MATCH(OrderNew!F20,'RC'!AK$18:AK$38,0)))","v":""},""]
[null,{"$f":"IF(A$17=\"\",\"\",'RC'!AG30)","v":""},null,{"$f":"IF($A$17=\"\",\"\",'RC'!AI30)","v":""},{"$f":"IF(B$18='RC'!AG$27,'RC'!AJ30,IF(E20>Entry!F$16,\"\",IF(B$11='RC'!AG$27,'RC'!AJ37,'RC'!AJ28)))","v":""},{"$f":"IF(E21=\"\",\"\",IF('RC'!AG$18=\"\",'RC'!AK37,IF('RC'!AG$27=OrderNew!B$18,'RC'!AK30,'RC'!AK28)))","v":""},{"$f":"IF(F21=\"\",\"\",INDEX('RC'!AL$18:AL$38,MATCH(OrderNew!F21,'RC'!AK$18:AK$38,0)))","v":""},"",null,{"$f":"IF(F21=\"\",\"\",INDEX('RC'!AN$18:AN$38,MATCH(OrderNew!F21,'RC'!AK$18:AK$38,0)))","v":""},{"$f":"IF(F21=\"\",\"\",INDEX('RC'!AO$18:AO$38,MATCH(OrderNew!F21,'RC'!AK$18:AK$38,0)))","v":""},""]
[{"$f":"IF(A17=\"\",\"\", \" Above Fix Notional Up To 30-06-2013\")","v":""},null,null,null,{"$f":"IF(B$18='RC'!AG$27,'RC'!AJ31,IF(E21>Entry!F$16,\"\",IF(B$11='RC'!AG$27,'RC'!AJ38,'RC'!AJ29)))","v":""},{"$f":"IF(E22=\"\",\"\",IF('RC'!AG$18=\"\",'RC'!AK38,IF('RC'!AG$27=OrderNew!B$18,'RC'!AK31,'RC'!AK29)))","v":""},{"$f":"IF(F22=\"\",\"\",INDEX('RC'!AL$18:AL$38,MATCH(OrderNew!F22,'RC'!AK$18:AK$38,0)))","v":""},"",null,{"$f":"IF(F22=\"\",\"\",INDEX('RC'!AN$18:AN$38,MATCH(OrderNew!F22,'RC'!AK$18:AK$38,0)))","v":""},{"$f":"IF(F22=\"\",\"\",INDEX('RC'!AO$18:AO$38,MATCH(OrderNew!F22,'RC'!AK$18:AK$38,0)))","v":""},""]
[null,null,null,null,{"$f":"IF(B$18='RC'!AG$27,'RC'!AJ32,IF(E22>Entry!F$16,\"\",'RC'!AJ30))","v":""},{"$f":"IF(E23=\"\",\"\",IF('RC'!AG$18=\"\",'RC'!AK39,IF('RC'!AG$27=OrderNew!B$18,'RC'!AK32,'RC'!AK30)))","v":""},{"$f":"IF(F23=\"\",\"\",INDEX('RC'!AL$18:AL$38,MATCH(OrderNew!F23,'RC'!AK$18:AK$38,0)))","v":""},"",null,{"$f":"IF(F23=\"\",\"\",INDEX('RC'!AN$18:AN$38,MATCH(OrderNew!F23,'RC'!AK$18:AK$38,0)))","v":""},{"$f":"IF(F23=\"\",\"\",INDEX('RC'!AO$18:AO$38,MATCH(OrderNew!F23,'RC'!AK$18:AK$38,0)))","v":""},""]
[null,null,null,null,{"$f":"IF(B$18='RC'!AG$27,'RC'!AJ33,IF(E23>Entry!F$16,\"\",'RC'!AJ31))","v":""},{"$f":"IF(E24=\"\",\"\",IF('RC'!AG$18=\"\",'RC'!AK40,IF('RC'!AG$27=OrderNew!B$18,'RC'!AK33,'RC'!AK31)))","v":""},{"$f":"IF(F24=\"\",\"\",INDEX('RC'!AL$18:AL$38,MATCH(OrderNew!F24,'RC'!AK$18:AK$38,0)))","v":""},"",null,{"$f":"IF(F24=\"\",\"\",INDEX('RC'!AN$18:AN$38,MATCH(OrderNew!F24,'RC'!AK$18:AK$38,0)))","v":""},{"$f":"IF(F24=\"\",\"\",INDEX('RC'!AO$18:AO$38,MATCH(OrderNew!F24,'RC'!AK$18:AK$38,0)))","v":""},""]
[null,null,null,null,{"$f":"IF(B$18='RC'!AG$27,'RC'!AJ34,IF(E24>Entry!F$16,\"\",'RC'!AJ32))","v":""},{"$f":"IF(E25=\"\",\"\",IF('RC'!AG$18=\"\",'RC'!AK41,IF('RC'!AG$27=OrderNew!B$18,'RC'!AK34,'RC'!AK32)))","v":""},{"$f":"IF(F25=\"\",\"\",INDEX('RC'!AL$18:AL$38,MATCH(OrderNew!F25,'RC'!AK$18:AK$38,0)))","v":""},"",null,{"$f":"IF(F25=\"\",\"\",INDEX('RC'!AN$18:AN$38,MATCH(OrderNew!F25,'RC'!AK$18:AK$38,0)))","v":""},{"$f":"IF(F25=\"\",\"\",INDEX('RC'!AO$18:AO$38,MATCH(OrderNew!F25,'RC'!AK$18:AK$38,0)))","v":""},""]
[null,null,null,null,{"$f":"IF(B$18='RC'!AG$27,'RC'!AJ35,IF(E25>Entry!F$16,\"\",'RC'!AJ33))","v":""},{"$f":"IF(E26=\"\",\"\",IF('RC'!AG$18=\"\",'RC'!AK42,IF('RC'!AG$27=OrderNew!B$18,'RC'!AK35,'RC'!AK33)))","v":""},{"$f":"IF(F26=\"\",\"\",INDEX('RC'!AL$18:AL$38,MATCH(OrderNew!F26,'RC'!AK$18:AK$38,0)))","v":""},"",null,{"$f":"IF(F26=\"\",\"\",INDEX('RC'!AN$18:AN$38,MATCH(OrderNew!F26,'RC'!AK$18:AK$38,0)))","v":""},{"$f":"IF(F26=\"\",\"\",INDEX('RC'!AO$18:AO$38,MATCH(OrderNew!F26,'RC'!AK$18:AK$38,0)))","v":""},""]
[null,null,null,null,{"$f":"IF(B$18='RC'!AG$27,'RC'!AJ36,IF(E26>Entry!F$16,\"\",'RC'!AJ34))","v":""},{"$f":"IF(E27=\"\",\"\",IF('RC'!AG$18=\"\",'RC'!AK43,IF('RC'!AG$27=OrderNew!B$18,'RC'!AK36,'RC'!AK34)))","v":""},{"$f":"IF(F27=\"\",\"\",INDEX('RC'!AL$18:AL$38,MATCH(OrderNew!F27,'RC'!AK$18:AK$38,0)))","v":""},"",null,{"$f":"IF(F27=\"\",\"\",INDEX('RC'!AN$18:AN$38,MATCH(OrderNew!F27,'RC'!AK$18:AK$38,0)))","v":""},{"$f":"IF(F27=\"\",\"\",INDEX('RC'!AO$18:AO$38,MATCH(OrderNew!F27,'RC'!AK$18:AK$38,0)))","v":""},""]
[null,null,null,null,{"$f":"IF(B$18='RC'!AG$27,'RC'!AJ37,IF(E27>Entry!F$16,\"\",'RC'!AJ35))","v":""},{"$f":"IF(E28=\"\",\"\",IF('RC'!AG$18=\"\",'RC'!AK44,IF('RC'!AG$27=OrderNew!B$18,'RC'!AK37,'RC'!AK35)))","v":""},{"$f":"IF(F28=\"\",\"\",INDEX('RC'!AL$18:AL$38,MATCH(OrderNew!F28,'RC'!AK$18:AK$38,0)))","v":""},"",null,{"$f":"IF(F28=\"\",\"\",INDEX('RC'!AN$18:AN$38,MATCH(OrderNew!F28,'RC'!AK$18:AK$38,0)))","v":""},{"$f":"IF(F28=\"\",\"\",INDEX('RC'!AO$18:AO$38,MATCH(OrderNew!F28,'RC'!AK$18:AK$38,0)))","v":""},""]
[null,null,null,null,{"$f":"IF(B$18='RC'!AG$27,'RC'!AJ38,IF(E28>Entry!F$16,\"\",'RC'!AJ36))","v":""},{"$f":"IF(E29=\"\",\"\",IF('RC'!AG$18=\"\",'RC'!AK45,IF('RC'!AG$27=OrderNew!B$18,'RC'!AK38,'RC'!AK36)))","v":""},{"$f":"IF(F29=\"\",\"\",INDEX('RC'!AL$18:AL$38,MATCH(OrderNew!F29,'RC'!AK$18:AK$38,0)))","v":""},"",null,{"$f":"IF(F29=\"\",\"\",INDEX('RC'!AN$18:AN$38,MATCH(OrderNew!F29,'RC'!AK$18:AK$38,0)))","v":""},{"$f":"IF(F29=\"\",\"\",INDEX('RC'!AO$18:AO$38,MATCH(OrderNew!F29,'RC'!AK$18:AK$38,0)))","v":""},""]
[]
[null,null,null,null,null,null,null,null,null,"gLrk0dk;kZy;k/;{k"]
["dzekad %& ",null,null,null,"fnukad&",{"$f":"TODAY()","v":"2015-11-25"}]
["izfrfyfi lwpukFkZ ,ao vko';d dk;Zokgh gsrq&"]
[{"$f":"\"1 &\"& Entry!C4","v":"1 &mifuns'kd ek/;fed f'k{kk vtesj e.My vtesj"}]
[{"$f":"\"2 &lacaf/kr deZpkjh@O;0 iaftdk deZpkjh\" &\"&\"&Entry!C6","v":"2 &lacaf/kr deZpkjh@O;0 iaftdk deZpkjh&Jh egsUnz iky oekZ"}]
["3 &ys[kk 'kk[kk"]
[]
[null,null,null,null,null,null,null,null,null,"gLrk0dk;kZy;k/;{k"]

{"sheet":"ARREAR","index":3,"n_rows":162,"n_cols":40,"rows_kept":162,"cut":false,"hidden":false,"merged":[[1,0,1,12],[1,15,1,18],[1,24,1,25],[9,1,9,5],[9,6,9,10],[9,11,9,15]]}
[null,null,null,null,null,null,{"$f":"\"dk;kZy;  \"&Entry!C3","v":"dk;kZy;  iz/kkukpk;Z jktdh; iVsy mPp ek?;fed fo|ky;]C;koj"},null,null,null,null,null,null,null,null,null,null,null,null,null,null,null,null,null,"SURRENNDER"]
[{"$f":"\",lhih¼\"&'RC'!E34&\"½ Lohd`fr Lo:i osru vUrj fooj.k \"&Entry!C6&\"&\"&Entry!C7","v":",lhih¼f}rh;½ Lohd`fr Lo:i osru vUrj fooj.k Jh egsUnz iky oekZ&o0v0"},null,null,null,null,null,null,null,null,null,null,null,null,"vo/kh",null,{"$f":"Entry!C16","v":"2015-09-04"},null,null,null,null,null,"to",null,null,{"$f":"Entry!F16","v":"2015-10-31"}]
[null,"SURRENDER DETAIL",null,null,null,"SURRENDER DETAIL",null,null,null,"SURRENDER DETAIL"]
[null,"Month","Days"]
[null,{"$f":"'RC'!C19","v":"2008-08-01"},{"$f":"IF(B5=\"\",\"\",'RC'!D19)","v":""},null,null,{"$f":"'RC'!C23","v":"2012-08-01"},{"$f":"IF(F5=\"\",\"\",'RC'!D23)","v":""},null,null,{"$f":"'RC'!C27","v":""},{"$f":"IF(J5=\"\",\"\",'RC'!D27)","v":""}]
[null,{"$f":"'RC'!C20","v":"2009-08-01"},{"$f":"IF(B6=\"\",\"\",'RC'!D20)","v":""},null,null,{"$f":"'RC'!C24","v":"2013-08-01"},{"$f":"IF(F6=\"\",\"\",'RC'!D24)","v":""},null,null,{"$f":"'RC'!C28","v":""},{"$f":"IF(J6=\"\",\"\",'RC'!D28)","v":""}]
[null,{"$f":"'RC'!C21","v":"2010-08-01"},{"$f":"IF(B7=\"\",\"\",'RC'!D21)","v":""},null,null,{"$f":"'RC'!C25","v":"2014-08-01"},{"$f":"IF(F7=\"\",\"\",'RC'!D25)","v":""},null,null,{"$f":"'RC'!C29","v":""},{"$f":"IF(J7=\"\",\"\",'RC'!D29)","v":""}]
[null,{"$f":"'RC'!C22","v":"2011-08-01"},{"$f":"IF(B8=\"\",\"\",'RC'!D22)","v":""},null,null,{"$f":"'RC'!C26","v":"2015-04-01"},{"$f":"IF(F8=\"\",\"\",'RC'!D26)","v":0},null,null,{"$f":"'RC'!C30","v":"00:00:00"},{"$f":"IF(J8=\"\",\"\",'RC'!D30)","v":0}]
[]
["Month","Amount Due",null,null,null,null,"Amount Drawn",null,null,null,null,"Amount to Be Drawn",null,null,null,null,"Due \n","Due \n","Diff","Due","Ded.","Diff","Due","Ded.","Diff",null,"Total","NET ","Amt of","Encash"]
[null,"Basic Pay","DA","CCA","HRA","Total","Basic Pay","DA","CCA","HRA","Total","Basic Pay","DA","CCA","HRA","Total",{"$f":"'RC'!DG44","v":"GPF"},{"$f":"'RC'!DG44","v":"GPF"},{"$f":"'RC'!DG44","v":"GPF"},"RPMF","RPMF","RPMF","SIP","SIP","SIP","I TAX","Ded.","PAYMENT","Bill","Date"]
[{"$f":"DATE(YEAR(P2),MONTH(P2),DAY(1))","v":"2015-09-01"},{"$f":"IF(ISERROR(INDEX('RC'!BJ$48:BJ$179,MATCH(A12,'RC'!BI$48:BI$179,0))),0,(INDEX('RC'!BJ$48:BJ$179,MATCH(A12,'RC'!BI$48:BI$179,0))))","v":22599},{"$f":"IF(B12=\"\",0,IF(B12=0,0,INDEX('RC'!BK$48:BK$179,MATCH(A12,'RC'!BI$48:BI$179,0))))","v":26893},{"$f":"IF(B12=\"\",0,IF(B12=0,0,INDEX('RC'!BL$48:BL$179,MATCH(A12,'RC'!BI$48:BI$179,0))))","v":0},{"$f":"IF(B12=\"\",0,IF(B12=0,0,INDEX('RC'!BM$48:BM$179,MATCH(A12,'RC'!BI$48:BI$179,0))))","v":2260},{"$f":"SUM(B12:E12)","v":51752},{"$f":"IF(ISERROR(INDEX('RC'!BP$48:BP$179,MATCH(A12,'RC'!BI$48:BI$179,0))),0,(INDEX('RC'!BP$48:BP$179,MATCH(A12,'RC'!BI$48:BI$179,0))))","v":21411},{"$f":"IF(B12=\"\",0,IF(B12=0,0,INDEX('RC'!BQ$48:BQ$179,MATCH(A12,'RC'!BI$48:BI$179,0))))","v":25479},{"$f":"IF(B12=\"\",0,IF(B12=0,0,INDEX('RC'!BR$48:BR$179,MATCH(A12,'RC'!BI$48:BI$179,0))))","v":0},{"$f":"IF(B12=\"\",0,IF(B12=0,0,INDEX('RC'!BS$48:BS$179,MATCH(A12,'RC'!BI$48:BI$179,0))))","v":2141},{"$f":"SUM(G12:J12)","v":49031},{"$f":"B12-G12","v":1188},{"$f":"C12-H12","v":1414},{"$f":"D12-I12","v":0},{"$f":"E12-J12","v":119},{"$f":"SUM(L12:O12)","v":2721},{"$f":"IF(ISERROR(INDEX('RC'!DG$48:DG$179,MATCH(A12,'RC'!BI$48:BI$179,0))),0,(INDEX('RC'!DG$48:DG$179,MATCH(A12,'RC'!BI$48:BI$179,0))))","v":3300},{"$f":"IF(ISERROR(INDEX('RC'!DH$48:DH$179,MATCH(A12,'RC'!BI$48:BI$179,0))),0,(INDEX('RC'!DH$48:DH$179,MATCH(A12,'RC'!BI$48:BI$179,0))))","v":2100},{"$f":"Q12-R12","v":1200},{"$f":"IF(Entry!B$28=\"Y\",0,IF(ISERROR(INDEX('RC'!CV$48:CV$179,MATCH(A12,'RC'!BI$48:BI$179,0))),0,(INDEX('RC'!CV$48:CV$179,MATCH(A12,'RC'!BI$48:BI$179,0)))))","v":565},{"$f":"IF(Entry!B$28=\"Y\",0,IF(ISERROR(INDEX('RC'!CW$48:CW$179,MATCH(A12,'RC'!BI$48:BI$179,0))),0,(INDEX('RC'!CW$48:CW$179,MATCH(A12,'RC'!BI$48:BI$179,0)))))","v":565},{"$f":"T12-U12","v":0},{"$f":"IF(ISERROR(INDEX('RC'!CY$48:CY$179,MATCH(A12,'RC'!BI$48:BI$179,0))),0,(INDEX('RC'!CY$48:CY$179,MATCH(A12,'RC'!BI$48:BI$179,0))))","v":1300},{"$f":"IF(ISERROR(INDEX('RC'!CZ$48:CZ$179,MATCH(A12,'RC'!BI$48:BI$179,0))),0,(INDEX('RC'!CZ$48:CZ$179,MATCH(A12,'RC'!BI$48:BI$179,0))))","v":1300},{"$f":"W12-X12","v":0},{"$f":"IF(A12>='RC'!BM$29,0,IF(ISERROR(INDEX('RC'!CF$48:CF$179,MATCH(A12,'RC'!BI$48:BI$179,0))),0,(INDEX('RC'!CF$48:CF$179,MATCH(A12,'RC'!BI$48:BI$179,0)))))","v":0},{"$f":"S12+V12+Y12+Z12","v":1200},{"$f":"P12-AA12","v":1521},null,null,null,null,null,null,null,{"$f":"IF(B12<1,0,1)","v":1},{"$f":"AJ12","v":1},{"$f":"IF(AK12=0,\"\",AK12)","v":1},1]
[{"$f":"EDATE(A12,1)","v":"2015-10-01"},{"$f":"IF(ISERROR(INDEX('RC'!BJ$48:BJ$179,MATCH(A13,'RC'!BI$48:BI$179,0))),0,(INDEX('RC'!BJ$48:BJ$179,MATCH(A13,'RC'!BI$48:BI$179,0))))","v":25110},{"$f":"IF(B13=\"\",0,IF(B13=0,0,INDEX('RC'!BK$48:BK$179,MATCH(A13,'RC'!BI$48:BI$179,0))))","v":29881},{"$f":"IF(B13=\"\",0,IF(B13=0,0,INDEX('RC'!BL$48:BL$179,MATCH(A13,'RC'!BI$48:BI$179,0))))","v":0},{"$f":"IF(B13=\"\",0,IF(B13=0,0,INDEX('RC'!BM$48:BM$179,MATCH(A13,'RC'!BI$48:BI$179,0))))","v":2511},{"$f":"SUM(B13:E13)","v":57502},{"$f":"IF(ISERROR(INDEX('RC'!BP$48:BP$179,MATCH(A13,'RC'!BI$48:BI$179,0))),0,(INDEX('RC'!BP$48:BP$179,MATCH(A13,'RC'!BI$48:BI$179,0))))","v":23790},{"$f":"IF(B13=\"\",0,IF(B13=0,0,INDEX('RC'!BQ$48:BQ$179,MATCH(A13,'RC'!BI$48:BI$179,0))))","v":28310},{"$f":"IF(B13=\"\",0,IF(B13=0,0,INDEX('RC'!BR$48:BR$179,MATCH(A13,'RC'!BI$48:BI$179,0))))","v":0},{"$f":"IF(B13=\"\",0,IF(B13=0,0,INDEX('RC'!BS$48:BS$179,MATCH(A13,'RC'!BI$48:BI$179,0))))","v":2379},{"$f":"SUM(G13:J13)","v":54479},{"$f":"B13-G13","v":1320},{"$f":"C13-H13","v":1571},{"$f":"D13-I13","v":0},{"$f":"E13-J13","v":132},{"$f":"SUM(L13:O13)","v":3023},{"$f":"IF(ISERROR(INDEX('RC'!DG$48:DG$179,MATCH(A13,'RC'!BI$48:BI$179,0))),0,(INDEX('RC'!DG$48:DG$179,MATCH(A13,'RC'!BI$48:BI$179,0))))","v":3300},{"$f":"IF(ISERROR(INDEX('RC'!DH$48:DH$179,MATCH(A13,'RC'!BI$48:BI$179,0))),0,(INDEX('RC'!DH$48:DH$179,MATCH(A13,'RC'!BI$48:BI$179,0))))","v":2100},{"$f":"Q13-R13","v":1200},{"$f":"IF(Entry!B$28=\"Y\",0,IF(ISERROR(INDEX('RC'!CV$48:CV$179,MATCH(A13,'RC'!BI$48:BI$179,0))),0,(INDEX('RC'!CV$48:CV$179,MATCH(A13,'RC'!BI$48:BI$179,0)))))","v":595},{"$f":"IF(Entry!B$28=\"Y\",0,IF(ISERROR(INDEX('RC'!CW$48:CW$179,MATCH(A13,'RC'!BI$48:BI$179,0))),0,(INDEX('RC'!CW$48:CW$179,MATCH(A13,'RC'!BI$48:BI$179,0)))))","v":595},{"$f":"T13-U13","v":0},{"$f":"IF(ISERROR(INDEX('RC'!CY$48:CY$179,MATCH(A13,'RC'!BI$48:BI$179,0))),0,(INDEX('RC'!CY$48:CY$179,MATCH(A13,'RC'!BI$48:BI$179,0))))","v":1300},{"$f":"IF(ISERROR(INDEX('RC'!CZ$48:CZ$179,MATCH(A13,'RC'!BI$48:BI$179,0))),0,(INDEX('RC'!CZ$48:CZ$179,MATCH(A13,'RC'!BI$48:BI$179,0))))","v":1300},{"$f":"W13-X13","v":0},{"$f":"IF(A13>='RC'!BM$29,0,IF(ISERROR(INDEX('RC'!CF$48:CF$179,MATCH(A13,'RC'!BI$48:BI$179,0))),0,(INDEX('RC'!CF$48:CF$179,MATCH(A13,'RC'!BI$48:BI$179,0)))))","v":0},{"$f":"S13+V13+Y13+Z13","v":1200},{"$f":"P13-AA13","v":1823},null,null,null,null,null,null,null,1,{"$f":"AJ13","v":1},1,1]
[{"$f":"EDATE(A13,1)","v":"2015-11-01"},{"$f":"IF(ISERROR(INDEX('RC'!BJ$48:BJ$179,MATCH(A14,'RC'!BI$48:BI$179,0))),0,(INDEX('RC'!BJ$48:BJ$179,MATCH(A14,'RC'!BI$48:BI$179,0))))","v":0},{"$f":"IF(B14=\"\",0,IF(B14=0,0,INDEX('RC'!BK$48:BK$179,MATCH(A14,'RC'!BI$48:BI$179,0))))","v":0},{"$f":"IF(B14=\"\",0,IF(B14=0,0,INDEX('RC'!BL$48:BL$179,MATCH(A14,'RC'!BI$48:BI$179,0))))","v":0},{"$f":"IF(B14=\"\",0,IF(B14=0,0,INDEX('RC'!BM$48:BM$179,MATCH(A14,'RC'!BI$48:BI$179,0))))","v":0},0,{"$f":"IF(ISERROR(INDEX('RC'!BP$48:BP$179,MATCH(A14,'RC'!BI$48:BI$179,0))),0,(INDEX('RC'!BP$48:BP$179,MATCH(A14,'RC'!BI$48:BI$179,0))))","v":0},{"$f":"IF(B14=\"\",0,IF(B14=0,0,INDEX('RC'!BQ$48:BQ$179,MATCH(A14,'RC'!BI$48:BI$179,0))))","v":0},{"$f":"IF(B14=\"\",0,IF(B14=0,0,INDEX('RC'!BR$48:BR$179,MATCH(A14,'RC'!BI$48:BI$179,0))))","v":0},{"$f":"IF(B14=\"\",0,IF(B14=0,0,INDEX('RC'!BS$48:BS$179,MATCH(A14,'RC'!BI$48:BI$179,0))))","v":0},0,0,0,0,0,0,{"$f":"IF(ISERROR(INDEX('RC'!DG$48:DG$179,MATCH(A14,'RC'!BI$48:BI$179,0))),0,(INDEX('RC'!DG$48:DG$179,MATCH(A14,'RC'!BI$48:BI$179,0))))","v":0},{"$f":"IF(ISERROR(INDEX('RC'!DH$48:DH$179,MATCH(A14,'RC'!BI$48:BI$179,0))),0,(INDEX('RC'!DH$48:DH$179,MATCH(A14,'RC'!BI$48:BI$179,0))))","v":0},0,{"$f":"IF(Entry!B$28=\"Y\",0,IF(ISERROR(INDEX('RC'!CV$48:CV$179,MATCH(A14,'RC'!BI$48:BI$179,0))),0,(INDEX('RC'!CV$48:CV$179,MATCH(A14,'RC'!BI$48:BI$179,0)))))","v":0},{"$f":"IF(Entry!B$28=\"Y\",0,IF(ISERROR(INDEX('RC'!CW$48:CW$179,MATCH(A14,'RC'!BI$48:BI$179,0))),0,(INDEX('RC'!CW$48:CW$179,MATCH(A14,'RC'!BI$48:BI$179,0)))))","v":0},0,{"$f":"IF(ISERROR(INDEX('RC'!CY$48:CY$179,MATCH(A14,'RC'!BI$48:BI$179,0))),0,(INDEX('RC'!CY$48:CY$179,MATCH(A14,'RC'!BI$48:BI$179,0))))","v":0},{"$f":"IF(ISERROR(INDEX('RC'!CZ$48:CZ$179,MATCH(A14,'RC'!BI$48:BI$179,0))),0,(INDEX('RC'!CZ$48:CZ$179,MATCH(A14,'RC'!BI$48:BI$179,0))))","v":0},0,{"$f":"IF(A14>='RC'!BM$29,0,IF(ISERROR(INDEX('RC'!CF$48:CF$179,MATCH(A14,'RC'!BI$48:BI$179,0))),0,(INDEX('RC'!CF$48:CF$179,MATCH(A14,'RC'!BI$48:BI$179,0)))))","v":0},0,0,null,null,null,null,null,null,null,0,0,"",""]
["2015-12-01",{"$f":"IF(ISERROR(INDEX('RC'!BJ$48:BJ$179,MATCH(A15,'RC'!BI$48:BI$179,0))),0,(INDEX('RC'!BJ$48:BJ$179,MATCH(A15,'RC'!BI$48:BI$179,0))))","v":0},{"$f":"IF(B15=\"\",0,IF(B15=0,0,INDEX('RC'!BK$48:BK$179,MATCH(A15,'RC'!BI$48:BI$179,0))))","v":0},{"$f":"IF(B15=\"\",0,IF(B15=0,0,INDEX('RC'!BL$48:BL$179,MATCH(A15,'RC'!BI$48:BI$179,0))))","v":0},{"$f":"IF(B15=\"\",0,IF(B15=0,0,INDEX('RC'!BM$48:BM$179,MATCH(A15,'RC'!BI$48:BI$179,0))))","v":0},0,{"$f":"IF(ISERROR(INDEX('RC'!BP$48:BP$179,MATCH(A15,'RC'!BI$48:BI$179,0))),0,(INDEX('RC'!BP$48:BP$179,MATCH(A15,'RC'!BI$48:BI$179,0))))","v":0},{"$f":"IF(B15=\"\",0,IF(B15=0,0,INDEX('RC'!BQ$48:BQ$179,MATCH(A15,'RC'!BI$48:BI$179,0))))","v":0},{"$f":"IF(B15=\"\",0,IF(B15=0,0,INDEX('RC'!BR$48:BR$179,MATCH(A15,'RC'!BI$48:BI$179,0))))","v":0},{"$f":"IF(B15=\"\",0,IF(B15=0,0,INDEX('RC'!BS$48:BS$179,MATCH(A15,'RC'!BI$48:BI$179,0))))","v":0},0,0,0,0,0,0,{"$f":"IF(ISERROR(INDEX('RC'!DG$48:DG$179,MATCH(A15,'RC'!BI$48:BI$179,0))),0,(INDEX('RC'!DG$48:DG$179,MATCH(A15,'RC'!BI$48:BI$179,0))))","v":0},{"$f":"IF(ISERROR(INDEX('RC'!DH$48:DH$179,MATCH(A15,'RC'!BI$48:BI$179,0))),0,(INDEX('RC'!DH$48:DH$179,MATCH(A15,'RC'!BI$48:BI$179,0))))","v":0},0,{"$f":"IF(Entry!B$28=\"Y\",0,IF(ISERROR(INDEX('RC'!CV$48:CV$179,MATCH(A15,'RC'!BI$48:BI$179,0))),0,(INDEX('RC'!CV$48:CV$179,MATCH(A15,'RC'!BI$48:BI$179,0)))))","v":0},{"$f":"IF(Entry!B$28=\"Y\",0,IF(ISERROR(INDEX('RC'!CW$48:CW$179,MATCH(A15,'RC'!BI$48:BI$179,0))),0,(INDEX('RC'!CW$48:CW$179,MATCH(A15,'RC'!BI$48:BI$179,0)))))","v":0},0,{"$f":"IF(ISERROR(INDEX('RC'!CY$48:CY$179,MATCH(A15,'RC'!BI$48:BI$179,0))),0,(INDEX('RC'!CY$48:CY$179,MATCH(A15,'RC'!BI$48:BI$179,0))))","v":0},{"$f":"IF(ISERROR(INDEX('RC'!CZ$48:CZ$179,MATCH(A15,'RC'!BI$48:BI$179,0))),0,(INDEX('RC'!CZ$48:CZ$179,MATCH(A15,'RC'!BI$48:BI$179,0))))","v":0},0,{"$f":"IF(A15>='RC'!BM$29,0,IF(ISERROR(INDEX('RC'!CF$48:CF$179,MATCH(A15,'RC'!BI$48:BI$179,0))),0,(INDEX('RC'!CF$48:CF$179,MATCH(A15,'RC'!BI$48:BI$179,0)))))","v":0},0,0,null,null,null,null,null,null,null,0,0,"",""]
["2016-01-01",{"$f":"IF(ISERROR(INDEX('RC'!BJ$48:BJ$179,MATCH(A16,'RC'!BI$48:BI$179,0))),0,(INDEX('RC'!BJ$48:BJ$179,MATCH(A16,'RC'!BI$48:BI$179,0))))","v":0},{"$f":"IF(B16=\"\",0,IF(B16=0,0,INDEX('RC'!BK$48:BK$179,MATCH(A16,'RC'!BI$48:BI$179,0))))","v":0},{"$f":"IF(B16=\"\",0,IF(B16=0,0,INDEX('RC'!BL$48:BL$179,MATCH(A16,'RC'!BI$48:BI$179,0))))","v":0},{"$f":"IF(B16=\"\",0,IF(B16=0,0,INDEX('RC'!BM$48:BM$179,MATCH(A16,'RC'!BI$48:BI$179,0))))","v":0},0,{"$f":"IF(ISERROR(INDEX('RC'!BP$48:BP$179,MATCH(A16,'RC'!BI$48:BI$179,0))),0,(INDEX('RC'!BP$48:BP$179,MATCH(A16,'RC'!BI$48:BI$179,0))))","v":0},{"$f":"IF(B16=\"\",0,IF(B16=0,0,INDEX('RC'!BQ$48:BQ$179,MATCH(A16,'RC'!BI$48:BI$179,0))))","v":0},{"$f":"IF(B16=\"\",0,IF(B16=0,0,INDEX('RC'!BR$48:BR$179,MATCH(A16,'RC'!BI$48:BI$179,0))))","v":0},{"$f":"IF(B16=\"\",0,IF(B16=0,0,INDEX('RC'!BS$48:BS$179,MATCH(A16,'RC'!BI$48:BI$179,0))))","v":0},0,0,0,0,0,0,{"$f":"IF(ISERROR(INDEX('RC'!DG$48:DG$179,MATCH(A16,'RC'!BI$48:BI$179,0))),0,(INDEX('RC'!DG$48:DG$179,MATCH(A16,'RC'!BI$48:BI$179,0))))","v":0},{"$f":"IF(ISERROR(INDEX('RC'!DH$48:DH$179,MATCH(A16,'RC'!BI$48:BI$179,0))),0,(INDEX('RC'!DH$48:DH$179,MATCH(A16,'RC'!BI$48:BI$179,0))))","v":0},0,{"$f":"IF(Entry!B$28=\"Y\",0,IF(ISERROR(INDEX('RC'!CV$48:CV$179,MATCH(A16,'RC'!BI$48:BI$179,0))),0,(INDEX('RC'!CV$48:CV$179,MATCH(A16,'RC'!BI$48:BI$179,0)))))","v":0},{"$f":"IF(Entry!B$28=\"Y\",0,IF(ISERROR(INDEX('RC'!CW$48:CW$179,MATCH(A16,'RC'!BI$48:BI$179,0))),0,(INDEX('RC'!CW$48:CW$179,MATCH(A16,'RC'!BI$48:BI$179,0)))))","v":0},0,{"$f":"IF(ISERROR(INDEX('RC'!CY$48:CY$179,MATCH(A16,'RC'!BI$48:BI$179,0))),0,(INDEX('RC'!CY$48:CY$179,MATCH(A16,'RC'!BI$48:BI$179,0))))","v":0},{"$f":"IF(ISERROR(INDEX('RC'!CZ$48:CZ$179,MATCH(A16,'RC'!BI$48:BI$179,0))),0,(INDEX('RC'!CZ$48:CZ$179,MATCH(A16,'RC'!BI$48:BI$179,0))))","v":0},0,{"$f":"IF(A16>='RC'!BM$29,0,IF(ISERROR(INDEX('RC'!CF$48:CF$179,MATCH(A16,'RC'!BI$48:BI$179,0))),0,(INDEX('RC'!CF$48:CF$179,MATCH(A16,'RC'!BI$48:BI$179,0)))))","v":0},0,0,null,null,null,null,null,null,null,0,0,"",""]
["2016-02-01",{"$f":"IF(ISERROR(INDEX('RC'!BJ$48:BJ$179,MATCH(A17,'RC'!BI$48:BI$179,0))),0,(INDEX('RC'!BJ$48:BJ$179,MATCH(A17,'RC'!BI$48:BI$179,0))))","v":0},{"$f":"IF(B17=\"\",0,IF(B17=0,0,INDEX('RC'!BK$48:BK$179,MATCH(A17,'RC'!BI$48:BI$179,0))))","v":0},{"$f":"IF(B17=\"\",0,IF(B17=0,0,INDEX('RC'!BL$48:BL$179,MATCH(A17,'RC'!BI$48:BI$179,0))))","v":0},{"$f":"IF(B17=\"\",0,IF(B17=0,0,INDEX('RC'!BM$48:BM$179,MATCH(A17,'RC'!BI$48:BI$179,0))))","v":0},0,{"$f":"IF(ISERROR(INDEX('RC'!BP$48:BP$179,MATCH(A17,'RC'!BI$48:BI$179,0))),0,(INDEX('RC'!BP$48:BP$179,MATCH(A17,'RC'!BI$48:BI$179,0))))","v":0},{"$f":"IF(B17=\"\",0,IF(B17=0,0,INDEX('RC'!BQ$48:BQ$179,MATCH(A17,'RC'!BI$48:BI$179,0))))","v":0},{"$f":"IF(B17=\"\",0,IF(B17=0,0,INDEX('RC'!BR$48:BR$179,MATCH(A17,'RC'!BI$48:BI$179,0))))","v":0},{"$f":"IF(B17=\"\",0,IF(B17=0,0,INDEX('RC'!BS$48:BS$179,MATCH(A17,'RC'!BI$48:BI$179,0))))","v":0},0,0,0,0,0,0,{"$f":"IF(ISERROR(INDEX('RC'!DG$48:DG$179,MATCH(A17,'RC'!BI$48:BI$179,0))),0,(INDEX('RC'!DG$48:DG$179,MATCH(A17,'RC'!BI$48:BI$179,0))))","v":0},{"$f":"IF(ISERROR(INDEX('RC'!DH$48:DH$179,MATCH(A17,'RC'!BI$48:BI$179,0))),0,(INDEX('RC'!DH$48:DH$179,MATCH(A17,'RC'!BI$48:BI$179,0))))","v":0},0,{"$f":"IF(Entry!B$28=\"Y\",0,IF(ISERROR(INDEX('RC'!CV$48:CV$179,MATCH(A17,'RC'!BI$48:BI$179,0))),0,(INDEX('RC'!CV$48:CV$179,MATCH(A17,'RC'!BI$48:BI$179,0)))))","v":0},{"$f":"IF(Entry!B$28=\"Y\",0,IF(ISERROR(INDEX('RC'!CW$48:CW$179,MATCH(A17,'RC'!BI$48:BI$179,0))),0,(INDEX('RC'!CW$48:CW$179,MATCH(A17,'RC'!BI$48:BI$179,0)))))","v":0},0,{"$f":"IF(ISERROR(INDEX('RC'!CY$48:CY$179,MATCH(A17,'RC'!BI$48:BI$179,0))),0,(INDEX('RC'!CY$48:CY$179,MATCH(A17,'RC'!BI$48:BI$179,0))))","v":0},{"$f":"IF(ISERROR(INDEX('RC'!CZ$48:CZ$179,MATCH(A17,'RC'!BI$48:BI$179,0))),0,(INDEX('RC'!CZ$48:CZ$179,MATCH(A17,'RC'!BI$48:BI$179,0))))","v":0},0,{"$f":"IF(A17>='RC'!BM$29,0,IF(ISERROR(INDEX('RC'!CF$48:CF$179,MATCH(A17,'RC'!BI$48:BI$179,0))),0,(INDEX('RC'!CF$48:CF$179,MATCH(A17,'RC'!BI$48:BI$179,0)))))","v":0},0,0,null,null,null,null,null,null,null,0,0,"",""]
["2016-03-01",{"$f":"IF(ISERROR(INDEX('RC'!BJ$48:BJ$179,MATCH(A18,'RC'!BI$48:BI$179,0))),0,(INDEX('RC'!BJ$48:BJ$179,MATCH(A18,'RC'!BI$48:BI$179,0))))","v":0},{"$f":"IF(B18=\"\",0,IF(B18=0,0,INDEX('RC'!BK$48:BK$179,MATCH(A18,'RC'!BI$48:BI$179,0))))","v":0},{"$f":"IF(B18=\"\",0,IF(B18=0,0,INDEX('RC'!BL$48:BL$179,MATCH(A18,'RC'!BI$48:BI$179,0))))","v":0},{"$f":"IF(B18=\"\",0,IF(B18=0,0,INDEX('RC'!BM$48:BM$179,MATCH(A18,'RC'!BI$48:BI$179,0))))","v":0},0,{"$f":"IF(ISERROR(INDEX('RC'!BP$48:BP$179,MATCH(A18,'RC'!BI$48:BI$179,0))),0,(INDEX('RC'!BP$48:BP$179,MATCH(A18,'RC'!BI$48:BI$179,0))))","v":0},{"$f":"IF(B18=\"\",0,IF(B18=0,0,INDEX('RC'!BQ$48:BQ$179,MATCH(A18,'RC'!BI$48:BI$179,0))))","v":0},{"$f":"IF(B18=\"\",0,IF(B18=0,0,INDEX('RC'!BR$48:BR$179,MATCH(A18,'RC'!BI$48:BI$179,0))))","v":0},{"$f":"IF(B18=\"\",0,IF(B18=0,0,INDEX('RC'!BS$48:BS$179,MATCH(A18,'RC'!BI$48:BI$179,0))))","v":0},0,0,0,0,0,0,{"$f":"IF(ISERROR(INDEX('RC'!DG$48:DG$179,MATCH(A18,'RC'!BI$48:BI$179,0))),0,(INDEX('RC'!DG$48:DG$179,MATCH(A18,'RC'!BI$48:BI$179,0))))","v":0},{"$f":"IF(ISERROR(INDEX('RC'!DH$48:DH$179,MATCH(A18,'RC'!BI$48:BI$179,0))),0,(INDEX('RC'!DH$48:DH$179,MATCH(A18,'RC'!BI$48:BI$179,0))))","v":0},0,{"$f":"IF(Entry!B$28=\"Y\",0,IF(ISERROR(INDEX('RC'!CV$48:CV$179,MATCH(A18,'RC'!BI$48:BI$179,0))),0,(INDEX('RC'!CV$48:CV$179,MATCH(A18,'RC'!BI$48:BI$179,0)))))","v":0},{"$f":"IF(Entry!B$28=\"Y\",0,IF(ISERROR(INDEX('RC'!CW$48:CW$179,MATCH(A18,'RC'!BI$48:BI$179,0))),0,(INDEX('RC'!CW$48:CW$179,MATCH(A18,'RC'!BI$48:BI$179,0)))))","v":0},0,{"$f":"IF(ISERROR(INDEX('RC'!CY$48:CY$179,MATCH(A18,'RC'!BI$48:BI$179,0))),0,(INDEX('RC'!CY$48:CY$179,MATCH(A18,'RC'!BI$48:BI$179,0))))","v":0},{"$f":"IF(ISERROR(INDEX('RC'!CZ$48:CZ$179,MATCH(A18,'RC'!BI$48:BI$179,0))),0,(INDEX('RC'!CZ$48:CZ$179,MATCH(A18,'RC'!BI$48:BI$179,0))))","v":0},0,{"$f":"IF(A18>='RC'!BM$29,0,IF(ISERROR(INDEX('RC'!CF$48:CF$179,MATCH(A18,'RC'!BI$48:BI$179,0))),0,(INDEX('RC'!CF$48:CF$179,MATCH(A18,'RC'!BI$48:BI$179,0)))))","v":0},0,0,null,null,null,null,null,null,null,0,0,"",""]
["2016-04-01",{"$f":"IF(ISERROR(INDEX('RC'!BJ$48:BJ$179,MATCH(A19,'RC'!BI$48:BI$179,0))),0,(INDEX('RC'!BJ$48:BJ$179,MATCH(A19,'RC'!BI$48:BI$179,0))))","v":0},{"$f":"IF(B19=\"\",0,IF(B19=0,0,INDEX('RC'!BK$48:BK$179,MATCH(A19,'RC'!BI$48:BI$179,0))))","v":0},{"$f":"IF(B19=\"\",0,IF(B19=0,0,INDEX('RC'!BL$48:BL$179,MATCH(A19,'RC'!BI$48:BI$179,0))))","v":0},{"$f":"IF(B19=\"\",0,IF(B19=0,0,INDEX('RC'!BM$48:BM$179,MATCH(A19,'RC'!BI$48:BI$179,0))))","v":0},0,{"$f":"IF(ISERROR(INDEX('RC'!BP$48:BP$179,MATCH(A19,'RC'!BI$48:BI$179,0))),0,(INDEX('RC'!BP$48:BP$179,MATCH(A19,'RC'!BI$48:BI$179,0))))","v":0},{"$f":"IF(B19=\"\",0,IF(B19=0,0,INDEX('RC'!BQ$48:BQ$179,MATCH(A19,'RC'!BI$48:BI$179,0))))","v":0},{"$f":"IF(B19=\"\",0,IF(B19=0,0,INDEX('RC'!BR$48:BR$179,MATCH(A19,'RC'!BI$48:BI$179,0))))","v":0},{"$f":"IF(B19=\"\",0,IF(B19=0,0,INDEX('RC'!BS$48:BS$179,MATCH(A19,'RC'!BI$48:BI$179,0))))","v":0},0,0,0,0,0,0,{"$f":"IF(ISERROR(INDEX('RC'!DG$48:DG$179,MATCH(A19,'RC'!BI$48:BI$179,0))),0,(INDEX('RC'!DG$48:DG$179,MATCH(A19,'RC'!BI$48:BI$179,0))))","v":0},{"$f":"IF(ISERROR(INDEX('RC'!DH$48:DH$179,MATCH(A19,'RC'!BI$48:BI$179,0))),0,(INDEX('RC'!DH$48:DH$179,MATCH(A19,'RC'!BI$48:BI$179,0))))","v":0},0,{"$f":"IF(Entry!B$28=\"Y\",0,IF(ISERROR(INDEX('RC'!CV$48:CV$179,MATCH(A19,'RC'!BI$48:BI$179,0))),0,(INDEX('RC'!CV$48:CV$179,MATCH(A19,'RC'!BI$48:BI$179,0)))))","v":0},{"$f":"IF(Entry!B$28=\"Y\",0,IF(ISERROR(INDEX('RC'!CW$48:CW$179,MATCH(A19,'RC'!BI$48:BI$179,0))),0,(INDEX('RC'!CW$48:CW$179,MATCH(A19,'RC'!BI$48:BI$179,0)))))","v":0},0,{"$f":"IF(ISERROR(INDEX('RC'!CY$48:CY$179,MATCH(A19,'RC'!BI$48:BI$179,0))),0,(INDEX('RC'!CY$48:CY$179,MATCH(A19,'RC'!BI$48:BI$179,0))))","v":0},{"$f":"IF(ISERROR(INDEX('RC'!CZ$48:CZ$179,MATCH(A19,'RC'!BI$48:BI$179,0))),0,(INDEX('RC'!CZ$48:CZ$179,MATCH(A19,'RC'!BI$48:BI$179,0))))","v":0},0,{"$f":"IF(A19>='RC'!BM$29,0,IF(ISERROR(INDEX('RC'!CF$48:CF$179,MATCH(A19,'RC'!BI$48:BI$179,0))),0,(INDEX('RC'!CF$48:CF$179,MATCH(A19,'RC'!BI$48:BI$179,0)))))","v":0},0,0,null,null,null,null,null,null,null,0,0,"",""]
["2016-05-01",{"$f":"IF(ISERROR(INDEX('RC'!BJ$48:BJ$179,MATCH(A20,'RC'!BI$48:BI$179,0))),0,(INDEX('RC'!BJ$48:BJ$179,MATCH(A20,'RC'!BI$48:BI$179,0))))","v":0},{"$f":"IF(B20=\"\",0,IF(B20=0,0,INDEX('RC'!BK$48:BK$179,MATCH(A20,'RC'!BI$48:BI$179,0))))","v":0},{"$f":"IF(B20=\"\",0,IF(B20=0,0,INDEX('RC'!BL$48:BL$179,MATCH(A20,'RC'!BI$48:BI$179,0))))","v":0},{"$f":"IF(B20=\"\",0,IF(B20=0,0,INDEX('RC'!BM$48:BM$179,MATCH(A20,'RC'!BI$48:BI$179,0))))","v":0},0,{"$f":"IF(ISERROR(INDEX('RC'!BP$48:BP$179,MATCH(A20,'RC'!BI$48:BI$179,0))),0,(INDEX('RC'!BP$48:BP$179,MATCH(A20,'RC'!BI$48:BI$179,0))))","v":0},{"$f":"IF(B20=\"\",0,IF(B20=0,0,INDEX('RC'!BQ$48:BQ$179,MATCH(A20,'RC'!BI$48:BI$179,0))))","v":0},{"$f":"IF(B20=\"\",0,IF(B20=0,0,INDEX('RC'!BR$48:BR$179,MATCH(A20,'RC'!BI$48:BI$179,0))))","v":0},{"$f":"IF(B20=\"\",0,IF(B20=0,0,INDEX('RC'!BS$48:BS$179,MATCH(A20,'RC'!BI$48:BI$179,0))))","v":0},0,0,0,0,0,0,{"$f":"IF(ISERROR(INDEX('RC'!DG$48:DG$179,MATCH(A20,'RC'!BI$48:BI$179,0))),0,(INDEX('RC'!DG$48:DG$179,MATCH(A20,'RC'!BI$48:BI$179,0))))","v":0},{"$f":"IF(ISERROR(INDEX('RC'!DH$48:DH$179,MATCH(A20,'RC'!BI$48:BI$179,0))),0,(INDEX('RC'!DH$48:DH$179,MATCH(A20,'RC'!BI$48:BI$179,0))))","v":0},0,{"$f":"IF(Entry!B$28=\"Y\",0,IF(ISERROR(INDEX('RC'!CV$48:CV$179,MATCH(A20,'RC'!BI$48:BI$179,0))),0,(INDEX('RC'!CV$48:CV$179,MATCH(A20,'RC'!BI$48:BI$179,0)))))","v":0},{"$f":"IF(Entry!B$28=\"Y\",0,IF(ISERROR(INDEX('RC'!CW$48:CW$179,MATCH(A20,'RC'!BI$48:BI$179,0))),0,(INDEX('RC'!CW$48:CW$179,MATCH(A20,'RC'!BI$48:BI$179,0)))))","v":0},0,{"$f":"IF(ISERROR(INDEX('RC'!CY$48:CY$179,MATCH(A20,'RC'!BI$48:BI$179,0))),0,(INDEX('RC'!CY$48:CY$179,MATCH(A20,'RC'!BI$48:BI$179,0))))","v":0},{"$f":"IF(ISERROR(INDEX('RC'!CZ$48:CZ$179,MATCH(A20,'RC'!BI$48:BI$179,0))),0,(INDEX('RC'!CZ$48:CZ$179,MATCH(A20,'RC'!BI$48:BI$179,0))))","v":0},0,{"$f":"IF(A20>='RC'!BM$29,0,IF(ISERROR(INDEX('RC'!CF$48:CF$179,MATCH(A20,'RC'!BI$48:BI$179,0))),0,(INDEX('RC'!CF$48:CF$179,MATCH(A20,'RC'!BI$48:BI$179,0)))))","v":0},0,0,null,null,null,null,null,null,null,0,0,"",""]
["2016-06-01",{"$f":"IF(ISERROR(INDEX('RC'!BJ$48:BJ$179,MATCH(A21,'RC'!BI$48:BI$179,0))),0,(INDEX('RC'!BJ$48:BJ$179,MATCH(A21,'RC'!BI$48:BI$179,0))))","v":0},{"$f":"IF(B21=\"\",0,IF(B21=0,0,INDEX('RC'!BK$48:BK$179,MATCH(A21,'RC'!BI$48:BI$179,0))))","v":0},{"$f":"IF(B21=\"\",0,IF(B21=0,0,INDEX('RC'!BL$48:BL$179,MATCH(A21,'RC'!BI$48:BI$179,0))))","v":0},{"$f":"IF(B21=\"\",0,IF(B21=0,0,INDEX('RC'!BM$48:BM$179,MATCH(A21,'RC'!BI$48:BI$179,0))))","v":0},0,{"$f":"IF(ISERROR(INDEX('RC'!BP$48:BP$179,MATCH(A21,'RC'!BI$48:BI$179,0))),0,(INDEX('RC'!BP$48:BP$179,MATCH(A21,'RC'!BI$48:BI$179,0))))","v":0},{"$f":"IF(B21=\"\",0,IF(B21=0,0,INDEX('RC'!BQ$48:BQ$179,MATCH(A21,'RC'!BI$48:BI$179,0))))","v":0},{"$f":"IF(B21=\"\",0,IF(B21=0,0,INDEX('RC'!BR$48:BR$179,MATCH(A21,'RC'!BI$48:BI$179,0))))","v":0},{"$f":"IF(B21=\"\",0,IF(B21=0,0,INDEX('RC'!BS$48:BS$179,MATCH(A21,'RC'!BI$48:BI$179,0))))","v":0},0,0,0,0,0,0,{"$f":"IF(ISERROR(INDEX('RC'!DG$48:DG$179,MATCH(A21,'RC'!BI$48:BI$179,0))),0,(INDEX('RC'!DG$48:DG$179,MATCH(A21,'RC'!BI$48:BI$179,0))))","v":0},{"$f":"IF(ISERROR(INDEX('RC'!DH$48:DH$179,MATCH(A21,'RC'!BI$48:BI$179,0))),0,(INDEX('RC'!DH$48:DH$179,MATCH(A21,'RC'!BI$48:BI$179,0))))","v":0},0,{"$f":"IF(Entry!B$28=\"Y\",0,IF(ISERROR(INDEX('RC'!CV$48:CV$179,MATCH(A21,'RC'!BI$48:BI$179,0))),0,(INDEX('RC'!CV$48:CV$179,MATCH(A21,'RC'!BI$48:BI$179,0)))))","v":0},{"$f":"IF(Entry!B$28=\"Y\",0,IF(ISERROR(INDEX('RC'!CW$48:CW$179,MATCH(A21,'RC'!BI$48:BI$179,0))),0,(INDEX('RC'!CW$48:CW$179,MATCH(A21,'RC'!BI$48:BI$179,0)))))","v":0},0,{"$f":"IF(ISERROR(INDEX('RC'!CY$48:CY$179,MATCH(A21,'RC'!BI$48:BI$179,0))),0,(INDEX('RC'!CY$48:CY$179,MATCH(A21,'RC'!BI$48:BI$179,0))))","v":0},{"$f":"IF(ISERROR(INDEX('RC'!CZ$48:CZ$179,MATCH(A21,'RC'!BI$48:BI$179,0))),0,(INDEX('RC'!CZ$48:CZ$179,MATCH(A21,'RC'!BI$48:BI$179,0))))","v":0},0,{"$f":"IF(A21>='RC'!BM$29,0,IF(ISERROR(INDEX('RC'!CF$48:CF$179,MATCH(A21,'RC'!BI$48:BI$179,0))),0,(INDEX('RC'!CF$48:CF$179,MATCH(A21,'RC'!BI$48:BI$179,0)))))","v":0},0,0,null,null,null,null,null,null,null,0,0,"",""]
["2016-07-01",{"$f":"IF(ISERROR(INDEX('RC'!BJ$48:BJ$179,MATCH(A22,'RC'!BI$48:BI$179,0))),0,(INDEX('RC'!BJ$48:BJ$179,MATCH(A22,'RC'!BI$48:BI$179,0))))","v":0},{"$f":"IF(B22=\"\",0,IF(B22=0,0,INDEX('RC'!BK$48:BK$179,MATCH(A22,'RC'!BI$48:BI$179,0))))","v":0},{"$f":"IF(B22=\"\",0,IF(B22=0,0,INDEX('RC'!BL$48:BL$179,MATCH(A22,'RC'!BI$48:BI$179,0))))","v":0},{"$f":"IF(B22=\"\",0,IF(B22=0,0,INDEX('RC'!BM$48:BM$179,MATCH(A22,'RC'!BI$48:BI$179,0))))","v":0},0,{"$f":"IF(ISERROR(INDEX('RC'!BP$48:BP$179,MATCH(A22,'RC'!BI$48:BI$179,0))),0,(INDEX('RC'!BP$48:BP$179,MATCH(A22,'RC'!BI$48:BI$179,0))))","v":0},{"$f":"IF(B22=\"\",0,IF(B22=0,0,INDEX('RC'!BQ$48:BQ$179,MATCH(A22,'RC'!BI$48:BI$179,0))))","v":0},{"$f":"IF(B22=\"\",0,IF(B22=0,0,INDEX('RC'!BR$48:BR$179,MATCH(A22,'RC'!BI$48:BI$179,0))))","v":0},{"$f":"IF(B22=\"\",0,IF(B22=0,0,INDEX('RC'!BS$48:BS$179,MATCH(A22,'RC'!BI$48:BI$179,0))))","v":0},0,0,0,0,0,0,{"$f":"IF(ISERROR(INDEX('RC'!DG$48:DG$179,MATCH(A22,'RC'!BI$48:BI$179,0))),0,(INDEX('RC'!DG$48:DG$179,MATCH(A22,'RC'!BI$48:BI$179,0))))","v":0},{"$f":"IF(ISERROR(INDEX('RC'!DH$48:DH$179,MATCH(A22,'RC'!BI$48:BI$179,0))),0,(INDEX('RC'!DH$48:DH$179,MATCH(A22,'RC'!BI$48:BI$179,0))))","v":0},0,{"$f":"IF(Entry!B$28=\"Y\",0,IF(ISERROR(INDEX('RC'!CV$48:CV$179,MATCH(A22,'RC'!BI$48:BI$179,0))),0,(INDEX('RC'!CV$48:CV$179,MATCH(A22,'RC'!BI$48:BI$179,0)))))","v":0},{"$f":"IF(Entry!B$28=\"Y\",0,IF(ISERROR(INDEX('RC'!CW$48:CW$179,MATCH(A22,'RC'!BI$48:BI$179,0))),0,(INDEX('RC'!CW$48:CW$179,MATCH(A22,'RC'!BI$48:BI$179,0)))))","v":0},0,{"$f":"IF(ISERROR(INDEX('RC'!CY$48:CY$179,MATCH(A22,'RC'!BI$48:BI$179,0))),0,(INDEX('RC'!CY$48:CY$179,MATCH(A22,'RC'!BI$48:BI$179,0))))","v":0},{"$f":"IF(ISERROR(INDEX('RC'!CZ$48:CZ$179,MATCH(A22,'RC'!BI$48:BI$179,0))),0,(INDEX('RC'!CZ$48:CZ$179,MATCH(A22,'RC'!BI$48:BI$179,0))))","v":0},0,{"$f":"IF(A22>='RC'!BM$29,0,IF(ISERROR(INDEX('RC'!CF$48:CF$179,MATCH(A22,'RC'!BI$48:BI$179,0))),0,(INDEX('RC'!CF$48:CF$179,MATCH(A22,'RC'!BI$48:BI$179,0)))))","v":0},0,0,null,null,null,null,null,null,null,0,0,"",""]
["2016-08-01",{"$f":"IF(ISERROR(INDEX('RC'!BJ$48:BJ$179,MATCH(A23,'RC'!BI$48:BI$179,0))),0,(INDEX('RC'!BJ$48:BJ$179,MATCH(A23,'RC'!BI$48:BI$179,0))))","v":0},{"$f":"IF(B23=\"\",0,IF(B23=0,0,INDEX('RC'!BK$48:BK$179,MATCH(A23,'RC'!BI$48:BI$179,0))))","v":0},{"$f":"IF(B23=\"\",0,IF(B23=0,0,INDEX('RC'!BL$48:BL$179,MATCH(A23,'RC'!BI$48:BI$179,0))))","v":0},{"$f":"IF(B23=\"\",0,IF(B23=0,0,INDEX('RC'!BM$48:BM$179,MATCH(A23,'RC'!BI$48:BI$179,0))))","v":0},0,{"$f":"IF(ISERROR(INDEX('RC'!BP$48:BP$179,MATCH(A23,'RC'!BI$48:BI$179,0))),0,(INDEX('RC'!BP$48:BP$179,MATCH(A23,'RC'!BI$48:BI$179,0))))","v":0},{"$f":"IF(B23=\"\",0,IF(B23=0,0,INDEX('RC'!BQ$48:BQ$179,MATCH(A23,'RC'!BI$48:BI$179,0))))","v":0},{"$f":"IF(B23=\"\",0,IF(B23=0,0,INDEX('RC'!BR$48:BR$179,MATCH(A23,'RC'!BI$48:BI$179,0))))","v":0},{"$f":"IF(B23=\"\",0,IF(B23=0,0,INDEX('RC'!BS$48:BS$179,MATCH(A23,'RC'!BI$48:BI$179,0))))","v":0},0,0,0,0,0,0,{"$f":"IF(ISERROR(INDEX('RC'!DG$48:DG$179,MATCH(A23,'RC'!BI$48:BI$179,0))),0,(INDEX('RC'!DG$48:DG$179,MATCH(A23,'RC'!BI$48:BI$179,0))))","v":0},{"$f":"IF(ISERROR(INDEX('RC'!DH$48:DH$179,MATCH(A23,'RC'!BI$48:BI$179,0))),0,(INDEX('RC'!DH$48:DH$179,MATCH(A23,'RC'!BI$48:BI$179,0))))","v":0},0,{"$f":"IF(Entry!B$28=\"Y\",0,IF(ISERROR(INDEX('RC'!CV$48:CV$179,MATCH(A23,'RC'!BI$48:BI$179,0))),0,(INDEX('RC'!CV$48:CV$179,MATCH(A23,'RC'!BI$48:BI$179,0)))))","v":0},{"$f":"IF(Entry!B$28=\"Y\",0,IF(ISERROR(INDEX('RC'!CW$48:CW$179,MATCH(A23,'RC'!BI$48:BI$179,0))),0,(INDEX('RC'!CW$48:CW$179,MATCH(A23,'RC'!BI$48:BI$179,0)))))","v":0},0,{"$f":"IF(ISERROR(INDEX('RC'!CY$48:CY$179,MATCH(A23,'RC'!BI$48:BI$179,0))),0,(INDEX('RC'!CY$48:CY$179,MATCH(A23,'RC'!BI$48:BI$179,0))))","v":0},{"$f":"IF(ISERROR(INDEX('RC'!CZ$48:CZ$179,MATCH(A23,'RC'!BI$48:BI$179,0))),0,(INDEX('RC'!CZ$48:CZ$179,MATCH(A23,'RC'!BI$48:BI$179,0))))","v":0},0,{"$f":"IF(A23>='RC'!BM$29,0,IF(ISERROR(INDEX('RC'!CF$48:CF$179,MATCH(A23,'RC'!BI$48:BI$179,0))),0,(INDEX('RC'!CF$48:CF$179,MATCH(A23,'RC'!BI$48:BI$179,0)))))","v":0},0,0,null,null,null,null,null,null,null,0,0,"",""]
["2016-09-01",{"$f":"IF(ISERROR(INDEX('RC'!BJ$48:BJ$179,MATCH(A24,'RC'!BI$48:BI$179,0))),0,(INDEX('RC'!BJ$48:BJ$179,MATCH(A24,'RC'!BI$48:BI$179,0))))","v":0},{"$f":"IF(B24=\"\",0,IF(B24=0,0,INDEX('RC'!BK$48:BK$179,MATCH(A24,'RC'!BI$48:BI$179,0))))","v":0},{"$f":"IF(B24=\"\",0,IF(B24=0,0,INDEX('RC'!BL$48:BL$179,MATCH(A24,'RC'!BI$48:BI$179,0))))","v":0},{"$f":"IF(B24=\"\",0,IF(B24=0,0,INDEX('RC'!BM$48:BM$179,MATCH(A24,'RC'!BI$48:BI$179,0))))","v":0},0,{"$f":"IF(ISERROR(INDEX('RC'!BP$48:BP$179,MATCH(A24,'RC'!BI$48:BI$179,0))),0,(INDEX('RC'!BP$48:BP$179,MATCH(A24,'RC'!BI$48:BI$179,0))))","v":0},{"$f":"IF(B24=\"\",0,IF(B24=0,0,INDEX('RC'!BQ$48:BQ$179,MATCH(A24,'RC'!BI$48:BI$179,0))))","v":0},{"$f":"IF(B24=\"\",0,IF(B24=0,0,INDEX('RC'!BR$48:BR$179,MATCH(A24,'RC'!BI$48:BI$179,0))))","v":0},{"$f":"IF(B24=\"\",0,IF(B24=0,0,INDEX('RC'!BS$48:BS$179,MATCH(A24,'RC'!BI$48:BI$179,0))))","v":0},0,0,0,0,0,0,{"$f":"IF(ISERROR(INDEX('RC'!DG$48:DG$179,MATCH(A24,'RC'!BI$48:BI$179,0))),0,(INDEX('RC'!DG$48:DG$179,MATCH(A24,'RC'!BI$48:BI$179,0))))","v":0},{"$f":"IF(ISERROR(INDEX('RC'!DH$48:DH$179,MATCH(A24,'RC'!BI$48:BI$179,0))),0,(INDEX('RC'!DH$48:DH$179,MATCH(A24,'RC'!BI$48:BI$179,0))))","v":0},0,{"$f":"IF(Entry!B$28=\"Y\",0,IF(ISERROR(INDEX('RC'!CV$48:CV$179,MATCH(A24,'RC'!BI$48:BI$179,0))),0,(INDEX('RC'!CV$48:CV$179,MATCH(A24,'RC'!BI$48:BI$179,0)))))","v":0},{"$f":"IF(Entry!B$28=\"Y\",0,IF(ISERROR(INDEX('RC'!CW$48:CW$179,MATCH(A24,'RC'!BI$48:BI$179,0))),0,(INDEX('RC'!CW$48:CW$179,MATCH(A24,'RC'!BI$48:BI$179,0)))))","v":0},0,{"$f":"IF(ISERROR(INDEX('RC'!CY$48:CY$179,MATCH(A24,'RC'!BI$48:BI$179,0))),0,(INDEX('RC'!CY$48:CY$179,MATCH(A24,'RC'!BI$48:BI$179,0))))","v":0},{"$f":"IF(ISERROR(INDEX('RC'!CZ$48:CZ$179,MATCH(A24,'RC'!BI$48:BI$179,0))),0,(INDEX('RC'!CZ$48:CZ$179,MATCH(A24,'RC'!BI$48:BI$179,0))))","v":0},0,{"$f":"IF(A24>='RC'!BM$29,0,IF(ISERROR(INDEX('RC'!CF$48:CF$179,MATCH(A24,'RC'!BI$48:BI$179,0))),0,(INDEX('RC'!CF$48:CF$179,MATCH(A24,'RC'!BI$48:BI$179,0)))))","v":0},0,0,null,null,null,null,null,null,null,{"$f":"IF(B24<1,0,1)","v":0},0,"",""]
["2016-10-01",{"$f":"IF(ISERROR(INDEX('RC'!BJ$48:BJ$179,MATCH(A25,'RC'!BI$48:BI$179,0))),0,(INDEX('RC'!BJ$48:BJ$179,MATCH(A25,'RC'!BI$48:BI$179,0))))","v":0},{"$f":"IF(B25=\"\",0,IF(B25=0,0,INDEX('RC'!BK$48:BK$179,MATCH(A25,'RC'!BI$48:BI$179,0))))","v":0},{"$f":"IF(B25=\"\",0,IF(B25=0,0,INDEX('RC'!BL$48:BL$179,MATCH(A25,'RC'!BI$48:BI$179,0))))","v":0},{"$f":"IF(B25=\"\",0,IF(B25=0,0,INDEX('RC'!BM$48:BM$179,MATCH(A25,'RC'!BI$48:BI$179,0))))","v":0},0,{"$f":"IF(ISERROR(INDEX('RC'!BP$48:BP$179,MATCH(A25,'RC'!BI$48:BI$179,0))),0,(INDEX('RC'!BP$48:BP$179,MATCH(A25,'RC'!BI$48:BI$179,0))))","v":0},{"$f":"IF(B25=\"\",0,IF(B25=0,0,INDEX('RC'!BQ$48:BQ$179,MATCH(A25,'RC'!BI$48:BI$179,0))))","v":0},{"$f":"IF(B25=\"\",0,IF(B25=0,0,INDEX('RC'!BR$48:BR$179,MATCH(A25,'RC'!BI$48:BI$179,0))))","v":0},{"$f":"IF(B25=\"\",0,IF(B25=0,0,INDEX('RC'!BS$48:BS$179,MATCH(A25,'RC'!BI$48:BI$179,0))))","v":0},0,0,0,0,0,0,{"$f":"IF(ISERROR(INDEX('RC'!DG$48:DG$179,MATCH(A25,'RC'!BI$48:BI$179,0))),0,(INDEX('RC'!DG$48:DG$179,MATCH(A25,'RC'!BI$48:BI$179,0))))","v":0},{"$f":"IF(ISERROR(INDEX('RC'!DH$48:DH$179,MATCH(A25,'RC'!BI$48:BI$179,0))),0,(INDEX('RC'!DH$48:DH$179,MATCH(A25,'RC'!BI$48:BI$179,0))))","v":0},0,{"$f":"IF(Entry!B$28=\"Y\",0,IF(ISERROR(INDEX('RC'!CV$48:CV$179,MATCH(A25,'RC'!BI$48:BI$179,0))),0,(INDEX('RC'!CV$48:CV$179,MATCH(A25,'RC'!BI$48:BI$179,0)))))","v":0},{"$f":"IF(Entry!B$28=\"Y\",0,IF(ISERROR(INDEX('RC'!CW$48:CW$179,MATCH(A25,'RC'!BI$48:BI$179,0))),0,(INDEX('RC'!CW$48:CW$179,MATCH(A25,'RC'!BI$48:BI$179,0)))))","v":0},0,{"$f":"IF(ISERROR(INDEX('RC'!CY$48:CY$179,MATCH(A25,'RC'!BI$48:BI$179,0))),0,(INDEX('RC'!CY$48:CY$179,MATCH(A25,'RC'!BI$48:BI$179,0))))","v":0},{"$f":"IF(ISERROR(INDEX('RC'!CZ$48:CZ$179,MATCH(A25,'RC'!BI$48:BI$179,0))),0,(INDEX('RC'!CZ$48:CZ$179,MATCH(A25,'RC'!BI$48:BI$179,0))))","v":0},0,{"$f":"IF(A25>='RC'!BM$29,0,IF(ISERROR(INDEX('RC'!CF$48:CF$179,MATCH(A25,'RC'!BI$48:BI$179,0))),0,(INDEX('RC'!CF$48:CF$179,MATCH(A25,'RC'!BI$48:BI$179,0)))))","v":0},0,0,null,null,null,null,null,null,null,{"$f":"IF(B25<1,0,1)","v":0},0,"",""]
["2016-11-01",{"$f":"IF(ISERROR(INDEX('RC'!BJ$48:BJ$179,MATCH(A26,'RC'!BI$48:BI$179,0))),0,(INDEX('RC'!BJ$48:BJ$179,MATCH(A26,'RC'!BI$48:BI$179,0))))","v":0},{"$f":"IF(B26=\"\",0,IF(B26=0,0,INDEX('RC'!BK$48:BK$179,MATCH(A26,'RC'!BI$48:BI$179,0))))","v":0},{"$f":"IF(B26=\"\",0,IF(B26=0,0,INDEX('RC'!BL$48:BL$179,MATCH(A26,'RC'!BI$48:BI$179,0))))","v":0},{"$f":"IF(B26=\"\",0,IF(B26=0,0,INDEX('RC'!BM$48:BM$179,MATCH(A26,'RC'!BI$48:BI$179,0))))","v":0},0,{"$f":"IF(ISERROR(INDEX('RC'!BP$48:BP$179,MATCH(A26,'RC'!BI$48:BI$179,0))),0,(INDEX('RC'!BP$48:BP$179,MATCH(A26,'RC'!BI$48:BI$179,0))))","v":0},{"$f":"IF(B26=\"\",0,IF(B26=0,0,INDEX('RC'!BQ$48:BQ$179,MATCH(A26,'RC'!BI$48:BI$179,0))))","v":0},{"$f":"IF(B26=\"\",0,IF(B26=0,0,INDEX('RC'!BR$48:BR$179,MATCH(A26,'RC'!BI$48:BI$179,0))))","v":0},{"$f":"IF(B26=\"\",0,IF(B26=0,0,INDEX('RC'!BS$48:BS$179,MATCH(A26,'RC'!BI$48:BI$179,0))))","v":0},0,0,0,0,0,0,{"$f":"IF(ISERROR(INDEX('RC'!DG$48:DG$179,MATCH(A26,'RC'!BI$48:BI$179,0))),0,(INDEX('RC'!DG$48:DG$179,MATCH(A26,'RC'!BI$48:BI$179,0))))","v":0},{"$f":"IF(ISERROR(INDEX('RC'!DH$48:DH$179,MATCH(A26,'RC'!BI$48:BI$179,0))),0,(INDEX('RC'!DH$48:DH$179,MATCH(A26,'RC'!BI$48:BI$179,0))))","v":0},0,{"$f":"IF(Entry!B$28=\"Y\",0,IF(ISERROR(INDEX('RC'!CV$48:CV$179,MATCH(A26,'RC'!BI$48:BI$179,0))),0,(INDEX('RC'!CV$48:CV$179,MATCH(A26,'RC'!BI$48:BI$179,0)))))","v":0},{"$f":"IF(Entry!B$28=\"Y\",0,IF(ISERROR(INDEX('RC'!CW$48:CW$179,MATCH(A26,'RC'!BI$48:BI$179,0))),0,(INDEX('RC'!CW$48:CW$179,MATCH(A26,'RC'!BI$48:BI$179,0)))))","v":0},0,{"$f":"IF(ISERROR(INDEX('RC'!CY$48:CY$179,MATCH(A26,'RC'!BI$48:BI$179,0))),0,(INDEX('RC'!CY$48:CY$179,MATCH(A26,'RC'!BI$48:BI$179,0))))","v":0},{"$f":"IF(ISERROR(INDEX('RC'!CZ$48:CZ$179,MATCH(A26,'RC'!BI$48:BI$179,0))),0,(INDEX('RC'!CZ$48:CZ$179,MATCH(A26,'RC'!BI$48:BI$179,0))))","v":0},0,{"$f":"IF(A26>='RC'!BM$29,0,IF(ISERROR(INDEX('RC'!CF$48:CF$179,MATCH(A26,'RC'!BI$48:BI$179,0))),0,(INDEX('RC'!CF$48:CF$179,MATCH(A26,'RC'!BI$48:BI$179,0)))))","v":0},0,0,null,null,null,null,null,null,null,0,0,"",""]
["2016-12-01",{"$f":"IF(ISERROR(INDEX('RC'!BJ$48:BJ$179,MATCH(A27,'RC'!BI$48:BI$179,0))),0,(INDEX('RC'!BJ$48:BJ$179,MATCH(A27,'RC'!BI$48:BI$179,0))))","v":0},{"$f":"IF(B27=\"\",0,IF(B27=0,0,INDEX('RC'!BK$48:BK$179,MATCH(A27,'RC'!BI$48:BI$179,0))))","v":0},{"$f":"IF(B27=\"\",0,IF(B27=0,0,INDEX('RC'!BL$48:BL$179,MATCH(A27,'RC'!BI$48:BI$179,0))))","v":0},{"$f":"IF(B27=\"\",0,IF(B27=0,0,INDEX('RC'!BM$48:BM$179,MATCH(A27,'RC'!BI$48:BI$179,0))))","v":0},0,{"$f":"IF(ISERROR(INDEX('RC'!BP$48:BP$179,MATCH(A27,'RC'!BI$48:BI$179,0))),0,(INDEX('RC'!BP$48:BP$179,MATCH(A27,'RC'!BI$48:BI$179,0))))","v":0},{"$f":"IF(B27=\"\",0,IF(B27=0,0,INDEX('RC'!BQ$48:BQ$179,MATCH(A27,'RC'!BI$48:BI$179,0))))","v":0},{"$f":"IF(B27=\"\",0,IF(B27=0,0,INDEX('RC'!BR$48:BR$179,MATCH(A27,'RC'!BI$48:BI$179,0))))","v":0},{"$f":"IF(B27=\"\",0,IF(B27=0,0,INDEX('RC'!BS$48:BS$179,MATCH(A27,'RC'!BI$48:BI$179,0))))","v":0},0,0,0,0,0,0,{"$f":"IF(ISERROR(INDEX('RC'!DG$48:DG$179,MATCH(A27,'RC'!BI$48:BI$179,0))),0,(INDEX('RC'!DG$48:DG$179,MATCH(A27,'RC'!BI$48:BI$179,0))))","v":0},{"$f":"IF(ISERROR(INDEX('RC'!DH$48:DH$179,MATCH(A27,'RC'!BI$48:BI$179,0))),0,(INDEX('RC'!DH$48:DH$179,MATCH(A27,'RC'!BI$48:BI$179,0))))","v":0},0,{"$f":"IF(Entry!B$28=\"Y\",0,IF(ISERROR(INDEX('RC'!CV$48:CV$179,MATCH(A27,'RC'!BI$48:BI$179,0))),0,(INDEX('RC'!CV$48:CV$179,MATCH(A27,'RC'!BI$48:BI$179,0)))))","v":0},{"$f":"IF(Entry!B$28=\"Y\",0,IF(ISERROR(INDEX('RC'!CW$48:CW$179,MATCH(A27,'RC'!BI$48:BI$179,0))),0,(INDEX('RC'!CW$48:CW$179,MATCH(A27,'RC'!BI$48:BI$179,0)))))","v":0},0,{"$f":"IF(ISERROR(INDEX('RC'!CY$48:CY$179,MATCH(A27,'RC'!BI$48:BI$179,0))),0,(INDEX('RC'!CY$48:CY$179,MATCH(A27,'RC'!BI$48:BI$179,0))))","v":0},{"$f":"IF(ISERROR(INDEX('RC'!CZ$48:CZ$179,MATCH(A27,'RC'!BI$48:BI$179,0))),0,(INDEX('RC'!CZ$48:CZ$179,MATCH(A27,'RC'!BI$48:BI$179,0))))","v":0},0,{"$f":"IF(A27>='RC'!BM$29,0,IF(ISERROR(INDEX('RC'!CF$48:CF$179,MATCH(A27,'RC'!BI$48:BI$179,0))),0,(INDEX('RC'!CF$48:CF$179,MATCH(A27,'RC'!BI$48:BI$179,0)))))","v":0},0,0,null,null,null,null,null,null,null,0,0,"",""]
["2017-01-01",{"$f":"IF(ISERROR(INDEX('RC'!BJ$48:BJ$179,MATCH(A28,'RC'!BI$48:BI$179,0))),0,(INDEX('RC'!BJ$48:BJ$179,MATCH(A28,'RC'!BI$48:BI$179,0))))","v":0},{"$f":"IF(B28=\"\",0,IF(B28=0,0,INDEX('RC'!BK$48:BK$179,MATCH(A28,'RC'!BI$48:BI$179,0))))","v":0},{"$f":"IF(B28=\"\",0,IF(B28=0,0,INDEX('RC'!BL$48:BL$179,MATCH(A28,'RC'!BI$48:BI$179,0))))","v":0},{"$f":"IF(B28=\"\",0,IF(B28=0,0,INDEX('RC'!BM$48:BM$179,MATCH(A28,'RC'!BI$48:BI$179,0))))","v":0},0,{"$f":"IF(ISERROR(INDEX('RC'!BP$48:BP$179,MATCH(A28,'RC'!BI$48:BI$179,0))),0,(INDEX('RC'!BP$48:BP$179,MATCH(A28,'RC'!BI$48:BI$179,0))))","v":0},{"$f":"IF(B28=\"\",0,IF(B28=0,0,INDEX('RC'!BQ$48:BQ$179,MATCH(A28,'RC'!BI$48:BI$179,0))))","v":0},{"$f":"IF(B28=\"\",0,IF(B28=0,0,INDEX('RC'!BR$48:BR$179,MATCH(A28,'RC'!BI$48:BI$179,0))))","v":0},{"$f":"IF(B28=\"\",0,IF(B28=0,0,INDEX('RC'!BS$48:BS$179,MATCH(A28,'RC'!BI$48:BI$179,0))))","v":0},0,0,0,0,0,0,{"$f":"IF(ISERROR(INDEX('RC'!DG$48:DG$179,MATCH(A28,'RC'!BI$48:BI$179,0))),0,(INDEX('RC'!DG$48:DG$179,MATCH(A28,'RC'!BI$48:BI$179,0))))","v":0},{"$f":"IF(ISERROR(INDEX('RC'!DH$48:DH$179,MATCH(A28,'RC'!BI$48:BI$179,0))),0,(INDEX('RC'!DH$48:DH$179,MATCH(A28,'RC'!BI$48:BI$179,0))))","v":0},0,{"$f":"IF(Entry!B$28=\"Y\",0,IF(ISERROR(INDEX('RC'!CV$48:CV$179,MATCH(A28,'RC'!BI$48:BI$179,0))),0,(INDEX('RC'!CV$48:CV$179,MATCH(A28,'RC'!BI$48:BI$179,0)))))","v":0},{"$f":"IF(Entry!B$28=\"Y\",0,IF(ISERROR(INDEX('RC'!CW$48:CW$179,MATCH(A28,'RC'!BI$48:BI$179,0))),0,(INDEX('RC'!CW$48:CW$179,MATCH(A28,'RC'!BI$48:BI$179,0)))))","v":0},0,{"$f":"IF(ISERROR(INDEX('RC'!CY$48:CY$179,MATCH(A28,'RC'!BI$48:BI$179,0))),0,(INDEX('RC'!CY$48:CY$179,MATCH(A28,'RC'!BI$48:BI$179,0))))","v":0},{"$f":"IF(ISERROR(INDEX('RC'!CZ$48:CZ$179,MATCH(A28,'RC'!BI$48:BI$179,0))),0,(INDEX('RC'!CZ$48:CZ$179,MATCH(A28,'RC'!BI$48:BI$179,0))))","v":0},0,{"$f":"IF(A28>='RC'!BM$29,0,IF(ISERROR(INDEX('RC'!CF$48:CF$179,MATCH(A28,'RC'!BI$48:BI$179,0))),0,(INDEX('RC'!CF$48:CF$179,MATCH(A28,'RC'!BI$48:BI$179,0)))))","v":0},0,0,null,null,null,null,null,null,null,0,0,{"$f":"IF(AK28=0,\"\",AK28)","v":""},""]
["2017-02-01",{"$f":"IF(ISERROR(INDEX('RC'!BJ$48:BJ$179,MATCH(A29,'RC'!BI$48:BI$179,0))),0,(INDEX('RC'!BJ$48:BJ$179,MATCH(A29,'RC'!BI$48:BI$179,0))))","v":0},{"$f":"IF(B29=\"\",0,IF(B29=0,0,INDEX('RC'!BK$48:BK$179,MATCH(A29,'RC'!BI$48:BI$179,0))))","v":0},{"$f":"IF(B29=\"\",0,IF(B29=0,0,INDEX('RC'!BL$48:BL$179,MATCH(A29,'RC'!BI$48:BI$179,0))))","v":0},{"$f":"IF(B29=\"\",0,IF(B29=0,0,INDEX('RC'!BM$48:BM$179,MATCH(A29,'RC'!BI$48:BI$179,0))))","v":0},0,{"$f":"IF(ISERROR(INDEX('RC'!BP$48:BP$179,MATCH(A29,'RC'!BI$48:BI$179,0))),0,(INDEX('RC'!BP$48:BP$179,MATCH(A29,'RC'!BI$48:BI$179,0))))","v":0},{"$f":"IF(B29=\"\",0,IF(B29=0,0,INDEX('RC'!BQ$48:BQ$179,MATCH(A29,'RC'!BI$48:BI$179,0))))","v":0},{"$f":"IF(B29=\"\",0,IF(B29=0,0,INDEX('RC'!BR$48:BR$179,MATCH(A29,'RC'!BI$48:BI$179,0))))","v":0},{"$f":"IF(B29=\"\",0,IF(B29=0,0,INDEX('RC'!BS$48:BS$179,MATCH(A29,'RC'!BI$48:BI$179,0))))","v":0},0,0,0,0,0,0,{"$f":"IF(ISERROR(INDEX('RC'!DG$48:DG$179,MATCH(A29,'RC'!BI$48:BI$179,0))),0,(INDEX('RC'!DG$48:DG$179,MATCH(A29,'RC'!BI$48:BI$179,0))))","v":0},{"$f":"IF(ISERROR(INDEX('RC'!DH$48:DH$179,MATCH(A29,'RC'!BI$48:BI$179,0))),0,(INDEX('RC'!DH$48:DH$179,MATCH(A29,'RC'!BI$48:BI$179,0))))","v":0},0,{"$f":"IF(Entry!B$28=\"Y\",0,IF(ISERROR(INDEX('RC'!CV$48:CV$179,MATCH(A29,'RC'!BI$48:BI$179,0))),0,(INDEX('RC'!CV$48:CV$179,MATCH(A29,'RC'!BI$48:BI$179,0)))))","v":0},{"$f":"IF(Entry!B$28=\"Y\",0,IF(ISERROR(INDEX('RC'!CW$48:CW$179,MATCH(A29,'RC'!BI$48:BI$179,0))),0,(INDEX('RC'!CW$48:CW$179,MATCH(A29,'RC'!BI$48:BI$179,0)))))","v":0},0,{"$f":"IF(ISERROR(INDEX('RC'!CY$48:CY$179,MATCH(A29,'RC'!BI$48:BI$179,0))),0,(INDEX('RC'!CY$48:CY$179,MATCH(A29,'RC'!BI$48:BI$179,0))))","v":0},{"$f":"IF(ISERROR(INDEX('RC'!CZ$48:CZ$179,MATCH(A29,'RC'!BI$48:BI$179,0))),0,(INDEX('RC'!CZ$48:CZ$179,MATCH(A29,'RC'!BI$48:BI$179,0))))","v":0},0,{"$f":"IF(A29>='RC'!BM$29,0,IF(ISERROR(INDEX('RC'!CF$48:CF$179,MATCH(A29,'RC'!BI$48:BI$179,0))),0,(INDEX('RC'!CF$48:CF$179,MATCH(A29,'RC'!BI$48:BI$179,0)))))","v":0},0,0,null,null,null,null,null,null,null,0,0,"",""]
["2017-03-01",{"$f":"IF(ISERROR(INDEX('RC'!BJ$48:BJ$179,MATCH(A30,'RC'!BI$48:BI$179,0))),0,(INDEX('RC'!BJ$48:BJ$179,MATCH(A30,'RC'!BI$48:BI$179,0))))","v":0},{"$f":"IF(B30=\"\",0,IF(B30=0,0,INDEX('RC'!BK$48:BK$179,MATCH(A30,'RC'!BI$48:BI$179,0))))","v":0},{"$f":"IF(B30=\"\",0,IF(B30=0,0,INDEX('RC'!BL$48:BL$179,MATCH(A30,'RC'!BI$48:BI$179,0))))","v":0},{"$f":"IF(B30=\"\",0,IF(B30=0,0,INDEX('RC'!BM$48:BM$179,MATCH(A30,'RC'!BI$48:BI$179,0))))","v":0},0,{"$f":"IF(ISERROR(INDEX('RC'!BP$48:BP$179,MATCH(A30,'RC'!BI$48:BI$179,0))),0,(INDEX('RC'!BP$48:BP$179,MATCH(A30,'RC'!BI$48:BI$179,0))))","v":0},{"$f":"IF(B30=\"\",0,IF(B30=0,0,INDEX('RC'!BQ$48:BQ$179,MATCH(A30,'RC'!BI$48:BI$179,0))))","v":0},{"$f":"IF(B30=\"\",0,IF(B30=0,0,INDEX('RC'!BR$48:BR$179,MATCH(A30,'RC'!BI$48:BI$179,0))))","v":0},{"$f":"IF(B30=\"\",0,IF(B30=0,0,INDEX('RC'!BS$48:BS$179,MATCH(A30,'RC'!BI$48:BI$179,0))))","v":0},0,0,0,0,0,0,{"$f":"IF(ISERROR(INDEX('RC'!DG$48:DG$179,MATCH(A30,'RC'!BI$48:BI$179,0))),0,(INDEX('RC'!DG$48:DG$179,MATCH(A30,'RC'!BI$48:BI$179,0))))","v":0},{"$f":"IF(ISERROR(INDEX('RC'!DH$48:DH$179,MATCH(A30,'RC'!BI$48:BI$179,0))),0,(INDEX('RC'!DH$48:DH$179,MATCH(A30,'RC'!BI$48:BI$179,0))))","v":0},0,{"$f":"IF(Entry!B$28=\"Y\",0,IF(ISERROR(INDEX('RC'!CV$48:CV$179,MATCH(A30,'RC'!BI$48:BI$179,0))),0,(INDEX('RC'!CV$48:CV$179,MATCH(A30,'RC'!BI$48:BI$179,0)))))","v":0},{"$f":"IF(Entry!B$28=\"Y\",0,IF(ISERROR(INDEX('RC'!CW$48:CW$179,MATCH(A30,'RC'!BI$48:BI$179,0))),0,(INDEX('RC'!CW$48:CW$179,MATCH(A30,'RC'!BI$48:BI$179,0)))))","v":0},0,{"$f":"IF(ISERROR(INDEX('RC'!CY$48:CY$179,MATCH(A30,'RC'!BI$48:BI$179,0))),0,(INDEX('RC'!CY$48:CY$179,MATCH(A30,'RC'!BI$48:BI$179,0))))","v":0},{"$f":"IF(ISERROR(INDEX('RC'!CZ$48:CZ$179,MATCH(A30,'RC'!BI$48:BI$179,0))),0,(INDEX('RC'!CZ$48:CZ$179,MATCH(A30,'RC'!BI$48:BI$179,0))))","v":0},0,{"$f":"IF(A30>='RC'!BM$29,0,IF(ISERROR(INDEX('RC'!CF$48:CF$179,MATCH(A30,'RC'!BI$48:BI$179,0))),0,(INDEX('RC'!CF$48:CF$179,MATCH(A30,'RC'!BI$48:BI$179,0)))))","v":0},0,0,null,null,null,null,null,null,null,0,0,"",""]
[{"$f":"EDATE(A30,1)","v":"2017-04-01"},{"$f":"IF(ISERROR(INDEX('RC'!BJ$48:BJ$179,MATCH(A31,'RC'!BI$48:BI$179,0))),0,(INDEX('RC'!BJ$48:BJ$179,MATCH(A31,'RC'!BI$48:BI$179,0))))","v":0},{"$f":"IF(B31=\"\",0,IF(B31=0,0,INDEX('RC'!BK$48:BK$179,MATCH(A31,'RC'!BI$48:BI$179,0))))","v":0},{"$f":"IF(B31=\"\",0,IF(B31=0,0,INDEX('RC'!BL$48:BL$179,MATCH(A31,'RC'!BI$48:BI$179,0))))","v":0},{"$f":"IF(B31=\"\",0,IF(B31=0,0,INDEX('RC'!BM$48:BM$179,MATCH(A31,'RC'!BI$48:BI$179,0))))","v":0},0,{"$f":"IF(ISERROR(INDEX('RC'!BP$48:BP$179,MATCH(A31,'RC'!BI$48:BI$179,0))),0,(INDEX('RC'!BP$48:BP$179,MATCH(A31,'RC'!BI$48:BI$179,0))))","v":0},{"$f":"IF(B31=\"\",0,IF(B31=0,0,INDEX('RC'!BQ$48:BQ$179,MATCH(A31,'RC'!BI$48:BI$179,0))))","v":0},{"$f":"IF(B31=\"\",0,IF(B31=0,0,INDEX('RC'!BR$48:BR$179,MATCH(A31,'RC'!BI$48:BI$179,0))))","v":0},{"$f":"IF(B31=\"\",0,IF(B31=0,0,INDEX('RC'!BS$48:BS$179,MATCH(A31,'RC'!BI$48:BI$179,0))))","v":0},0,0,0,0,0,0,{"$f":"IF(ISERROR(INDEX('RC'!DG$48:DG$179,MATCH(A31,'RC'!BI$48:BI$179,0))),0,(INDEX('RC'!DG$48:DG$179,MATCH(A31,'RC'!BI$48:BI$179,0))))","v":0},{"$f":"IF(ISERROR(INDEX('RC'!DH$48:DH$179,MATCH(A31,'RC'!BI$48:BI$179,0))),0,(INDEX('RC'!DH$48:DH$179,MATCH(A31,'RC'!BI$48:BI$179,0))))","v":0},0,{"$f":"IF(Entry!B$28=\"Y\",0,IF(ISERROR(INDEX('RC'!CV$48:CV$179,MATCH(A31,'RC'!BI$48:BI$179,0))),0,(INDEX('RC'!CV$48:CV$179,MATCH(A31,'RC'!BI$48:BI$179,0)))))","v":0},{"$f":"IF(Entry!B$28=\"Y\",0,IF(ISERROR(INDEX('RC'!CW$48:CW$179,MATCH(A31,'RC'!BI$48:BI$179,0))),0,(INDEX('RC'!CW$48:CW$179,MATCH(A31,'RC'!BI$48:BI$179,0)))))","v":0},0,{"$f":"IF(ISERROR(INDEX('RC'!CY$48:CY$179,MATCH(A31,'RC'!BI$48:BI$179,0))),0,(INDEX('RC'!CY$48:CY$179,MATCH(A31,'RC'!BI$48:BI$179,0))))","v":0},{"$f":"IF(ISERROR(INDEX('RC'!CZ$48:CZ$179,MATCH(A31,'RC'!BI$48:BI$179,0))),0,(INDEX('RC'!CZ$48:CZ$179,MATCH(A31,'RC'!BI$48:BI$179,0))))","v":0},0,{"$f":"IF(A31>='RC'!BM$29,0,IF(ISERROR(INDEX('RC'!CF$48:CF$179,MATCH(A31,'RC'!BI$48:BI$179,0))),0,(INDEX('RC'!CF$48:CF$179,MATCH(A31,'RC'!BI$48:BI$179,0)))))","v":0},0,0,null,null,null,null,null,null,null,0,0,"",""]
[{"$f":"EDATE(A31,1)","v":"2017-05-01"},{"$f":"IF(ISERROR(INDEX('RC'!BJ$48:BJ$179,MATCH(A32,'RC'!BI$48:BI$179,0))),0,(INDEX('RC'!BJ$48:BJ$179,MATCH(A32,'RC'!BI$48:BI$179,0))))","v":0},{"$f":"IF(B32=\"\",0,IF(B32=0,0,INDEX('RC'!BK$48:BK$179,MATCH(A32,'RC'!BI$48:BI$179,0))))","v":0},{"$f":"IF(B32=\"\",0,IF(B32=0,0,INDEX('RC'!BL$48:BL$179,MATCH(A32,'RC'!BI$48:BI$179,0))))","v":0},{"$f":"IF(B32=\"\",0,IF(B32=0,0,INDEX('RC'!BM$48:BM$179,MATCH(A32,'RC'!BI$48:BI$179,0))))","v":0},0,{"$f":"IF(ISERROR(INDEX('RC'!BP$48:BP$179,MATCH(A32,'RC'!BI$48:BI$179,0))),0,(INDEX('RC'!BP$48:BP$179,MATCH(A32,'RC'!BI$48:BI$179,0))))","v":0},{"$f":"IF(B32=\"\",0,IF(B32=0,0,INDEX('RC'!BQ$48:BQ$179,MATCH(A32,'RC'!BI$48:BI$179,0))))","v":0},{"$f":"IF(B32=\"\",0,IF(B32=0,0,INDEX('RC'!BR$48:BR$179,MATCH(A32,'RC'!BI$48:BI$179,0))))","v":0},{"$f":"IF(B32=\"\",0,IF(B32=0,0,INDEX('RC'!BS$48:BS$179,MATCH(A32,'RC'!BI$48:BI$179,0))))","v":0},0,0,0,0,0,0,{"$f":"IF(ISERROR(INDEX('RC'!DG$48:DG$179,MATCH(A32,'RC'!BI$48:BI$179,0))),0,(INDEX('RC'!DG$48:DG$179,MATCH(A32,'RC'!BI$48:BI$179,0))))","v":0},{"$f":"IF(ISERROR(INDEX('RC'!DH$48:DH$179,MATCH(A32,'RC'!BI$48:BI$179,0))),0,(INDEX('RC'!DH$48:DH$179,MATCH(A32,'RC'!BI$48:BI$179,0))))","v":0},0,{"$f":"IF(Entry!B$28=\"Y\",0,IF(ISERROR(INDEX('RC'!CV$48:CV$179,MATCH(A32,'RC'!BI$48:BI$179,0))),0,(INDEX('RC'!CV$48:CV$179,MATCH(A32,'RC'!BI$48:BI$179,0)))))","v":0},{"$f":"IF(Entry!B$28=\"Y\",0,IF(ISERROR(INDEX('RC'!CW$48:CW$179,MATCH(A32,'RC'!BI$48:BI$179,0))),0,(INDEX('RC'!CW$48:CW$179,MATCH(A32,'RC'!BI$48:BI$179,0)))))","v":0},0,{"$f":"IF(ISERROR(INDEX('RC'!CY$48:CY$179,MATCH(A32,'RC'!BI$48:BI$179,0))),0,(INDEX('RC'!CY$48:CY$179,MATCH(A32,'RC'!BI$48:BI$179,0))))","v":0},{"$f":"IF(ISERROR(INDEX('RC'!CZ$48:CZ$179,MATCH(A32,'RC'!BI$48:BI$179,0))),0,(INDEX('RC'!CZ$48:CZ$179,MATCH(A32,'RC'!BI$48:BI$179,0))))","v":0},0,{"$f":"IF(A32>='RC'!BM$29,0,IF(ISERROR(INDEX('RC'!CF$48:CF$179,MATCH(A32,'RC'!BI$48:BI$179,0))),0,(INDEX('RC'!CF$48:CF$179,MATCH(A32,'RC'!BI$48:BI$179,0)))))","v":0},0,0,null,null,null,null,null,null,null,0,0,"",""]
[{"$f":"EDATE(A32,1)","v":"2017-06-01"},{"$f":"IF(ISERROR(INDEX('RC'!BJ$48:BJ$179,MATCH(A33,'RC'!BI$48:BI$179,0))),0,(INDEX('RC'!BJ$48:BJ$179,MATCH(A33,'RC'!BI$48:BI$179,0))))","v":0},{"$f":"IF(B33=\"\",0,IF(B33=0,0,INDEX('RC'!BK$48:BK$179,MATCH(A33,'RC'!BI$48:BI$179,0))))","v":0},{"$f":"IF(B33=\"\",0,IF(B33=0,0,INDEX('RC'!BL$48:BL$179,MATCH(A33,'RC'!BI$48:BI$179,0))))","v":0},{"$f":"IF(B33=\"\",0,IF(B33=0,0,INDEX('RC'!BM$48:BM$179,MATCH(A33,'RC'!BI$48:BI$179,0))))","v":0},{"$f":"SUM(B33:E33)","v":0},{"$f":"IF(ISERROR(INDEX('RC'!BP$48:BP$179,MATCH(A33,'RC'!BI$48:BI$179,0))),0,(INDEX('RC'!BP$48:BP$179,MATCH(A33,'RC'!BI$48:BI$179,0))))","v":0},{"$f":"IF(B33=\"\",0,IF(B33=0,0,INDEX('RC'!BQ$48:BQ$179,MATCH(A33,'RC'!BI$48:BI$179,0))))","v":0},{"$f":"IF(B33=\"\",0,IF(B33=0,0,INDEX('RC'!BR$48:BR$179,MATCH(A33,'RC'!BI$48:BI$179,0))))","v":0},{"$f":"IF(B33=\"\",0,IF(B33=0,0,INDEX('RC'!BS$48:BS$179,MATCH(A33,'RC'!BI$48:BI$179,0))))","v":0},{"$f":"SUM(G33:J33)","v":0},{"$f":"B33-G33","v":0},{"$f":"C33-H33","v":0},{"$f":"D33-I33","v":0},{"$f":"E33-J33","v":0},{"$f":"SUM(L33:O33)","v":0},{"$f":"IF(ISERROR(INDEX('RC'!DG$48:DG$179,MATCH(A33,'RC'!BI$48:BI$179,0))),0,(INDEX('RC'!DG$48:DG$179,MATCH(A33,'RC'!BI$48:BI$179,0))))","v":0},{"$f":"IF(ISERROR(INDEX('RC'!DH$48:DH$179,MATCH(A33,'RC'!BI$48:BI$179,0))),0,(INDEX('RC'!DH$48:DH$179,MATCH(A33,'RC'!BI$48:BI$179,0))))","v":0},0,{"$f":"IF(Entry!B$28=\"Y\",0,IF(ISERROR(INDEX('RC'!CV$48:CV$179,MATCH(A33,'RC'!BI$48:BI$179,0))),0,(INDEX('RC'!CV$48:CV$179,MATCH(A33,'RC'!BI$48:BI$179,0)))))","v":0},{"$f":"IF(Entry!B$28=\"Y\",0,IF(ISERROR(INDEX('RC'!CW$48:CW$179,MATCH(A33,'RC'!BI$48:BI$179,0))),0,(INDEX('RC'!CW$48:CW$179,MATCH(A33,'RC'!BI$48:BI$179,0)))))","v":0},0,{"$f":"IF(ISERROR(INDEX('RC'!CY$48:CY$179,MATCH(A33,'RC'!BI$48:BI$179,0))),0,(INDEX('RC'!CY$48:CY$179,MATCH(A33,'RC'!BI$48:BI$179,0))))","v":0},{"$f":"IF(ISERROR(INDEX('RC'!CZ$48:CZ$179,MATCH(A33,'RC'!BI$48:BI$179,0))),0,(INDEX('RC'!CZ$48:CZ$179,MATCH(A33,'RC'!BI$48:BI$179,0))))","v":0},0,{"$f":"IF(A33>='RC'!BM$29,0,IF(ISERROR(INDEX('RC'!CF$48:CF$179,MATCH(A33,'RC'!BI$48:BI$179,0))),0,(INDEX('RC'!CF$48:CF$179,MATCH(A33,'RC'!BI$48:BI$179,0)))))","v":0},{"$f":"S33+V33+Y33+Z33","v":0},0,null,null,null,null,null,null,null,{"$f":"IF(B33<1,0,1)","v":0},0,"",""]
[{"$f":"EDATE(A33,1)","v":"2017-07-01"},{"$f":"IF(ISERROR(INDEX('RC'!BJ$48:BJ$179,MATCH(A34,'RC'!BI$48:BI$179,0))),0,(INDEX('RC'!BJ$48:BJ$179,MATCH(A34,'RC'!BI$48:BI$179,0))))","v":0},{"$f":"IF(B34=\"\",0,IF(B34=0,0,INDEX('RC'!BK$48:BK$179,MATCH(A34,'RC'!BI$48:BI$179,0))))","v":0},{"$f":"IF(B34=\"\",0,IF(B34=0,0,INDEX('RC'!BL$48:BL$179,MATCH(A34,'RC'!BI$48:BI$179,0))))","v":0},{"$f":"IF(B34=\"\",0,IF(B34=0,0,INDEX('RC'!BM$48:BM$179,MATCH(A34,'RC'!BI$48:BI$179,0))))","v":0},0,{"$f":"IF(ISERROR(INDEX('RC'!BP$48:BP$179,MATCH(A34,'RC'!BI$48:BI$179,0))),0,(INDEX('RC'!BP$48:BP$179,MATCH(A34,'RC'!BI$48:BI$179,0))))","v":0},{"$f":"IF(B34=\"\",0,IF(B34=0,0,INDEX('RC'!BQ$48:BQ$179,MATCH(A34,'RC'!BI$48:BI$179,0))))","v":0},{"$f":"IF(B34=\"\",0,IF(B34=0,0,INDEX('RC'!BR$48:BR$179,MATCH(A34,'RC'!BI$48:BI$179,0))))","v":0},{"$f":"IF(B34=\"\",0,IF(B34=0,0,INDEX('RC'!BS$48:BS$179,MATCH(A34,'RC'!BI$48:BI$179,0))))","v":0},{"$f":"SUM(G34:J34)","v":0},{"$f":"B34-G34","v":0},{"$f":"C34-H34","v":0},{"$f":"D34-I34","v":0},{"$f":"E34-J34","v":0},{"$f":"SUM(L34:O34)","v":0},{"$f":"IF(ISERROR(INDEX('RC'!DG$48:DG$179,MATCH(A34,'RC'!BI$48:BI$179,0))),0,(INDEX('RC'!DG$48:DG$179,MATCH(A34,'RC'!BI$48:BI$179,0))))","v":0},{"$f":"IF(ISERROR(INDEX('RC'!DH$48:DH$179,MATCH(A34,'RC'!BI$48:BI$179,0))),0,(INDEX('RC'!DH$48:DH$179,MATCH(A34,'RC'!BI$48:BI$179,0))))","v":0},0,{"$f":"IF(Entry!B$28=\"Y\",0,IF(ISERROR(INDEX('RC'!CV$48:CV$179,MATCH(A34,'RC'!BI$48:BI$179,0))),0,(INDEX('RC'!CV$48:CV$179,MATCH(A34,'RC'!BI$48:BI$179,0)))))","v":0},{"$f":"IF(Entry!B$28=\"Y\",0,IF(ISERROR(INDEX('RC'!CW$48:CW$179,MATCH(A34,'RC'!BI$48:BI$179,0))),0,(INDEX('RC'!CW$48:CW$179,MATCH(A34,'RC'!BI$48:BI$179,0)))))","v":0},0,{"$f":"IF(ISERROR(INDEX('RC'!CY$48:CY$179,MATCH(A34,'RC'!BI$48:BI$179,0))),0,(INDEX('RC'!CY$48:CY$179,MATCH(A34,'RC'!BI$48:BI$179,0))))","v":0},{"$f":"IF(ISERROR(INDEX('RC'!CZ$48:CZ$179,MATCH(A34,'RC'!BI$48:BI$179,0))),0,(INDEX('RC'!CZ$48:CZ$179,MATCH(A34,'RC'!BI$48:BI$179,0))))","v":0},0,{"$f":"IF(A34>='RC'!BM$29,0,IF(ISERROR(INDEX('RC'!CF$48:CF$179,MATCH(A34,'RC'!BI$48:BI$179,0))),0,(INDEX('RC'!CF$48:CF$179,MATCH(A34,'RC'!BI$48:BI$179,0)))))","v":0},0,0,null,null,null,null,null,null,null,0,0,"",""]
["2017-08-01",{"$f":"IF(ISERROR(INDEX('RC'!BJ$48:BJ$179,MATCH(A35,'RC'!BI$48:BI$179,0))),0,(INDEX('RC'!BJ$48:BJ$179,MATCH(A35,'RC'!BI$48:BI$179,0))))","v":0},{"$f":"IF(B35=\"\",0,IF(B35=0,0,INDEX('RC'!BK$48:BK$179,MATCH(A35,'RC'!BI$48:BI$179,0))))","v":0},{"$f":"IF(B35=\"\",0,IF(B35=0,0,INDEX('RC'!BL$48:BL$179,MATCH(A35,'RC'!BI$48:BI$179,0))))","v":0},{"$f":"IF(B35=\"\",0,IF(B35=0,0,INDEX('RC'!BM$48:BM$179,MATCH(A35,'RC'!BI$48:BI$179,0))))","v":0},0,{"$f":"IF(ISERROR(INDEX('RC'!BP$48:BP$179,MATCH(A35,'RC'!BI$48:BI$179,0))),0,(INDEX('RC'!BP$48:BP$179,MATCH(A35,'RC'!BI$48:BI$179,0))))","v":0},{"$f":"IF(B35=\"\",0,IF(B35=0,0,INDEX('RC'!BQ$48:BQ$179,MATCH(A35,'RC'!BI$48:BI$179,0))))","v":0},{"$f":"IF(B35=\"\",0,IF(B35=0,0,INDEX('RC'!BR$48:BR$179,MATCH(A35,'RC'!BI$48:BI$179,0))))","v":0},{"$f":"IF(B35=\"\",0,IF(B35=0,0,INDEX('RC'!BS$48:BS$179,MATCH(A35,'RC'!BI$48:BI$179,0))))","v":0},0,0,0,0,0,0,{"$f":"IF(ISERROR(INDEX('RC'!DG$48:DG$179,MATCH(A35,'RC'!BI$48:BI$179,0))),0,(INDEX('RC'!DG$48:DG$179,MATCH(A35,'RC'!BI$48:BI$179,0))))","v":0},{"$f":"IF(ISERROR(INDEX('RC'!DH$48:DH$179,MATCH(A35,'RC'!BI$48:BI$179,0))),0,(INDEX('RC'!DH$48:DH$179,MATCH(A35,'RC'!BI$48:BI$179,0))))","v":0},0,{"$f":"IF(Entry!B$28=\"Y\",0,IF(ISERROR(INDEX('RC'!CV$48:CV$179,MATCH(A35,'RC'!BI$48:BI$179,0))),0,(INDEX('RC'!CV$48:CV$179,MATCH(A35,'RC'!BI$48:BI$179,0)))))","v":0},{"$f":"IF(Entry!B$28=\"Y\",0,IF(ISERROR(INDEX('RC'!CW$48:CW$179,MATCH(A35,'RC'!BI$48:BI$179,0))),0,(INDEX('RC'!CW$48:CW$179,MATCH(A35,'RC'!BI$48:BI$179,0)))))","v":0},0,{"$f":"IF(ISERROR(INDEX('RC'!CY$48:CY$179,MATCH(A35,'RC'!BI$48:BI$179,0))),0,(INDEX('RC'!CY$48:CY$179,MATCH(A35,'RC'!BI$48:BI$179,0))))","v":0},{"$f":"IF(ISERROR(INDEX('RC'!CZ$48:CZ$179,MATCH(A35,'RC'!BI$48:BI$179,0))),0,(INDEX('RC'!CZ$48:CZ$179,MATCH(A35,'RC'!BI$48:BI$179,0))))","v":0},0,{"$f":"IF(A35>='RC'!BM$29,0,IF(ISERROR(INDEX('RC'!CF$48:CF$179,MATCH(A35,'RC'!BI$48:BI$179,0))),0,(INDEX('RC'!CF$48:CF$179,MATCH(A35,'RC'!BI$48:BI$179,0)))))","v":0},0,0,null,null,null,null,null,null,null,0,{"$f":"AJ35","v":0},{"$f":"IF(AK35=0,\"\",AK35)","v":""},{"$f":"IF(AL35=0,\"\",AL35)","v":""}]
["2017-09-01",{"$f":"IF(ISERROR(INDEX('RC'!BJ$48:BJ$179,MATCH(A36,'RC'!BI$48:BI$179,0))),0,(INDEX('RC'!BJ$48:BJ$179,MATCH(A36,'RC'!BI$48:BI$179,0))))","v":0},{"$f":"IF(B36=\"\",0,IF(B36=0,0,INDEX('RC'!BK$48:BK$179,MATCH(A36,'RC'!BI$48:BI$179,0))))","v":0},{"$f":"IF(B36=\"\",0,IF(B36=0,0,INDEX('RC'!BL$48:BL$179,MATCH(A36,'RC'!BI$48:BI$179,0))))","v":0},{"$f":"IF(B36=\"\",0,IF(B36=0,0,INDEX('RC'!BM$48:BM$179,MATCH(A36,'RC'!BI$48:BI$179,0))))","v":0},0,{"$f":"IF(ISERROR(INDEX('RC'!BP$48:BP$179,MATCH(A36,'RC'!BI$48:BI$179,0))),0,(INDEX('RC'!BP$48:BP$179,MATCH(A36,'RC'!BI$48:BI$179,0))))","v":0},{"$f":"IF(B36=\"\",0,IF(B36=0,0,INDEX('RC'!BQ$48:BQ$179,MATCH(A36,'RC'!BI$48:BI$179,0))))","v":0},{"$f":"IF(B36=\"\",0,IF(B36=0,0,INDEX('RC'!BR$48:BR$179,MATCH(A36,'RC'!BI$48:BI$179,0))))","v":0},{"$f":"IF(B36=\"\",0,IF(B36=0,0,INDEX('RC'!BS$48:BS$179,MATCH(A36,'RC'!BI$48:BI$179,0))))","v":0},0,0,0,0,0,0,{"$f":"IF(ISERROR(INDEX('RC'!DG$48:DG$179,MATCH(A36,'RC'!BI$48:BI$179,0))),0,(INDEX('RC'!DG$48:DG$179,MATCH(A36,'RC'!BI$48:BI$179,0))))","v":0},{"$f":"IF(ISERROR(INDEX('RC'!DH$48:DH$179,MATCH(A36,'RC'!BI$48:BI$179,0))),0,(INDEX('RC'!DH$48:DH$179,MATCH(A36,'RC'!BI$48:BI$179,0))))","v":0},0,{"$f":"IF(Entry!B$28=\"Y\",0,IF(ISERROR(INDEX('RC'!CV$48:CV$179,MATCH(A36,'RC'!BI$48:BI$179,0))),0,(INDEX('RC'!CV$48:CV$179,MATCH(A36,'RC'!BI$48:BI$179,0)))))","v":0},{"$f":"IF(Entry!B$28=\"Y\",0,IF(ISERROR(INDEX('RC'!CW$48:CW$179,MATCH(A36,'RC'!BI$48:BI$179,0))),0,(INDEX('RC'!CW$48:CW$179,MATCH(A36,'RC'!BI$48:BI$179,0)))))","v":0},0,{"$f":"IF(ISERROR(INDEX('RC'!CY$48:CY$179,MATCH(A36,'RC'!BI$48:BI$179,0))),0,(INDEX('RC'!CY$48:CY$179,MATCH(A36,'RC'!BI$48:BI$179,0))))","v":0},{"$f":"IF(ISERROR(INDEX('RC'!CZ$48:CZ$179,MATCH(A36,'RC'!BI$48:BI$179,0))),0,(INDEX('RC'!CZ$48:CZ$179,MATCH(A36,'RC'!BI$48:BI$179,0))))","v":0},0,{"$f":"IF(A36>='RC'!BM$29,0,IF(ISERROR(INDEX('RC'!CF$48:CF$179,MATCH(A36,'RC'!BI$48:BI$179,0))),0,(INDEX('RC'!CF$48:CF$179,MATCH(A36,'RC'!BI$48:BI$179,0)))))","v":0},0,0,null,null,null,null,null,null,null,0,0,"",""]
["2017-10-01",{"$f":"IF(ISERROR(INDEX('RC'!BJ$48:BJ$179,MATCH(A37,'RC'!BI$48:BI$179,0))),0,(INDEX('RC'!BJ$48:BJ$179,MATCH(A37,'RC'!BI$48:BI$179,0))))","v":0},{"$f":"IF(B37=\"\",0,IF(B37=0,0,INDEX('RC'!BK$48:BK$179,MATCH(A37,'RC'!BI$48:BI$179,0))))","v":0},{"$f":"IF(B37=\"\",0,IF(B37=0,0,INDEX('RC'!BL$48:BL$179,MATCH(A37,'RC'!BI$48:BI$179,0))))","v":0},{"$f":"IF(B37=\"\",0,IF(B37=0,0,INDEX('RC'!BM$48:BM$179,MATCH(A37,'RC'!BI$48:BI$179,0))))","v":0},0,{"$f":"IF(ISERROR(INDEX('RC'!BP$48:BP$179,MATCH(A37,'RC'!BI$48:BI$179,0))),0,(INDEX('RC'!BP$48:BP$179,MATCH(A37,'RC'!BI$48:BI$179,0))))","v":0},{"$f":"IF(B37=\"\",0,IF(B37=0,0,INDEX('RC'!BQ$48:BQ$179,MATCH(A37,'RC'!BI$48:BI$179,0))))","v":0},{"$f":"IF(B37=\"\",0,IF(B37=0,0,INDEX('RC'!BR$48:BR$179,MATCH(A37,'RC'!BI$48:BI$179,0))))","v":0},{"$f":"IF(B37=\"\",0,IF(B37=0,0,INDEX('RC'!BS$48:BS$179,MATCH(A37,'RC'!BI$48:BI$179,0))))","v":0},0,0,0,0,0,0,{"$f":"IF(ISERROR(INDEX('RC'!DG$48:DG$179,MATCH(A37,'RC'!BI$48:BI$179,0))),0,(INDEX('RC'!DG$48:DG$179,MATCH(A37,'RC'!BI$48:BI$179,0))))","v":0},{"$f":"IF(ISERROR(INDEX('RC'!DH$48:DH$179,MATCH(A37,'RC'!BI$48:BI$179,0))),0,(INDEX('RC'!DH$48:DH$179,MATCH(A37,'RC'!BI$48:BI$179,0))))","v":0},0,{"$f":"IF(Entry!B$28=\"Y\",0,IF(ISERROR(INDEX('RC'!CV$48:CV$179,MATCH(A37,'RC'!BI$48:BI$179,0))),0,(INDEX('RC'!CV$48:CV$179,MATCH(A37,'RC'!BI$48:BI$179,0)))))","v":0},{"$f":"IF(Entry!B$28=\"Y\",0,IF(ISERROR(INDEX('RC'!CW$48:CW$179,MATCH(A37,'RC'!BI$48:BI$179,0))),0,(INDEX('RC'!CW$48:CW$179,MATCH(A37,'RC'!BI$48:BI$179,0)))))","v":0},0,{"$f":"IF(ISERROR(INDEX('RC'!CY$48:CY$179,MATCH(A37,'RC'!BI$48:BI$179,0))),0,(INDEX('RC'!CY$48:CY$179,MATCH(A37,'RC'!BI$48:BI$179,0))))","v":0},{"$f":"IF(ISERROR(INDEX('RC'!CZ$48:CZ$179,MATCH(A37,'RC'!BI$48:BI$179,0))),0,(INDEX('RC'!CZ$48:CZ$179,MATCH(A37,'RC'!BI$48:BI$179,0))))","v":0},0,{"$f":"IF(A37>='RC'!BM$29,0,IF(ISERROR(INDEX('RC'!CF$48:CF$179,MATCH(A37,'RC'!BI$48:BI$179,0))),0,(INDEX('RC'!CF$48:CF$179,MATCH(A37,'RC'!BI$48:BI$179,0)))))","v":0},0,0,null,null,null,null,null,null,null,0,0,"",""]
["2017-11-01",{"$f":"IF(ISERROR(INDEX('RC'!BJ$48:BJ$179,MATCH(A38,'RC'!BI$48:BI$179,0))),0,(INDEX('RC'!BJ$48:BJ$179,MATCH(A38,'RC'!BI$48:BI$179,0))))","v":0},{"$f":"IF(B38=\"\",0,IF(B38=0,0,INDEX('RC'!BK$48:BK$179,MATCH(A38,'RC'!BI$48:BI$179,0))))","v":0},{"$f":"IF(B38=\"\",0,IF(B38=0,0,INDEX('RC'!BL$48:BL$179,MATCH(A38,'RC'!BI$48:BI$179,0))))","v":0},{"$f":"IF(B38=\"\",0,IF(B38=0,0,INDEX('RC'!BM$48:BM$179,MATCH(A38,'RC'!BI$48:BI$179,0))))","v":0},0,{"$f":"IF(ISERROR(INDEX('RC'!BP$48:BP$179,MATCH(A38,'RC'!BI$48:BI$179,0))),0,(INDEX('RC'!BP$48:BP$179,MATCH(A38,'RC'!BI$48:BI$179,0))))","v":0},{"$f":"IF(B38=\"\",0,IF(B38=0,0,INDEX('RC'!BQ$48:BQ$179,MATCH(A38,'RC'!BI$48:BI$179,0))))","v":0},{"$f":"IF(B38=\"\",0,IF(B38=0,0,INDEX('RC'!BR$48:BR$179,MATCH(A38,'RC'!BI$48:BI$179,0))))","v":0},{"$f":"IF(B38=\"\",0,IF(B38=0,0,INDEX('RC'!BS$48:BS$179,MATCH(A38,'RC'!BI$48:BI$179,0))))","v":0},0,0,0,0,0,0,{"$f":"IF(ISERROR(INDEX('RC'!DG$48:DG$179,MATCH(A38,'RC'!BI$48:BI$179,0))),0,(INDEX('RC'!DG$48:DG$179,MATCH(A38,'RC'!BI$48:BI$179,0))))","v":0},{"$f":"IF(ISERROR(INDEX('RC'!DH$48:DH$179,MATCH(A38,'RC'!BI$48:BI$179,0))),0,(INDEX('RC'!DH$48:DH$179,MATCH(A38,'RC'!BI$48:BI$179,0))))","v":0},0,{"$f":"IF(Entry!B$28=\"Y\",0,IF(ISERROR(INDEX('RC'!CV$48:CV$179,MATCH(A38,'RC'!BI$48:BI$179,0))),0,(INDEX('RC'!CV$48:CV$179,MATCH(A38,'RC'!BI$48:BI$179,0)))))","v":0},{"$f":"IF(Entry!B$28=\"Y\",0,IF(ISERROR(INDEX('RC'!CW$48:CW$179,MATCH(A38,'RC'!BI$48:BI$179,0))),0,(INDEX('RC'!CW$48:CW$179,MATCH(A38,'RC'!BI$48:BI$179,0)))))","v":0},0,{"$f":"IF(ISERROR(INDEX('RC'!CY$48:CY$179,MATCH(A38,'RC'!BI$48:BI$179,0))),0,(INDEX('RC'!CY$48:CY$179,MATCH(A38,'RC'!BI$48:BI$179,0))))","v":0},{"$f":"IF(ISERROR(INDEX('RC'!CZ$48:CZ$179,MATCH(A38,'RC'!BI$48:BI$179,0))),0,(INDEX('RC'!CZ$48:CZ$179,MATCH(A38,'RC'!BI$48:BI$179,0))))","v":0},0,{"$f":"IF(A38>='RC'!BM$29,0,IF(ISERROR(INDEX('RC'!CF$48:CF$179,MATCH(A38,'RC'!BI$48:BI$179,0))),0,(INDEX('RC'!CF$48:CF$179,MATCH(A38,'RC'!BI$48:BI$179,0)))))","v":0},0,0,null,null,null,null,null,null,null,0,0,"",""]
["2017-12-01",{"$f":"IF(ISERROR(INDEX('RC'!BJ$48:BJ$179,MATCH(A39,'RC'!BI$48:BI$179,0))),0,(INDEX('RC'!BJ$48:BJ$179,MATCH(A39,'RC'!BI$48:BI$179,0))))","v":0},{"$f":"IF(B39=\"\",0,IF(B39=0,0,INDEX('RC'!BK$48:BK$179,MATCH(A39,'RC'!BI$48:BI$179,0))))","v":0},{"$f":"IF(B39=\"\",0,IF(B39=0,0,INDEX('RC'!BL$48:BL$179,MATCH(A39,'RC'!BI$48:BI$179,0))))","v":0},{"$f":"IF(B39=\"\",0,IF(B39=0,0,INDEX('RC'!BM$48:BM$179,MATCH(A39,'RC'!BI$48:BI$179,0))))","v":0},0,{"$f":"IF(ISERROR(INDEX('RC'!BP$48:BP$179,MATCH(A39,'RC'!BI$48:BI$179,0))),0,(INDEX('RC'!BP$48:BP$179,MATCH(A39,'RC'!BI$48:BI$179,0))))","v":0},{"$f":"IF(B39=\"\",0,IF(B39=0,0,INDEX('RC'!BQ$48:BQ$179,MATCH(A39,'RC'!BI$48:BI$179,0))))","v":0},{"$f":"IF(B39=\"\",0,IF(B39=0,0,INDEX('RC'!BR$48:BR$179,MATCH(A39,'RC'!BI$48:BI$179,0))))","v":0},{"$f":"IF(B39=\"\",0,IF(B39=0,0,INDEX('RC'!BS$48:BS$179,MATCH(A39,'RC'!BI$48:BI$179,0))))","v":0},0,0,0,0,0,0,{"$f":"IF(ISERROR(INDEX('RC'!DG$48:DG$179,MATCH(A39,'RC'!BI$48:BI$179,0))),0,(INDEX('RC'!DG$48:DG$179,MATCH(A39,'RC'!BI$48:BI$179,0))))","v":0},{"$f":"IF(ISERROR(INDEX('RC'!DH$48:DH$179,MATCH(A39,'RC'!BI$48:BI$179,0))),0,(INDEX('RC'!DH$48:DH$179,MATCH(A39,'RC'!BI$48:BI$179,0))))","v":0},0,{"$f":"IF(Entry!B$28=\"Y\",0,IF(ISERROR(INDEX('RC'!CV$48:CV$179,MATCH(A39,'RC'!BI$48:BI$179,0))),0,(INDEX('RC'!CV$48:CV$179,MATCH(A39,'RC'!BI$48:BI$179,0)))))","v":0},{"$f":"IF(Entry!B$28=\"Y\",0,IF(ISERROR(INDEX('RC'!CW$48:CW$179,MATCH(A39,'RC'!BI$48:BI$179,0))),0,(INDEX('RC'!CW$48:CW$179,MATCH(A39,'RC'!BI$48:BI$179,0)))))","v":0},0,{"$f":"IF(ISERROR(INDEX('RC'!CY$48:CY$179,MATCH(A39,'RC'!BI$48:BI$179,0))),0,(INDEX('RC'!CY$48:CY$179,MATCH(A39,'RC'!BI$48:BI$179,0))))","v":0},{"$f":"IF(ISERROR(INDEX('RC'!CZ$48:CZ$179,MATCH(A39,'RC'!BI$48:BI$179,0))),0,(INDEX('RC'!CZ$48:CZ$179,MATCH(A39,'RC'!BI$48:BI$179,0))))","v":0},0,{"$f":"IF(A39>='RC'!BM$29,0,IF(ISERROR(INDEX('RC'!CF$48:CF$179,MATCH(A39,'RC'!BI$48:BI$179,0))),0,(INDEX('RC'!CF$48:CF$179,MATCH(A39,'RC'!BI$48:BI$179,0)))))","v":0},0,0,null,null,null,null,null,null,null,0,0,"",""]
["2018-01-01",{"$f":"IF(ISERROR(INDEX('RC'!BJ$48:BJ$179,MATCH(A40,'RC'!BI$48:BI$179,0))),0,(INDEX('RC'!BJ$48:BJ$179,MATCH(A40,'RC'!BI$48:BI$179,0))))","v":0},{"$f":"IF(B40=\"\",0,IF(B40=0,0,INDEX('RC'!BK$48:BK$179,MATCH(A40,'RC'!BI$48:BI$179,0))))","v":0},{"$f":"IF(B40=\"\",0,IF(B40=0,0,INDEX('RC'!BL$48:BL$179,MATCH(A40,'RC'!BI$48:BI$179,0))))","v":0},{"$f":"IF(B40=\"\",0,IF(B40=0,0,INDEX('RC'!BM$48:BM$179,MATCH(A40,'RC'!BI$48:BI$179,0))))","v":0},0,{"$f":"IF(ISERROR(INDEX('RC'!BP$48:BP$179,MATCH(A40,'RC'!BI$48:BI$179,0))),0,(INDEX('RC'!BP$48:BP$179,MATCH(A40,'RC'!BI$48:BI$179,0))))","v":0},{"$f":"IF(B40=\"\",0,IF(B40=0,0,INDEX('RC'!BQ$48:BQ$179,MATCH(A40,'RC'!BI$48:BI$179,0))))","v":0},{"$f":"IF(B40=\"\",0,IF(B40=0,0,INDEX('RC'!BR$48:BR$179,MATCH(A40,'RC'!BI$48:BI$179,0))))","v":0},{"$f":"IF(B40=\"\",0,IF(B40=0,0,INDEX('RC'!BS$48:BS$179,MATCH(A40,'RC'!BI$48:BI$179,0))))","v":0},0,0,0,0,0,0,{"$f":"IF(ISERROR(INDEX('RC'!DG$48:DG$179,MATCH(A40,'RC'!BI$48:BI$179,0))),0,(INDEX('RC'!DG$48:DG$179,MATCH(A40,'RC'!BI$48:BI$179,0))))","v":0},{"$f":"IF(ISERROR(INDEX('RC'!DH$48:DH$179,MATCH(A40,'RC'!BI$48:BI$179,0))),0,(INDEX('RC'!DH$48:DH$179,MATCH(A40,'RC'!BI$48:BI$179,0))))","v":0},0,{"$f":"IF(Entry!B$28=\"Y\",0,IF(ISERROR(INDEX('RC'!CV$48:CV$179,MATCH(A40,'RC'!BI$48:BI$179,0))),0,(INDEX('RC'!CV$48:CV$179,MATCH(A40,'RC'!BI$48:BI$179,0)))))","v":0},{"$f":"IF(Entry!B$28=\"Y\",0,IF(ISERROR(INDEX('RC'!CW$48:CW$179,MATCH(A40,'RC'!BI$48:BI$179,0))),0,(INDEX('RC'!CW$48:CW$179,MATCH(A40,'RC'!BI$48:BI$179,0)))))","v":0},0,{"$f":"IF(ISERROR(INDEX('RC'!CY$48:CY$179,MATCH(A40,'RC'!BI$48:BI$179,0))),0,(INDEX('RC'!CY$48:CY$179,MATCH(A40,'RC'!BI$48:BI$179,0))))","v":0},{"$f":"IF(ISERROR(INDEX('RC'!CZ$48:CZ$179,MATCH(A40,'RC'!BI$48:BI$179,0))),0,(INDEX('RC'!CZ$48:CZ$179,MATCH(A40,'RC'!BI$48:BI$179,0))))","v":0},0,{"$f":"IF(A40>='RC'!BM$29,0,IF(ISERROR(INDEX('RC'!CF$48:CF$179,MATCH(A40,'RC'!BI$48:BI$179,0))),0,(INDEX('RC'!CF$48:CF$179,MATCH(A40,'RC'!BI$48:BI$179,0)))))","v":0},0,0,null,null,null,null,null,null,null,0,0,"",""]
["2018-02-01",{"$f":"IF(ISERROR(INDEX('RC'!BJ$48:BJ$179,MATCH(A41,'RC'!BI$48:BI$179,0))),0,(INDEX('RC'!BJ$48:BJ$179,MATCH(A41,'RC'!BI$48:BI$179,0))))","v":0},{"$f":"IF(B41=\"\",0,IF(B41=0,0,INDEX('RC'!BK$48:BK$179,MATCH(A41,'RC'!BI$48:BI$179,0))))","v":0},{"$f":"IF(B41=\"\",0,IF(B41=0,0,INDEX('RC'!BL$48:BL$179,MATCH(A41,'RC'!BI$48:BI$179,0))))","v":0},{"$f":"IF(B41=\"\",0,IF(B41=0,0,INDEX('RC'!BM$48:BM$179,MATCH(A41,'RC'!BI$48:BI$179,0))))","v":0},0,{"$f":"IF(ISERROR(INDEX('RC'!BP$48:BP$179,MATCH(A41,'RC'!BI$48:BI$179,0))),0,(INDEX('RC'!BP$48:BP$179,MATCH(A41,'RC'!BI$48:BI$179,0))))","v":0},{"$f":"IF(B41=\"\",0,IF(B41=0,0,INDEX('RC'!BQ$48:BQ$179,MATCH(A41,'RC'!BI$48:BI$179,0))))","v":0},{"$f":"IF(B41=\"\",0,IF(B41=0,0,INDEX('RC'!BR$48:BR$179,MATCH(A41,'RC'!BI$48:BI$179,0))))","v":0},{"$f":"IF(B41=\"\",0,IF(B41=0,0,INDEX('RC'!BS$48:BS$179,MATCH(A41,'RC'!BI$48:BI$179,0))))","v":0},0,0,0,0,0,0,{"$f":"IF(ISERROR(INDEX('RC'!DG$48:DG$179,MATCH(A41,'RC'!BI$48:BI$179,0))),0,(INDEX('RC'!DG$48:DG$179,MATCH(A41,'RC'!BI$48:BI$179,0))))","v":0},{"$f":"IF(ISERROR(INDEX('RC'!DH$48:DH$179,MATCH(A41,'RC'!BI$48:BI$179,0))),0,(INDEX('RC'!DH$48:DH$179,MATCH(A41,'RC'!BI$48:BI$179,0))))","v":0},0,{"$f":"IF(Entry!B$28=\"Y\",0,IF(ISERROR(INDEX('RC'!CV$48:CV$179,MATCH(A41,'RC'!BI$48:BI$179,0))),0,(INDEX('RC'!CV$48:CV$179,MATCH(A41,'RC'!BI$48:BI$179,0)))))","v":0},{"$f":"IF(Entry!B$28=\"Y\",0,IF(ISERROR(INDEX('RC'!CW$48:CW$179,MATCH(A41,'RC'!BI$48:BI$179,0))),0,(INDEX('RC'!CW$48:CW$179,MATCH(A41,'RC'!BI$48:BI$179,0)))))","v":0},0,{"$f":"IF(ISERROR(INDEX('RC'!CY$48:CY$179,MATCH(A41,'RC'!BI$48:BI$179,0))),0,(INDEX('RC'!CY$48:CY$179,MATCH(A41,'RC'!BI$48:BI$179,0))))","v":0},{"$f":"IF(ISERROR(INDEX('RC'!CZ$48:CZ$179,MATCH(A41,'RC'!BI$48:BI$179,0))),0,(INDEX('RC'!CZ$48:CZ$179,MATCH(A41,'RC'!BI$48:BI$179,0))))","v":0},0,{"$f":"IF(A41>='RC'!BM$29,0,IF(ISERROR(INDEX('RC'!CF$48:CF$179,MATCH(A41,'RC'!BI$48:BI$179,0))),0,(INDEX('RC'!CF$48:CF$179,MATCH(A41,'RC'!BI$48:BI$179,0)))))","v":0},0,0,null,null,null,null,null,null,null,0,0,"",""]
[{"$f":"EDATE(A41,1)","v":"2018-03-01"},{"$f":"IF(ISERROR(INDEX('RC'!BJ$48:BJ$179,MATCH(A42,'RC'!BI$48:BI$179,0))),0,(INDEX('RC'!BJ$48:BJ$179,MATCH(A42,'RC'!BI$48:BI$179,0))))","v":0},{"$f":"IF(B42=\"\",0,IF(B42=0,0,INDEX('RC'!BK$48:BK$179,MATCH(A42,'RC'!BI$48:BI$179,0))))","v":0},{"$f":"IF(B42=\"\",0,IF(B42=0,0,INDEX('RC'!BL$48:BL$179,MATCH(A42,'RC'!BI$48:BI$179,0))))","v":0},{"$f":"IF(B42=\"\",0,IF(B42=0,0,INDEX('RC'!BM$48:BM$179,MATCH(A42,'RC'!BI$48:BI$179,0))))","v":0},0,{"$f":"IF(ISERROR(INDEX('RC'!BP$48:BP$179,MATCH(A42,'RC'!BI$48:BI$179,0))),0,(INDEX('RC'!BP$48:BP$179,MATCH(A42,'RC'!BI$48:BI$179,0))))","v":0},{"$f":"IF(B42=\"\",0,IF(B42=0,0,INDEX('RC'!BQ$48:BQ$179,MATCH(A42,'RC'!BI$48:BI$179,0))))","v":0},{"$f":"IF(B42=\"\",0,IF(B42=0,0,INDEX('RC'!BR$48:BR$179,MATCH(A42,'RC'!BI$48:BI$179,0))))","v":0},{"$f":"IF(B42=\"\",0,IF(B42=0,0,INDEX('RC'!BS$48:BS$179,MATCH(A42,'RC'!BI$48:BI$179,0))))","v":0},0,0,0,0,0,0,{"$f":"IF(ISERROR(INDEX('RC'!DG$48:DG$179,MATCH(A42,'RC'!BI$48:BI$179,0))),0,(INDEX('RC'!DG$48:DG$179,MATCH(A42,'RC'!BI$48:BI$179,0))))","v":0},{"$f":"IF(ISERROR(INDEX('RC'!DH$48:DH$179,MATCH(A42,'RC'!BI$48:BI$179,0))),0,(INDEX('RC'!DH$48:DH$179,MATCH(A42,'RC'!BI$48:BI$179,0))))","v":0},0,{"$f":"IF(Entry!B$28=\"Y\",0,IF(ISERROR(INDEX('RC'!CV$48:CV$179,MATCH(A42,'RC'!BI$48:BI$179,0))),0,(INDEX('RC'!CV$48:CV$179,MATCH(A42,'RC'!BI$48:BI$179,0)))))","v":0},{"$f":"IF(Entry!B$28=\"Y\",0,IF(ISERROR(INDEX('RC'!CW$48:CW$179,MATCH(A42,'RC'!BI$48:BI$179,0))),0,(INDEX('RC'!CW$48:CW$179,MATCH(A42,'RC'!BI$48:BI$179,0)))))","v":0},0,{"$f":"IF(ISERROR(INDEX('RC'!CY$48:CY$179,MATCH(A42,'RC'!BI$48:BI$179,0))),0,(INDEX('RC'!CY$48:CY$179,MATCH(A42,'RC'!BI$48:BI$179,0))))","v":0},{"$f":"IF(ISERROR(INDEX('RC'!CZ$48:CZ$179,MATCH(A42,'RC'!BI$48:BI$179,0))),0,(INDEX('RC'!CZ$48:CZ$179,MATCH(A42,'RC'!BI$48:BI$179,0))))","v":0},0,{"$f":"IF(A42>='RC'!BM$29,0,IF(ISERROR(INDEX('RC'!CF$48:CF$179,MATCH(A42,'RC'!BI$48:BI$179,0))),0,(INDEX('RC'!CF$48:CF$179,MATCH(A42,'RC'!BI$48:BI$179,0)))))","v":0},0,0,null,null,null,null,null,null,null,0,0,"",""]
["2018-04-01",{"$f":"IF(ISERROR(INDEX('RC'!BJ$48:BJ$179,MATCH(A43,'RC'!BI$48:BI$179,0))),0,(INDEX('RC'!BJ$48:BJ$179,MATCH(A43,'RC'!BI$48:BI$179,0))))","v":0},{"$f":"IF(B43=\"\",0,IF(B43=0,0,INDEX('RC'!BK$48:BK$179,MATCH(A43,'RC'!BI$48:BI$179,0))))","v":0},{"$f":"IF(B43=\"\",0,IF(B43=0,0,INDEX('RC'!BL$48:BL$179,MATCH(A43,'RC'!BI$48:BI$179,0))))","v":0},{"$f":"IF(B43=\"\",0,IF(B43=0,0,INDEX('RC'!BM$48:BM$179,MATCH(A43,'RC'!BI$48:BI$179,0))))","v":0},0,{"$f":"IF(ISERROR(INDEX('RC'!BP$48:BP$179,MATCH(A43,'RC'!BI$48:BI$179,0))),0,(INDEX('RC'!BP$48:BP$179,MATCH(A43,'RC'!BI$48:BI$179,0))))","v":0},{"$f":"IF(B43=\"\",0,IF(B43=0,0,INDEX('RC'!BQ$48:BQ$179,MATCH(A43,'RC'!BI$48:BI$179,0))))","v":0},{"$f":"IF(B43=\"\",0,IF(B43=0,0,INDEX('RC'!BR$48:BR$179,MATCH(A43,'RC'!BI$48:BI$179,0))))","v":0},{"$f":"IF(B43=\"\",0,IF(B43=0,0,INDEX('RC'!BS$48:BS$179,MATCH(A43,'RC'!BI$48:BI$179,0))))","v":0},0,0,0,0,0,0,{"$f":"IF(ISERROR(INDEX('RC'!DG$48:DG$179,MATCH(A43,'RC'!BI$48:BI$179,0))),0,(INDEX('RC'!DG$48:DG$179,MATCH(A43,'RC'!BI$48:BI$179,0))))","v":0},{"$f":"IF(ISERROR(INDEX('RC'!DH$48:DH$179,MATCH(A43,'RC'!BI$48:BI$179,0))),0,(INDEX('RC'!DH$48:DH$179,MATCH(A43,'RC'!BI$48:BI$179,0))))","v":0},0,{"$f":"IF(Entry!B$28=\"Y\",0,IF(ISERROR(INDEX('RC'!CV$48:CV$179,MATCH(A43,'RC'!BI$48:BI$179,0))),0,(INDEX('RC'!CV$48:CV$179,MATCH(A43,'RC'!BI$48:BI$179,0)))))","v":0},{"$f":"IF(Entry!B$28=\"Y\",0,IF(ISERROR(INDEX('RC'!CW$48:CW$179,MATCH(A43,'RC'!BI$48:BI$179,0))),0,(INDEX('RC'!CW$48:CW$179,MATCH(A43,'RC'!BI$48:BI$179,0)))))","v":0},0,{"$f":"IF(ISERROR(INDEX('RC'!CY$48:CY$179,MATCH(A43,'RC'!BI$48:BI$179,0))),0,(INDEX('RC'!CY$48:CY$179,MATCH(A43,'RC'!BI$48:BI$179,0))))","v":0},{"$f":"IF(ISERROR(INDEX('RC'!CZ$48:CZ$179,MATCH(A43,'RC'!BI$48:BI$179,0))),0,(INDEX('RC'!CZ$48:CZ$179,MATCH(A43,'RC'!BI$48:BI$179,0))))","v":0},0,{"$f":"IF(A43>='RC'!BM$29,0,IF(ISERROR(INDEX('RC'!CF$48:CF$179,MATCH(A43,'RC'!BI$48:BI$179,0))),0,(INDEX('RC'!CF$48:CF$179,MATCH(A43,'RC'!BI$48:BI$179,0)))))","v":0},{"$f":"S43+V43+Y43+Z43","v":0},0,null,null,null,null,null,null,null,0,0,"",""]
[{"$f":"EDATE(A43,1)","v":"2018-05-01"},{"$f":"IF(ISERROR(INDEX('RC'!BJ$48:BJ$179,MATCH(A44,'RC'!BI$48:BI$179,0))),0,(INDEX('RC'!BJ$48:BJ$179,MATCH(A44,'RC'!BI$48:BI$179,0))))","v":0},{"$f":"IF(B44=\"\",0,IF(B44=0,0,INDEX('RC'!BK$48:BK$179,MATCH(A44,'RC'!BI$48:BI$179,0))))","v":0},{"$f":"IF(B44=\"\",0,IF(B44=0,0,INDEX('RC'!BL$48:BL$179,MATCH(A44,'RC'!BI$48:BI$179,0))))","v":0},{"$f":"IF(B44=\"\",0,IF(B44=0,0,INDEX('RC'!BM$48:BM$179,MATCH(A44,'RC'!BI$48:BI$179,0))))","v":0},0,{"$f":"IF(ISERROR(INDEX('RC'!BP$48:BP$179,MATCH(A44,'RC'!BI$48:BI$179,0))),0,(INDEX('RC'!BP$48:BP$179,MATCH(A44,'RC'!BI$48:BI$179,0))))","v":0},{"$f":"IF(B44=\"\",0,IF(B44=0,0,INDEX('RC'!BQ$48:BQ$179,MATCH(A44,'RC'!BI$48:BI$179,0))))","v":0},{"$f":"IF(B44=\"\",0,IF(B44=0,0,INDEX('RC'!BR$48:BR$179,MATCH(A44,'RC'!BI$48:BI$179,0))))","v":0},{"$f":"IF(B44=\"\",0,IF(B44=0,0,INDEX('RC'!BS$48:BS$179,MATCH(A44,'RC'!BI$48:BI$179,0))))","v":0},0,0,0,0,0,0,{"$f":"IF(ISERROR(INDEX('RC'!DG$48:DG$179,MATCH(A44,'RC'!BI$48:BI$179,0))),0,(INDEX('RC'!DG$48:DG$179,MATCH(A44,'RC'!BI$48:BI$179,0))))","v":0},{"$f":"IF(ISERROR(INDEX('RC'!DH$48:DH$179,MATCH(A44,'RC'!BI$48:BI$179,0))),0,(INDEX('RC'!DH$48:DH$179,MATCH(A44,'RC'!BI$48:BI$179,0))))","v":0},0,{"$f":"IF(Entry!B$28=\"Y\",0,IF(ISERROR(INDEX('RC'!CV$48:CV$179,MATCH(A44,'RC'!BI$48:BI$179,0))),0,(INDEX('RC'!CV$48:CV$179,MATCH(A44,'RC'!BI$48:BI$179,0)))))","v":0},{"$f":"IF(Entry!B$28=\"Y\",0,IF(ISERROR(INDEX('RC'!CW$48:CW$179,MATCH(A44,'RC'!BI$48:BI$179,0))),0,(INDEX('RC'!CW$48:CW$179,MATCH(A44,'RC'!BI$48:BI$179,0)))))","v":0},0,{"$f":"IF(ISERROR(INDEX('RC'!CY$48:CY$179,MATCH(A44,'RC'!BI$48:BI$179,0))),0,(INDEX('RC'!CY$48:CY$179,MATCH(A44,'RC'!BI$48:BI$179,0))))","v":0},{"$f":"IF(ISERROR(INDEX('RC'!CZ$48:CZ$179,MATCH(A44,'RC'!BI$48:BI$179,0))),0,(INDEX('RC'!CZ$48:CZ$179,MATCH(A44,'RC'!BI$48:BI$179,0))))","v":0},0,{"$f":"IF(A44>='RC'!BM$29,0,IF(ISERROR(INDEX('RC'!CF$48:CF$179,MATCH(A44,'RC'!BI$48:BI$179,0))),0,(INDEX('RC'!CF$48:CF$179,MATCH(A44,'RC'!BI$48:BI$179,0)))))","v":0},0,0,null,null,null,null,null,null,null,0,0,"",""]
["Totalc/f",{"$f":"SUM(B12:B44)","v":47709},{"$f":"SUM(C12:C44)","v":56774},0,4771,109254,45201,53789,0,4520,{"$f":"SUM(K12:K44)","v":103510},2508,2985,0,251,5744,6600,4200,2400,{"$f":"SUM(T12:T44)","v":1160},{"$f":"IF(Entry!B$28=\"Y\",0,IF(ISERROR(INDEX('RC'!CW$48:CW$179,MATCH(A45,'RC'!BI$48:BI$179,0))),0,(INDEX('RC'!CW$48:CW$179,MATCH(A45,'RC'!BI$48:BI$179,0)))))","v":0},{"$f":"SUM(V12:V44)","v":0},2600,2600,0,0,{"$f":"SUM(AA12:AA44)","v":2400},3344,null,null,null,null,null,null,null,{"$f":"IF(B44=0,0,IF(B47=0,0,1))","v":0},{"$f":"AJ45","v":0},{"$f":"IF(AK45=0,\"\",AK45)","v":""},{"$f":"IF(AL45=0,\"\",AL45)","v":""}]
["TotalB/f",{"$f":"B45","v":47709},{"$f":"C45","v":56774},0,4771,109254,45201,53789,0,4520,{"$f":"K45","v":103510},2508,2985,0,251,5744,6600,4200,2400,{"$f":"T45","v":1160},{"$f":"IF(Entry!B$28=\"Y\",0,IF(ISERROR(INDEX('RC'!CW$48:CW$179,MATCH(A46,'RC'!BI$48:BI$179,0))),0,(INDEX('RC'!CW$48:CW$179,MATCH(A46,'RC'!BI$48:BI$179,0)))))","v":0},{"$f":"V45","v":0},2600,2600,0,0,{"$f":"AA45","v":2400},3344,null,null,null,null,null,null,null,{"$f":"IF(B44=0,0,IF(B47=0,0,1))","v":0},{"$f":"AJ46","v":0},{"$f":"IF(AK46=0,\"\",AK46)","v":""},{"$f":"IF(AL46=0,\"\",AL46)","v":""}]
[{"$f":"EDATE(A44,1)","v":"2018-06-01"},{"$f":"IF(ISERROR(INDEX('RC'!BJ$48:BJ$179,MATCH(A47,'RC'!BI$48:BI$179,0))),0,(INDEX('RC'!BJ$48:BJ$179,MATCH(A47,'RC'!BI$48:BI$179,0))))","v":0},{"$f":"IF(B47=\"\",0,IF(B47=0,0,INDEX('RC'!BK$48:BK$179,MATCH(A47,'RC'!BI$48:BI$179,0))))","v":0},{"$f":"IF(B47=\"\",0,IF(B47=0,0,INDEX('RC'!BL$48:BL$179,MATCH(A47,'RC'!BI$48:BI$179,0))))","v":0},{"$f":"IF(B47=\"\",0,IF(B47=0,0,INDEX('RC'!BM$48:BM$179,MATCH(A47,'RC'!BI$48:BI$179,0))))","v":0},0,{"$f":"IF(ISERROR(INDEX('RC'!BP$48:BP$179,MATCH(A47,'RC'!BI$48:BI$179,0))),0,(INDEX('RC'!BP$48:BP$179,MATCH(A47,'RC'!BI$48:BI$179,0))))","v":0},{"$f":"IF(B47=\"\",0,IF(B47=0,0,INDEX('RC'!BQ$48:BQ$179,MATCH(A47,'RC'!BI$48:BI$179,0))))","v":0},{"$f":"IF(B47=\"\",0,IF(B47=0,0,INDEX('RC'!BR$48:BR$179,MATCH(A47,'RC'!BI$48:BI$179,0))))","v":0},{"$f":"IF(B47=\"\",0,IF(B47=0,0,INDEX('RC'!BS$48:BS$179,MATCH(A47,'RC'!BI$48:BI$179,0))))","v":0},0,0,0,0,0,0,{"$f":"IF(ISERROR(INDEX('RC'!DG$48:DG$179,MATCH(A47,'RC'!BI$48:BI$179,0))),0,(INDEX('RC'!DG$48:DG$179,MATCH(A47,'RC'!BI$48:BI$179,0))))","v":0},{"$f":"IF(ISERROR(INDEX('RC'!DH$48:DH$179,MATCH(A47,'RC'!BI$48:BI$179,0))),0,(INDEX('RC'!DH$48:DH$179,MATCH(A47,'RC'!BI$48:BI$179,0))))","v":0},0,{"$f":"IF(Entry!B$28=\"Y\",0,IF(ISERROR(INDEX('RC'!CV$48:CV$179,MATCH(A47,'RC'!BI$48:BI$179,0))),0,(INDEX('RC'!CV$48:CV$179,MATCH(A47,'RC'!BI$48:BI$179,0)))))","v":0},{"$f":"IF(Entry!B$28=\"Y\",0,IF(ISERROR(INDEX('RC'!CW$48:CW$179,MATCH(A47,'RC'!BI$48:BI$179,0))),0,(INDEX('RC'!CW$48:CW$179,MATCH(A47,'RC'!BI$48:BI$179,0)))))","v":0},0,{"$f":"IF(ISERROR(INDEX('RC'!CY$48:CY$179,MATCH(A47,'RC'!BI$48:BI$179,0))),0,(INDEX('RC'!CY$48:CY$179,MATCH(A47,'RC'!BI$48:BI$179,0))))","v":0},{"$f":"IF(ISERROR(INDEX('RC'!CZ$48:CZ$179,MATCH(A47,'RC'!BI$48:BI$179,0))),0,(INDEX('RC'!CZ$48:CZ$179,MATCH(A47,'RC'!BI$48:BI$179,0))))","v":0},0,{"$f":"IF(A47>='RC'!BM$29,0,IF(ISERROR(INDEX('RC'!CF$48:CF$179,MATCH(A47,'RC'!BI$48:BI$179,0))),0,(INDEX('RC'!CF$48:CF$179,MATCH(A47,'RC'!BI$48:BI$179,0)))))","v":0},{"$f":"S47+V47+Y47+Z47","v":0},{"$f":"P47-AA47","v":0},null,null,null,null,null,null,null,0,0,"",""]
[{"$f":"EDATE(A47,1)","v":"2018-07-01"},{"$f":"IF(ISERROR(INDEX('RC'!BJ$48:BJ$179,MATCH(A48,'RC'!BI$48:BI$179,0))),0,(INDEX('RC'!BJ$48:BJ$179,MATCH(A48,'RC'!BI$48:BI$179,0))))","v":0},{"$f":"IF(B48=\"\",0,IF(B48=0,0,INDEX('RC'!BK$48:BK$179,MATCH(A48,'RC'!BI$48:BI$179,0))))","v":0},{"$f":"IF(B48=\"\",0,IF(B48=0,0,INDEX('RC'!BL$48:BL$179,MATCH(A48,'RC'!BI$48:BI$179,0))))","v":0},{"$f":"IF(B48=\"\",0,IF(B48=0,0,INDEX('RC'!BM$48:BM$179,MATCH(A48,'RC'!BI$48:BI$179,0))))","v":0},0,{"$f":"IF(ISERROR(INDEX('RC'!BP$48:BP$179,MATCH(A48,'RC'!BI$48:BI$179,0))),0,(INDEX('RC'!BP$48:BP$179,MATCH(A48,'RC'!BI$48:BI$179,0))))","v":0},{"$f":"IF(B48=\"\",0,IF(B48=0,0,INDEX('RC'!BQ$48:BQ$179,MATCH(A48,'RC'!BI$48:BI$179,0))))","v":0},{"$f":"IF(B48=\"\",0,IF(B48=0,0,INDEX('RC'!BR$48:BR$179,MATCH(A48,'RC'!BI$48:BI$179,0))))","v":0},{"$f":"IF(B48=\"\",0,IF(B48=0,0,INDEX('RC'!BS$48:BS$179,MATCH(A48,'RC'!BI$48:BI$179,0))))","v":0},0,0,0,0,0,0,{"$f":"IF(ISERROR(INDEX('RC'!DG$48:DG$179,MATCH(A48,'RC'!BI$48:BI$179,0))),0,(INDEX('RC'!DG$48:DG$179,MATCH(A48,'RC'!BI$48:BI$179,0))))","v":0},{"$f":"IF(ISERROR(INDEX('RC'!DH$48:DH$179,MATCH(A48,'RC'!BI$48:BI$179,0))),0,(INDEX('RC'!DH$48:DH$179,MATCH(A48,'RC'!BI$48:BI$179,0))))","v":0},0,{"$f":"IF(Entry!B$28=\"Y\",0,IF(ISERROR(INDEX('RC'!CV$48:CV$179,MATCH(A48,'RC'!BI$48:BI$179,0))),0,(INDEX('RC'!CV$48:CV$179,MATCH(A48,'RC'!BI$48:BI$179,0)))))","v":0},{"$f":"IF(Entry!B$28=\"Y\",0,IF(ISERROR(INDEX('RC'!CW$48:CW$179,MATCH(A48,'RC'!BI$48:BI$179,0))),0,(INDEX('RC'!CW$48:CW$179,MATCH(A48,'RC'!BI$48:BI$179,0)))))","v":0},0,{"$f":"IF(ISERROR(INDEX('RC'!CY$48:CY$179,MATCH(A48,'RC'!BI$48:BI$179,0))),0,(INDEX('RC'!CY$48:CY$179,MATCH(A48,'RC'!BI$48:BI$179,0))))","v":0},{"$f":"IF(ISERROR(INDEX('RC'!CZ$48:CZ$179,MATCH(A48,'RC'!BI$48:BI$179,0))),0,(INDEX('RC'!CZ$48:CZ$179,MATCH(A48,'RC'!BI$48:BI$179,0))))","v":0},0,{"$f":"IF(A48>='RC'!BM$29,0,IF(ISERROR(INDEX('RC'!CF$48:CF$179,MATCH(A48,'RC'!BI$48:BI$179,0))),0,(INDEX('RC'!CF$48:CF$179,MATCH(A48,'RC'!BI$48:BI$179,0)))))","v":0},0,0,null,null,null,null,null,null,null,0,0,"",""]
["2018-08-01",{"$f":"IF(ISERROR(INDEX('RC'!BJ$48:BJ$179,MATCH(A49,'RC'!BI$48:BI$179,0))),0,(INDEX('RC'!BJ$48:BJ$179,MATCH(A49,'RC'!BI$48:BI$179,0))))","v":0},{"$f":"IF(B49=\"\",0,IF(B49=0,0,INDEX('RC'!BK$48:BK$179,MATCH(A49,'RC'!BI$48:BI$179,0))))","v":0},{"$f":"IF(B49=\"\",0,IF(B49=0,0,INDEX('RC'!BL$48:BL$179,MATCH(A49,'RC'!BI$48:BI$179,0))))","v":0},{"$f":"IF(B49=\"\",0,IF(B49=0,0,INDEX('RC'!BM$48:BM$179,MATCH(A49,'RC'!BI$48:BI$179,0))))","v":0},0,{"$f":"IF(ISERROR(INDEX('RC'!BP$48:BP$179,MATCH(A49,'RC'!BI$48:BI$179,0))),0,(INDEX('RC'!BP$48:BP$179,MATCH(A49,'RC'!BI$48:BI$179,0))))","v":0},{"$f":"IF(B49=\"\",0,IF(B49=0,0,INDEX('RC'!BQ$48:BQ$179,MATCH(A49,'RC'!BI$48:BI$179,0))))","v":0},{"$f":"IF(B49=\"\",0,IF(B49=0,0,INDEX('RC'!BR$48:BR$179,MATCH(A49,'RC'!BI$48:BI$179,0))))","v":0},{"$f":"IF(B49=\"\",0,IF(B49=0,0,INDEX('RC'!BS$48:BS$179,MATCH(A49,'RC'!BI$48:BI$179,0))))","v":0},0,0,0,0,0,0,{"$f":"IF(ISERROR(INDEX('RC'!DG$48:DG$179,MATCH(A49,'RC'!BI$48:BI$179,0))),0,(INDEX('RC'!DG$48:DG$179,MATCH(A49,'RC'!BI$48:BI$179,0))))","v":0},{"$f":"IF(ISERROR(INDEX('RC'!DH$48:DH$179,MATCH(A49,'RC'!BI$48:BI$179,0))),0,(INDEX('RC'!DH$48:DH$179,MATCH(A49,'RC'!BI$48:BI$179,0))))","v":0},0,{"$f":"IF(Entry!B$28=\"Y\",0,IF(ISERROR(INDEX('RC'!CV$48:CV$179,MATCH(A49,'RC'!BI$48:BI$179,0))),0,(INDEX('RC'!CV$48:CV$179,MATCH(A49,'RC'!BI$48:BI$179,0)))))","v":0},{"$f":"IF(Entry!B$28=\"Y\",0,IF(ISERROR(INDEX('RC'!CW$48:CW$179,MATCH(A49,'RC'!BI$48:BI$179,0))),0,(INDEX('RC'!CW$48:CW$179,MATCH(A49,'RC'!BI$48:BI$179,0)))))","v":0},0,{"$f":"IF(ISERROR(INDEX('RC'!CY$48:CY$179,MATCH(A49,'RC'!BI$48:BI$179,0))),0,(INDEX('RC'!CY$48:CY$179,MATCH(A49,'RC'!BI$48:BI$179,0))))","v":0},{"$f":"IF(ISERROR(INDEX('RC'!CZ$48:CZ$179,MATCH(A49,'RC'!BI$48:BI$179,0))),0,(INDEX('RC'!CZ$48:CZ$179,MATCH(A49,'RC'!BI$48:BI$179,0))))","v":0},0,{"$f":"IF(A49>='RC'!BM$29,0,IF(ISERROR(INDEX('RC'!CF$48:CF$179,MATCH(A49,'RC'!BI$48:BI$179,0))),0,(INDEX('RC'!CF$48:CF$179,MATCH(A49,'RC'!BI$48:BI$179,0)))))","v":0},0,0,null,null,null,null,null,null,null,0,0,"",""]
["2018-09-01",{"$f":"IF(ISERROR(INDEX('RC'!BJ$48:BJ$179,MATCH(A50,'RC'!BI$48:BI$179,0))),0,(INDEX('RC'!BJ$48:BJ$179,MATCH(A50,'RC'!BI$48:BI$179,0))))","v":0},{"$f":"IF(B50=\"\",0,IF(B50=0,0,INDEX('RC'!BK$48:BK$179,MATCH(A50,'RC'!BI$48:BI$179,0))))","v":0},{"$f":"IF(B50=\"\",0,IF(B50=0,0,INDEX('RC'!BL$48:BL$179,MATCH(A50,'RC'!BI$48:BI$179,0))))","v":0},{"$f":"IF(B50=\"\",0,IF(B50=0,0,INDEX('RC'!BM$48:BM$179,MATCH(A50,'RC'!BI$48:BI$179,0))))","v":0},0,{"$f":"IF(ISERROR(INDEX('RC'!BP$48:BP$179,MATCH(A50,'RC'!BI$48:BI$179,0))),0,(INDEX('RC'!BP$48:BP$179,MATCH(A50,'RC'!BI$48:BI$179,0))))","v":0},{"$f":"IF(B50=\"\",0,IF(B50=0,0,INDEX('RC'!BQ$48:BQ$179,MATCH(A50,'RC'!BI$48:BI$179,0))))","v":0},{"$f":"IF(B50=\"\",0,IF(B50=0,0,INDEX('RC'!BR$48:BR$179,MATCH(A50,'RC'!BI$48:BI$179,0))))","v":0},{"$f":"IF(B50=\"\",0,IF(B50=0,0,INDEX('RC'!BS$48:BS$179,MATCH(A50,'RC'!BI$48:BI$179,0))))","v":0},0,0,0,0,0,0,{"$f":"IF(ISERROR(INDEX('RC'!DG$48:DG$179,MATCH(A50,'RC'!BI$48:BI$179,0))),0,(INDEX('RC'!DG$48:DG$179,MATCH(A50,'RC'!BI$48:BI$179,0))))","v":0},{"$f":"IF(ISERROR(INDEX('RC'!DH$48:DH$179,MATCH(A50,'RC'!BI$48:BI$179,0))),0,(INDEX('RC'!DH$48:DH$179,MATCH(A50,'RC'!BI$48:BI$179,0))))","v":0},0,{"$f":"IF(Entry!B$28=\"Y\",0,IF(ISERROR(INDEX('RC'!CV$48:CV$179,MATCH(A50,'RC'!BI$48:BI$179,0))),0,(INDEX('RC'!CV$48:CV$179,MATCH(A50,'RC'!BI$48:BI$179,0)))))","v":0},{"$f":"IF(Entry!B$28=\"Y\",0,IF(ISERROR(INDEX('RC'!CW$48:CW$179,MATCH(A50,'RC'!BI$48:BI$179,0))),0,(INDEX('RC'!CW$48:CW$179,MATCH(A50,'RC'!BI$48:BI$179,0)))))","v":0},0,{"$f":"IF(ISERROR(INDEX('RC'!CY$48:CY$179,MATCH(A50,'RC'!BI$48:BI$179,0))),0,(INDEX('RC'!CY$48:CY$179,MATCH(A50,'RC'!BI$48:BI$179,0))))","v":0},{"$f":"IF(ISERROR(INDEX('RC'!CZ$48:CZ$179,MATCH(A50,'RC'!BI$48:BI$179,0))),0,(INDEX('RC'!CZ$48:CZ$179,MATCH(A50,'RC'!BI$48:BI$179,0))))","v":0},0,{"$f":"IF(A50>='RC'!BM$29,0,IF(ISERROR(INDEX('RC'!CF$48:CF$179,MATCH(A50,'RC'!BI$48:BI$179,0))),0,(INDEX('RC'!CF$48:CF$179,MATCH(A50,'RC'!BI$48:BI$179,0)))))","v":0},0,0,null,null,null,null,null,null,null,0,0,"",""]
["2018-10-01",{"$f":"IF(ISERROR(INDEX('RC'!BJ$48:BJ$179,MATCH(A51,'RC'!BI$48:BI$179,0))),0,(INDEX('RC'!BJ$48:BJ$179,MATCH(A51,'RC'!BI$48:BI$179,0))))","v":0},{"$f":"IF(B51=\"\",0,IF(B51=0,0,INDEX('RC'!BK$48:BK$179,MATCH(A51,'RC'!BI$48:BI$179,0))))","v":0},{"$f":"IF(B51=\"\",0,IF(B51=0,0,INDEX('RC'!BL$48:BL$179,MATCH(A51,'RC'!BI$48:BI$179,0))))","v":0},{"$f":"IF(B51=\"\",0,IF(B51=0,0,INDEX('RC'!BM$48:BM$179,MATCH(A51,'RC'!BI$48:BI$179,0))))","v":0},0,{"$f":"IF(ISERROR(INDEX('RC'!BP$48:BP$179,MATCH(A51,'RC'!BI$48:BI$179,0))),0,(INDEX('RC'!BP$48:BP$179,MATCH(A51,'RC'!BI$48:BI$179,0))))","v":0},{"$f":"IF(B51=\"\",0,IF(B51=0,0,INDEX('RC'!BQ$48:BQ$179,MATCH(A51,'RC'!BI$48:BI$179,0))))","v":0},{"$f":"IF(B51=\"\",0,IF(B51=0,0,INDEX('RC'!BR$48:BR$179,MATCH(A51,'RC'!BI$48:BI$179,0))))","v":0},{"$f":"IF(B51=\"\",0,IF(B51=0,0,INDEX('RC'!BS$48:BS$179,MATCH(A51,'RC'!BI$48:BI$179,0))))","v":0},0,0,0,0,0,0,{"$f":"IF(ISERROR(INDEX('RC'!DG$48:DG$179,MATCH(A51,'RC'!BI$48:BI$179,0))),0,(INDEX('RC'!DG$48:DG$179,MATCH(A51,'RC'!BI$48:BI$179,0))))","v":0},{"$f":"IF(ISERROR(INDEX('RC'!DH$48:DH$179,MATCH(A51,'RC'!BI$48:BI$179,0))),0,(INDEX('RC'!DH$48:DH$179,MATCH(A51,'RC'!BI$48:BI$179,0))))","v":0},0,{"$f":"IF(Entry!B$28=\"Y\",0,IF(ISERROR(INDEX('RC'!CV$48:CV$179,MATCH(A51,'RC'!BI$48:BI$179,0))),0,(INDEX('RC'!CV$48:CV$179,MATCH(A51,'RC'!BI$48:BI$179,0)))))","v":0},{"$f":"IF(Entry!B$28=\"Y\",0,IF(ISERROR(INDEX('RC'!CW$48:CW$179,MATCH(A51,'RC'!BI$48:BI$179,0))),0,(INDEX('RC'!CW$48:CW$179,MATCH(A51,'RC'!BI$48:BI$179,0)))))","v":0},0,{"$f":"IF(ISERROR(INDEX('RC'!CY$48:CY$179,MATCH(A51,'RC'!BI$48:BI$179,0))),0,(INDEX('RC'!CY$48:CY$179,MATCH(A51,'RC'!BI$48:BI$179,0))))","v":0},{"$f":"IF(ISERROR(INDEX('RC'!CZ$48:CZ$179,MATCH(A51,'RC'!BI$48:BI$179,0))),0,(INDEX('RC'!CZ$48:CZ$179,MATCH(A51,'RC'!BI$48:BI$179,0))))","v":0},0,{"$f":"IF(A51>='RC'!BM$29,0,IF(ISERROR(INDEX('RC'!CF$48:CF$179,MATCH(A51,'RC'!BI$48:BI$179,0))),0,(INDEX('RC'!CF$48:CF$179,MATCH(A51,'RC'!BI$48:BI$179,0)))))","v":0},0,0,null,null,null,null,null,null,null,0,0,"",""]
["2018-11-01",{"$f":"IF(ISERROR(INDEX('RC'!BJ$48:BJ$179,MATCH(A52,'RC'!BI$48:BI$179,0))),0,(INDEX('RC'!BJ$48:BJ$179,MATCH(A52,'RC'!BI$48:BI$179,0))))","v":0},{"$f":"IF(B52=\"\",0,IF(B52=0,0,INDEX('RC'!BK$48:BK$179,MATCH(A52,'RC'!BI$48:BI$179,0))))","v":0},{"$f":"IF(B52=\"\",0,IF(B52=0,0,INDEX('RC'!BL$48:BL$179,MATCH(A52,'RC'!BI$48:BI$179,0))))","v":0},{"$f":"IF(B52=\"\",0,IF(B52=0,0,INDEX('RC'!BM$48:BM$179,MATCH(A52,'RC'!BI$48:BI$179,0))))","v":0},0,{"$f":"IF(ISERROR(INDEX('RC'!BP$48:BP$179,MATCH(A52,'RC'!BI$48:BI$179,0))),0,(INDEX('RC'!BP$48:BP$179,MATCH(A52,'RC'!BI$48:BI$179,0))))","v":0},{"$f":"IF(B52=\"\",0,IF(B52=0,0,INDEX('RC'!BQ$48:BQ$179,MATCH(A52,'RC'!BI$48:BI$179,0))))","v":0},{"$f":"IF(B52=\"\",0,IF(B52=0,0,INDEX('RC'!BR$48:BR$179,MATCH(A52,'RC'!BI$48:BI$179,0))))","v":0},{"$f":"IF(B52=\"\",0,IF(B52=0,0,INDEX('RC'!BS$48:BS$179,MATCH(A52,'RC'!BI$48:BI$179,0))))","v":0},0,0,0,0,0,0,{"$f":"IF(ISERROR(INDEX('RC'!DG$48:DG$179,MATCH(A52,'RC'!BI$48:BI$179,0))),0,(INDEX('RC'!DG$48:DG$179,MATCH(A52,'RC'!BI$48:BI$179,0))))","v":0},{"$f":"IF(ISERROR(INDEX('RC'!DH$48:DH$179,MATCH(A52,'RC'!BI$48:BI$179,0))),0,(INDEX('RC'!DH$48:DH$179,MATCH(A52,'RC'!BI$48:BI$179,0))))","v":0},0,{"$f":"IF(Entry!B$28=\"Y\",0,IF(ISERROR(INDEX('RC'!CV$48:CV$179,MATCH(A52,'RC'!BI$48:BI$179,0))),0,(INDEX('RC'!CV$48:CV$179,MATCH(A52,'RC'!BI$48:BI$179,0)))))","v":0},{"$f":"IF(Entry!B$28=\"Y\",0,IF(ISERROR(INDEX('RC'!CW$48:CW$179,MATCH(A52,'RC'!BI$48:BI$179,0))),0,(INDEX('RC'!CW$48:CW$179,MATCH(A52,'RC'!BI$48:BI$179,0)))))","v":0},0,{"$f":"IF(ISERROR(INDEX('RC'!CY$48:CY$179,MATCH(A52,'RC'!BI$48:BI$179,0))),0,(INDEX('RC'!CY$48:CY$179,MATCH(A52,'RC'!BI$48:BI$179,0))))","v":0},{"$f":"IF(ISERROR(INDEX('RC'!CZ$48:CZ$179,MATCH(A52,'RC'!BI$48:BI$179,0))),0,(INDEX('RC'!CZ$48:CZ$179,MATCH(A52,'RC'!BI$48:BI$179,0))))","v":0},0,{"$f":"IF(A52>='RC'!BM$29,0,IF(ISERROR(INDEX('RC'!CF$48:CF$179,MATCH(A52,'RC'!BI$48:BI$179,0))),0,(INDEX('RC'!CF$48:CF$179,MATCH(A52,'RC'!BI$48:BI$179,0)))))","v":0},0,0,null,null,null,null,null,null,null,0,0,"",""]
[{"$f":"EDATE(A52,1)","v":"2018-12-01"},{"$f":"IF(ISERROR(INDEX('RC'!BJ$48:BJ$179,MATCH(A53,'RC'!BI$48:BI$179,0))),0,(INDEX('RC'!BJ$48:BJ$179,MATCH(A53,'RC'!BI$48:BI$179,0))))","v":0},{"$f":"IF(B53=\"\",0,IF(B53=0,0,INDEX('RC'!BK$48:BK$179,MATCH(A53,'RC'!BI$48:BI$179,0))))","v":0},{"$f":"IF(B53=\"\",0,IF(B53=0,0,INDEX('RC'!BL$48:BL$179,MATCH(A53,'RC'!BI$48:BI$179,0))))","v":0},{"$f":"IF(B53=\"\",0,IF(B53=0,0,INDEX('RC'!BM$48:BM$179,MATCH(A53,'RC'!BI$48:BI$179,0))))","v":0},0,{"$f":"IF(ISERROR(INDEX('RC'!BP$48:BP$179,MATCH(A53,'RC'!BI$48:BI$179,0))),0,(INDEX('RC'!BP$48:BP$179,MATCH(A53,'RC'!BI$48:BI$179,0))))","v":0},{"$f":"IF(B53=\"\",0,IF(B53=0,0,INDEX('RC'!BQ$48:BQ$179,MATCH(A53,'RC'!BI$48:BI$179,0))))","v":0},{"$f":"IF(B53=\"\",0,IF(B53=0,0,INDEX('RC'!BR$48:BR$179,MATCH(A53,'RC'!BI$48:BI$179,0))))","v":0},{"$f":"IF(B53=\"\",0,IF(B53=0,0,INDEX('RC'!BS$48:BS$179,MATCH(A53,'RC'!BI$48:BI$179,0))))","v":0},0,0,0,0,0,0,{"$f":"IF(ISERROR(INDEX('RC'!DG$48:DG$179,MATCH(A53,'RC'!BI$48:BI$179,0))),0,(INDEX('RC'!DG$48:DG$179,MATCH(A53,'RC'!BI$48:BI$179,0))))","v":0},{"$f":"IF(ISERROR(INDEX('RC'!DH$48:DH$179,MATCH(A53,'RC'!BI$48:BI$179,0))),0,(INDEX('RC'!DH$48:DH$179,MATCH(A53,'RC'!BI$48:BI$179,0))))","v":0},0,{"$f":"IF(Entry!B$28=\"Y\",0,IF(ISERROR(INDEX('RC'!CV$48:CV$179,MATCH(A53,'RC'!BI$48:BI$179,0))),0,(INDEX('RC'!CV$48:CV$179,MATCH(A53,'RC'!BI$48:BI$179,0)))))","v":0},{"$f":"IF(Entry!B$28=\"Y\",0,IF(ISERROR(INDEX('RC'!CW$48:CW$179,MATCH(A53,'RC'!BI$48:BI$179,0))),0,(INDEX('RC'!CW$48:CW$179,MATCH(A53,'RC'!BI$48:BI$179,0)))))","v":0},0,{"$f":"IF(ISERROR(INDEX('RC'!CY$48:CY$179,MATCH(A53,'RC'!BI$48:BI$179,0))),0,(INDEX('RC'!CY$48:CY$179,MATCH(A53,'RC'!BI$48:BI$179,0))))","v":0},{"$f":"IF(ISERROR(INDEX('RC'!CZ$48:CZ$179,MATCH(A53,'RC'!BI$48:BI$179,0))),0,(INDEX('RC'!CZ$48:CZ$179,MATCH(A53,'RC'!BI$48:BI$179,0))))","v":0},0,{"$f":"IF(A53>='RC'!BM$29,0,IF(ISERROR(INDEX('RC'!CF$48:CF$179,MATCH(A53,'RC'!BI$48:BI$179,0))),0,(INDEX('RC'!CF$48:CF$179,MATCH(A53,'RC'!BI$48:BI$179,0)))))","v":0},0,0,null,null,null,null,null,null,null,0,0,"",""]
["2019-01-01",{"$f":"IF(ISERROR(INDEX('RC'!BJ$48:BJ$179,MATCH(A54,'RC'!BI$48:BI$179,0))),0,(INDEX('RC'!BJ$48:BJ$179,MATCH(A54,'RC'!BI$48:BI$179,0))))","v":0},{"$f":"IF(B54=\"\",0,IF(B54=0,0,INDEX('RC'!BK$48:BK$179,MATCH(A54,'RC'!BI$48:BI$179,0))))","v":0},{"$f":"IF(B54=\"\",0,IF(B54=0,0,INDEX('RC'!BL$48:BL$179,MATCH(A54,'RC'!BI$48:BI$179,0))))","v":0},{"$f":"IF(B54=\"\",0,IF(B54=0,0,INDEX('RC'!BM$48:BM$179,MATCH(A54,'RC'!BI$48:BI$179,0))))","v":0},0,{"$f":"IF(ISERROR(INDEX('RC'!BP$48:BP$179,MATCH(A54,'RC'!BI$48:BI$179,0))),0,(INDEX('RC'!BP$48:BP$179,MATCH(A54,'RC'!BI$48:BI$179,0))))","v":0},{"$f":"IF(B54=\"\",0,IF(B54=0,0,INDEX('RC'!BQ$48:BQ$179,MATCH(A54,'RC'!BI$48:BI$179,0))))","v":0},{"$f":"IF(B54=\"\",0,IF(B54=0,0,INDEX('RC'!BR$48:BR$179,MATCH(A54,'RC'!BI$48:BI$179,0))))","v":0},{"$f":"IF(B54=\"\",0,IF(B54=0,0,INDEX('RC'!BS$48:BS$179,MATCH(A54,'RC'!BI$48:BI$179,0))))","v":0},0,0,0,0,0,0,{"$f":"IF(ISERROR(INDEX('RC'!DG$48:DG$179,MATCH(A54,'RC'!BI$48:BI$179,0))),0,(INDEX('RC'!DG$48:DG$179,MATCH(A54,'RC'!BI$48:BI$179,0))))","v":0},{"$f":"IF(ISERROR(INDEX('RC'!DH$48:DH$179,MATCH(A54,'RC'!BI$48:BI$179,0))),0,(INDEX('RC'!DH$48:DH$179,MATCH(A54,'RC'!BI$48:BI$179,0))))","v":0},0,{"$f":"IF(Entry!B$28=\"Y\",0,IF(ISERROR(INDEX('RC'!CV$48:CV$179,MATCH(A54,'RC'!BI$48:BI$179,0))),0,(INDEX('RC'!CV$48:CV$179,MATCH(A54,'RC'!BI$48:BI$179,0)))))","v":0},{"$f":"IF(Entry!B$28=\"Y\",0,IF(ISERROR(INDEX('RC'!CW$48:CW$179,MATCH(A54,'RC'!BI$48:BI$179,0))),0,(INDEX('RC'!CW$48:CW$179,MATCH(A54,'RC'!BI$48:BI$179,0)))))","v":0},0,{"$f":"IF(ISERROR(INDEX('RC'!CY$48:CY$179,MATCH(A54,'RC'!BI$48:BI$179,0))),0,(INDEX('RC'!CY$48:CY$179,MATCH(A54,'RC'!BI$48:BI$179,0))))","v":0},{"$f":"IF(ISERROR(INDEX('RC'!CZ$48:CZ$179,MATCH(A54,'RC'!BI$48:BI$179,0))),0,(INDEX('RC'!CZ$48:CZ$179,MATCH(A54,'RC'!BI$48:BI$179,0))))","v":0},0,{"$f":"IF(A54>='RC'!BM$29,0,IF(ISERROR(INDEX('RC'!CF$48:CF$179,MATCH(A54,'RC'!BI$48:BI$179,0))),0,(INDEX('RC'!CF$48:CF$179,MATCH(A54,'RC'!BI$48:BI$179,0)))))","v":0},0,0,null,null,null,null,null,null,null,0,0,"",""]
["2019-02-01",{"$f":"IF(ISERROR(INDEX('RC'!BJ$48:BJ$179,MATCH(A55,'RC'!BI$48:BI$179,0))),0,(INDEX('RC'!BJ$48:BJ$179,MATCH(A55,'RC'!BI$48:BI$179,0))))","v":0},{"$f":"IF(B55=\"\",0,IF(B55=0,0,INDEX('RC'!BK$48:BK$179,MATCH(A55,'RC'!BI$48:BI$179,0))))","v":0},{"$f":"IF(B55=\"\",0,IF(B55=0,0,INDEX('RC'!BL$48:BL$179,MATCH(A55,'RC'!BI$48:BI$179,0))))","v":0},{"$f":"IF(B55=\"\",0,IF(B55=0,0,INDEX('RC'!BM$48:BM$179,MATCH(A55,'RC'!BI$48:BI$179,0))))","v":0},0,{"$f":"IF(ISERROR(INDEX('RC'!BP$48:BP$179,MATCH(A55,'RC'!BI$48:BI$179,0))),0,(INDEX('RC'!BP$48:BP$179,MATCH(A55,'RC'!BI$48:BI$179,0))))","v":0},{"$f":"IF(B55=\"\",0,IF(B55=0,0,INDEX('RC'!BQ$48:BQ$179,MATCH(A55,'RC'!BI$48:BI$179,0))))","v":0},{"$f":"IF(B55=\"\",0,IF(B55=0,0,INDEX('RC'!BR$48:BR$179,MATCH(A55,'RC'!BI$48:BI$179,0))))","v":0},{"$f":"IF(B55=\"\",0,IF(B55=0,0,INDEX('RC'!BS$48:BS$179,MATCH(A55,'RC'!BI$48:BI$179,0))))","v":0},0,0,0,0,0,0,{"$f":"IF(ISERROR(INDEX('RC'!DG$48:DG$179,MATCH(A55,'RC'!BI$48:BI$179,0))),0,(INDEX('RC'!DG$48:DG$179,MATCH(A55,'RC'!BI$48:BI$179,0))))","v":0},{"$f":"IF(ISERROR(INDEX('RC'!DH$48:DH$179,MATCH(A55,'RC'!BI$48:BI$179,0))),0,(INDEX('RC'!DH$48:DH$179,MATCH(A55,'RC'!BI$48:BI$179,0))))","v":0},0,{"$f":"IF(Entry!B$28=\"Y\",0,IF(ISERROR(INDEX('RC'!CV$48:CV$179,MATCH(A55,'RC'!BI$48:BI$179,0))),0,(INDEX('RC'!CV$48:CV$179,MATCH(A55,'RC'!BI$48:BI$179,0)))))","v":0},{"$f":"IF(Entry!B$28=\"Y\",0,IF(ISERROR(INDEX('RC'!CW$48:CW$179,MATCH(A55,'RC'!BI$48:BI$179,0))),0,(INDEX('RC'!CW$48:CW$179,MATCH(A55,'RC'!BI$48:BI$179,0)))))","v":0},0,{"$f":"IF(ISERROR(INDEX('RC'!CY$48:CY$179,MATCH(A55,'RC'!BI$48:BI$179,0))),0,(INDEX('RC'!CY$48:CY$179,MATCH(A55,'RC'!BI$48:BI$179,0))))","v":0},{"$f":"IF(ISERROR(INDEX('RC'!CZ$48:CZ$179,MATCH(A55,'RC'!BI$48:BI$179,0))),0,(INDEX('RC'!CZ$48:CZ$179,MATCH(A55,'RC'!BI$48:BI$179,0))))","v":0},0,{"$f":"IF(A55>='RC'!BM$29,0,IF(ISERROR(INDEX('RC'!CF$48:CF$179,MATCH(A55,'RC'!BI$48:BI$179,0))),0,(INDEX('RC'!CF$48:CF$179,MATCH(A55,'RC'!BI$48:BI$179,0)))))","v":0},0,0,null,null,null,null,null,null,null,0,0,"",""]
["2019-03-01",{"$f":"IF(ISERROR(INDEX('RC'!BJ$48:BJ$179,MATCH(A56,'RC'!BI$48:BI$179,0))),0,(INDEX('RC'!BJ$48:BJ$179,MATCH(A56,'RC'!BI$48:BI$179,0))))","v":0},{"$f":"IF(B56=\"\",0,IF(B56=0,0,INDEX('RC'!BK$48:BK$179,MATCH(A56,'RC'!BI$48:BI$179,0))))","v":0},{"$f":"IF(B56=\"\",0,IF(B56=0,0,INDEX('RC'!BL$48:BL$179,MATCH(A56,'RC'!BI$48:BI$179,0))))","v":0},{"$f":"IF(B56=\"\",0,IF(B56=0,0,INDEX('RC'!BM$48:BM$179,MATCH(A56,'RC'!BI$48:BI$179,0))))","v":0},0,{"$f":"IF(ISERROR(INDEX('RC'!BP$48:BP$179,MATCH(A56,'RC'!BI$48:BI$179,0))),0,(INDEX('RC'!BP$48:BP$179,MATCH(A56,'RC'!BI$48:BI$179,0))))","v":0},{"$f":"IF(B56=\"\",0,IF(B56=0,0,INDEX('RC'!BQ$48:BQ$179,MATCH(A56,'RC'!BI$48:BI$179,0))))","v":0},{"$f":"IF(B56=\"\",0,IF(B56=0,0,INDEX('RC'!BR$48:BR$179,MATCH(A56,'RC'!BI$48:BI$179,0))))","v":0},{"$f":"IF(B56=\"\",0,IF(B56=0,0,INDEX('RC'!BS$48:BS$179,MATCH(A56,'RC'!BI$48:BI$179,0))))","v":0},0,0,0,0,0,0,{"$f":"IF(ISERROR(INDEX('RC'!DG$48:DG$179,MATCH(A56,'RC'!BI$48:BI$179,0))),0,(INDEX('RC'!DG$48:DG$179,MATCH(A56,'RC'!BI$48:BI$179,0))))","v":0},{"$f":"IF(ISERROR(INDEX('RC'!DH$48:DH$179,MATCH(A56,'RC'!BI$48:BI$179,0))),0,(INDEX('RC'!DH$48:DH$179,MATCH(A56,'RC'!BI$48:BI$179,0))))","v":0},0,{"$f":"IF(Entry!B$28=\"Y\",0,IF(ISERROR(INDEX('RC'!CV$48:CV$179,MATCH(A56,'RC'!BI$48:BI$179,0))),0,(INDEX('RC'!CV$48:CV$179,MATCH(A56,'RC'!BI$48:BI$179,0)))))","v":0},{"$f":"IF(Entry!B$28=\"Y\",0,IF(ISERROR(INDEX('RC'!CW$48:CW$179,MATCH(A56,'RC'!BI$48:BI$179,0))),0,(INDEX('RC'!CW$48:CW$179,MATCH(A56,'RC'!BI$48:BI$179,0)))))","v":0},0,{"$f":"IF(ISERROR(INDEX('RC'!CY$48:CY$179,MATCH(A56,'RC'!BI$48:BI$179,0))),0,(INDEX('RC'!CY$48:CY$179,MATCH(A56,'RC'!BI$48:BI$179,0))))","v":0},{"$f":"IF(ISERROR(INDEX('RC'!CZ$48:CZ$179,MATCH(A56,'RC'!BI$48:BI$179,0))),0,(INDEX('RC'!CZ$48:CZ$179,MATCH(A56,'RC'!BI$48:BI$179,0))))","v":0},0,{"$f":"IF(A56>='RC'!BM$29,0,IF(ISERROR(INDEX('RC'!CF$48:CF$179,MATCH(A56,'RC'!BI$48:BI$179,0))),0,(INDEX('RC'!CF$48:CF$179,MATCH(A56,'RC'!BI$48:BI$179,0)))))","v":0},0,0,null,null,null,null,null,null,null,0,0,"",""]
["2019-04-01",{"$f":"IF(ISERROR(INDEX('RC'!BJ$48:BJ$179,MATCH(A57,'RC'!BI$48:BI$179,0))),0,(INDEX('RC'!BJ$48:BJ$179,MATCH(A57,'RC'!BI$48:BI$179,0))))","v":0},{"$f":"IF(B57=\"\",0,IF(B57=0,0,INDEX('RC'!BK$48:BK$179,MATCH(A57,'RC'!BI$48:BI$179,0))))","v":0},{"$f":"IF(B57=\"\",0,IF(B57=0,0,INDEX('RC'!BL$48:BL$179,MATCH(A57,'RC'!BI$48:BI$179,0))))","v":0},{"$f":"IF(B57=\"\",0,IF(B57=0,0,INDEX('RC'!BM$48:BM$179,MATCH(A57,'RC'!BI$48:BI$179,0))))","v":0},0,{"$f":"IF(ISERROR(INDEX('RC'!BP$48:BP$179,MATCH(A57,'RC'!BI$48:BI$179,0))),0,(INDEX('RC'!BP$48:BP$179,MATCH(A57,'RC'!BI$48:BI$179,0))))","v":0},{"$f":"IF(B57=\"\",0,IF(B57=0,0,INDEX('RC'!BQ$48:BQ$179,MATCH(A57,'RC'!BI$48:BI$179,0))))","v":0},{"$f":"IF(B57=\"\",0,IF(B57=0,0,INDEX('RC'!BR$48:BR$179,MATCH(A57,'RC'!BI$48:BI$179,0))))","v":0},{"$f":"IF(B57=\"\",0,IF(B57=0,0,INDEX('RC'!BS$48:BS$179,MATCH(A57,'RC'!BI$48:BI$179,0))))","v":0},0,0,0,0,0,0,{"$f":"IF(ISERROR(INDEX('RC'!DG$48:DG$179,MATCH(A57,'RC'!BI$48:BI$179,0))),0,(INDEX('RC'!DG$48:DG$179,MATCH(A57,'RC'!BI$48:BI$179,0))))","v":0},{"$f":"IF(ISERROR(INDEX('RC'!DH$48:DH$179,MATCH(A57,'RC'!BI$48:BI$179,0))),0,(INDEX('RC'!DH$48:DH$179,MATCH(A57,'RC'!BI$48:BI$179,0))))","v":0},0,{"$f":"IF(Entry!B$28=\"Y\",0,IF(ISERROR(INDEX('RC'!CV$48:CV$179,MATCH(A57,'RC'!BI$48:BI$179,0))),0,(INDEX('RC'!CV$48:CV$179,MATCH(A57,'RC'!BI$48:BI$179,0)))))","v":0},{"$f":"IF(Entry!B$28=\"Y\",0,IF(ISERROR(INDEX('RC'!CW$48:CW$179,MATCH(A57,'RC'!BI$48:BI$179,0))),0,(INDEX('RC'!CW$48:CW$179,MATCH(A57,'RC'!BI$48:BI$179,0)))))","v":0},0,{"$f":"IF(ISERROR(INDEX('RC'!CY$48:CY$179,MATCH(A57,'RC'!BI$48:BI$179,0))),0,(INDEX('RC'!CY$48:CY$179,MATCH(A57,'RC'!BI$48:BI$179,0))))","v":0},{"$f":"IF(ISERROR(INDEX('RC'!CZ$48:CZ$179,MATCH(A57,'RC'!BI$48:BI$179,0))),0,(INDEX('RC'!CZ$48:CZ$179,MATCH(A57,'RC'!BI$48:BI$179,0))))","v":0},0,{"$f":"IF(A57>='RC'!BM$29,0,IF(ISERROR(INDEX('RC'!CF$48:CF$179,MATCH(A57,'RC'!BI$48:BI$179,0))),0,(INDEX('RC'!CF$48:CF$179,MATCH(A57,'RC'!BI$48:BI$179,0)))))","v":0},0,0,null,null,null,null,null,null,null,0,0,"",""]
["2019-05-01",{"$f":"IF(ISERROR(INDEX('RC'!BJ$48:BJ$179,MATCH(A58,'RC'!BI$48:BI$179,0))),0,(INDEX('RC'!BJ$48:BJ$179,MATCH(A58,'RC'!BI$48:BI$179,0))))","v":0},{"$f":"IF(B58=\"\",0,IF(B58=0,0,INDEX('RC'!BK$48:BK$179,MATCH(A58,'RC'!BI$48:BI$179,0))))","v":0},{"$f":"IF(B58=\"\",0,IF(B58=0,0,INDEX('RC'!BL$48:BL$179,MATCH(A58,'RC'!BI$48:BI$179,0))))","v":0},{"$f":"IF(B58=\"\",0,IF(B58=0,0,INDEX('RC'!BM$48:BM$179,MATCH(A58,'RC'!BI$48:BI$179,0))))","v":0},0,{"$f":"IF(ISERROR(INDEX('RC'!BP$48:BP$179,MATCH(A58,'RC'!BI$48:BI$179,0))),0,(INDEX('RC'!BP$48:BP$179,MATCH(A58,'RC'!BI$48:BI$179,0))))","v":0},{"$f":"IF(B58=\"\",0,IF(B58=0,0,INDEX('RC'!BQ$48:BQ$179,MATCH(A58,'RC'!BI$48:BI$179,0))))","v":0},{"$f":"IF(B58=\"\",0,IF(B58=0,0,INDEX('RC'!BR$48:BR$179,MATCH(A58,'RC'!BI$48:BI$179,0))))","v":0},{"$f":"IF(B58=\"\",0,IF(B58=0,0,INDEX('RC'!BS$48:BS$179,MATCH(A58,'RC'!BI$48:BI$179,0))))","v":0},0,0,0,0,0,0,{"$f":"IF(ISERROR(INDEX('RC'!DG$48:DG$179,MATCH(A58,'RC'!BI$48:BI$179,0))),0,(INDEX('RC'!DG$48:DG$179,MATCH(A58,'RC'!BI$48:BI$179,0))))","v":0},{"$f":"IF(ISERROR(INDEX('RC'!DH$48:DH$179,MATCH(A58,'RC'!BI$48:BI$179,0))),0,(INDEX('RC'!DH$48:DH$179,MATCH(A58,'RC'!BI$48:BI$179,0))))","v":0},0,{"$f":"IF(Entry!B$28=\"Y\",0,IF(ISERROR(INDEX('RC'!CV$48:CV$179,MATCH(A58,'RC'!BI$48:BI$179,0))),0,(INDEX('RC'!CV$48:CV$179,MATCH(A58,'RC'!BI$48:BI$179,0)))))","v":0},{"$f":"IF(Entry!B$28=\"Y\",0,IF(ISERROR(INDEX('RC'!CW$48:CW$179,MATCH(A58,'RC'!BI$48:BI$179,0))),0,(INDEX('RC'!CW$48:CW$179,MATCH(A58,'RC'!BI$48:BI$179,0)))))","v":0},0,{"$f":"IF(ISERROR(INDEX('RC'!CY$48:CY$179,MATCH(A58,'RC'!BI$48:BI$179,0))),0,(INDEX('RC'!CY$48:CY$179,MATCH(A58,'RC'!BI$48:BI$179,0))))","v":0},{"$f":"IF(ISERROR(INDEX('RC'!CZ$48:CZ$179,MATCH(A58,'RC'!BI$48:BI$179,0))),0,(INDEX('RC'!CZ$48:CZ$179,MATCH(A58,'RC'!BI$48:BI$179,0))))","v":0},0,{"$f":"IF(A58>='RC'!BM$29,0,IF(ISERROR(INDEX('RC'!CF$48:CF$179,MATCH(A58,'RC'!BI$48:BI$179,0))),0,(INDEX('RC'!CF$48:CF$179,MATCH(A58,'RC'!BI$48:BI$179,0)))))","v":0},0,0,null,null,null,null,null,null,null,0,0,"",""]
["2019-06-01",{"$f":"IF(ISERROR(INDEX('RC'!BJ$48:BJ$179,MATCH(A59,'RC'!BI$48:BI$179,0))),0,(INDEX('RC'!BJ$48:BJ$179,MATCH(A59,'RC'!BI$48:BI$179,0))))","v":0},{"$f":"IF(B59=\"\",0,IF(B59=0,0,INDEX('RC'!BK$48:BK$179,MATCH(A59,'RC'!BI$48:BI$179,0))))","v":0},{"$f":"IF(B59=\"\",0,IF(B59=0,0,INDEX('RC'!BL$48:BL$179,MATCH(A59,'RC'!BI$48:BI$179,0))))","v":0},{"$f":"IF(B59=\"\",0,IF(B59=0,0,INDEX('RC'!BM$48:BM$179,MATCH(A59,'RC'!BI$48:BI$179,0))))","v":0},0,{"$f":"IF(ISERROR(INDEX('RC'!BP$48:BP$179,MATCH(A59,'RC'!BI$48:BI$179,0))),0,(INDEX('RC'!BP$48:BP$179,MATCH(A59,'RC'!BI$48:BI$179,0))))","v":0},{"$f":"IF(B59=\"\",0,IF(B59=0,0,INDEX('RC'!BQ$48:BQ$179,MATCH(A59,'RC'!BI$48:BI$179,0))))","v":0},{"$f":"IF(B59=\"\",0,IF(B59=0,0,INDEX('RC'!BR$48:BR$179,MATCH(A59,'RC'!BI$48:BI$179,0))))","v":0},{"$f":"IF(B59=\"\",0,IF(B59=0,0,INDEX('RC'!BS$48:BS$179,MATCH(A59,'RC'!BI$48:BI$179,0))))","v":0},0,0,0,0,0,0,{"$f":"IF(ISERROR(INDEX('RC'!DG$48:DG$179,MATCH(A59,'RC'!BI$48:BI$179,0))),0,(INDEX('RC'!DG$48:DG$179,MATCH(A59,'RC'!BI$48:BI$179,0))))","v":0},{"$f":"IF(ISERROR(INDEX('RC'!DH$48:DH$179,MATCH(A59,'RC'!BI$48:BI$179,0))),0,(INDEX('RC'!DH$48:DH$179,MATCH(A59,'RC'!BI$48:BI$179,0))))","v":0},0,{"$f":"IF(Entry!B$28=\"Y\",0,IF(ISERROR(INDEX('RC'!CV$48:CV$179,MATCH(A59,'RC'!BI$48:BI$179,0))),0,(INDEX('RC'!CV$48:CV$179,MATCH(A59,'RC'!BI$48:BI$179,0)))))","v":0},{"$f":"IF(Entry!B$28=\"Y\",0,IF(ISERROR(INDEX('RC'!CW$48:CW$179,MATCH(A59,'RC'!BI$48:BI$179,0))),0,(INDEX('RC'!CW$48:CW$179,MATCH(A59,'RC'!BI$48:BI$179,0)))))","v":0},0,{"$f":"IF(ISERROR(INDEX('RC'!CY$48:CY$179,MATCH(A59,'RC'!BI$48:BI$179,0))),0,(INDEX('RC'!CY$48:CY$179,MATCH(A59,'RC'!BI$48:BI$179,0))))","v":0},{"$f":"IF(ISERROR(INDEX('RC'!CZ$48:CZ$179,MATCH(A59,'RC'!BI$48:BI$179,0))),0,(INDEX('RC'!CZ$48:CZ$179,MATCH(A59,'RC'!BI$48:BI$179,0))))","v":0},0,{"$f":"IF(A59>='RC'!BM$29,0,IF(ISERROR(INDEX('RC'!CF$48:CF$179,MATCH(A59,'RC'!BI$48:BI$179,0))),0,(INDEX('RC'!CF$48:CF$179,MATCH(A59,'RC'!BI$48:BI$179,0)))))","v":0},0,0,null,null,null,null,null,null,null,0,0,"",""]
["2019-07-01",{"$f":"IF(ISERROR(INDEX('RC'!BJ$48:BJ$179,MATCH(A60,'RC'!BI$48:BI$179,0))),0,(INDEX('RC'!BJ$48:BJ$179,MATCH(A60,'RC'!BI$48:BI$179,0))))","v":0},{"$f":"IF(B60=\"\",0,IF(B60=0,0,INDEX('RC'!BK$48:BK$179,MATCH(A60,'RC'!BI$48:BI$179,0))))","v":0},{"$f":"IF(B60=\"\",0,IF(B60=0,0,INDEX('RC'!BL$48:BL$179,MATCH(A60,'RC'!BI$48:BI$179,0))))","v":0},{"$f":"IF(B60=\"\",0,IF(B60=0,0,INDEX('RC'!BM$48:BM$179,MATCH(A60,'RC'!BI$48:BI$179,0))))","v":0},0,{"$f":"IF(ISERROR(INDEX('RC'!BP$48:BP$179,MATCH(A60,'RC'!BI$48:BI$179,0))),0,(INDEX('RC'!BP$48:BP$179,MATCH(A60,'RC'!BI$48:BI$179,0))))","v":0},{"$f":"IF(B60=\"\",0,IF(B60=0,0,INDEX('RC'!BQ$48:BQ$179,MATCH(A60,'RC'!BI$48:BI$179,0))))","v":0},{"$f":"IF(B60=\"\",0,IF(B60=0,0,INDEX('RC'!BR$48:BR$179,MATCH(A60,'RC'!BI$48:BI$179,0))))","v":0},{"$f":"IF(B60=\"\",0,IF(B60=0,0,INDEX('RC'!BS$48:BS$179,MATCH(A60,'RC'!BI$48:BI$179,0))))","v":0},0,0,0,0,0,0,{"$f":"IF(ISERROR(INDEX('RC'!DG$48:DG$179,MATCH(A60,'RC'!BI$48:BI$179,0))),0,(INDEX('RC'!DG$48:DG$179,MATCH(A60,'RC'!BI$48:BI$179,0))))","v":0},{"$f":"IF(ISERROR(INDEX('RC'!DH$48:DH$179,MATCH(A60,'RC'!BI$48:BI$179,0))),0,(INDEX('RC'!DH$48:DH$179,MATCH(A60,'RC'!BI$48:BI$179,0))))","v":0},0,{"$f":"IF(Entry!B$28=\"Y\",0,IF(ISERROR(INDEX('RC'!CV$48:CV$179,MATCH(A60,'RC'!BI$48:BI$179,0))),0,(INDEX('RC'!CV$48:CV$179,MATCH(A60,'RC'!BI$48:BI$179,0)))))","v":0},{"$f":"IF(Entry!B$28=\"Y\",0,IF(ISERROR(INDEX('RC'!CW$48:CW$179,MATCH(A60,'RC'!BI$48:BI$179,0))),0,(INDEX('RC'!CW$48:CW$179,MATCH(A60,'RC'!BI$48:BI$179,0)))))","v":0},0,{"$f":"IF(ISERROR(INDEX('RC'!CY$48:CY$179,MATCH(A60,'RC'!BI$48:BI$179,0))),0,(INDEX('RC'!CY$48:CY$179,MATCH(A60,'RC'!BI$48:BI$179,0))))","v":0},{"$f":"IF(ISERROR(INDEX('RC'!CZ$48:CZ$179,MATCH(A60,'RC'!BI$48:BI$179,0))),0,(INDEX('RC'!CZ$48:CZ$179,MATCH(A60,'RC'!BI$48:BI$179,0))))","v":0},0,{"$f":"IF(A60>='RC'!BM$29,0,IF(ISERROR(INDEX('RC'!CF$48:CF$179,MATCH(A60,'RC'!BI$48:BI$179,0))),0,(INDEX('RC'!CF$48:CF$179,MATCH(A60,'RC'!BI$48:BI$179,0)))))","v":0},0,0,null,null,null,null,null,null,null,0,0,"",""]
["2019-08-01",{"$f":"IF(ISERROR(INDEX('RC'!BJ$48:BJ$179,MATCH(A61,'RC'!BI$48:BI$179,0))),0,(INDEX('RC'!BJ$48:BJ$179,MATCH(A61,'RC'!BI$48:BI$179,0))))","v":0},{"$f":"IF(B61=\"\",0,IF(B61=0,0,INDEX('RC'!BK$48:BK$179,MATCH(A61,'RC'!BI$48:BI$179,0))))","v":0},{"$f":"IF(B61=\"\",0,IF(B61=0,0,INDEX('RC'!BL$48:BL$179,MATCH(A61,'RC'!BI$48:BI$179,0))))","v":0},{"$f":"IF(B61=\"\",0,IF(B61=0,0,INDEX('RC'!BM$48:BM$179,MATCH(A61,'RC'!BI$48:BI$179,0))))","v":0},0,{"$f":"IF(ISERROR(INDEX('RC'!BP$48:BP$179,MATCH(A61,'RC'!BI$48:BI$179,0))),0,(INDEX('RC'!BP$48:BP$179,MATCH(A61,'RC'!BI$48:BI$179,0))))","v":0},{"$f":"IF(B61=\"\",0,IF(B61=0,0,INDEX('RC'!BQ$48:BQ$179,MATCH(A61,'RC'!BI$48:BI$179,0))))","v":0},{"$f":"IF(B61=\"\",0,IF(B61=0,0,INDEX('RC'!BR$48:BR$179,MATCH(A61,'RC'!BI$48:BI$179,0))))","v":0},{"$f":"IF(B61=\"\",0,IF(B61=0,0,INDEX('RC'!BS$48:BS$179,MATCH(A61,'RC'!BI$48:BI$179,0))))","v":0},0,0,0,0,0,0,{"$f":"IF(ISERROR(INDEX('RC'!DG$48:DG$179,MATCH(A61,'RC'!BI$48:BI$179,0))),0,(INDEX('RC'!DG$48:DG$179,MATCH(A61,'RC'!BI$48:BI$179,0))))","v":0},{"$f":"IF(ISERROR(INDEX('RC'!DH$48:DH$179,MATCH(A61,'RC'!BI$48:BI$179,0))),0,(INDEX('RC'!DH$48:DH$179,MATCH(A61,'RC'!BI$48:BI$179,0))))","v":0},0,{"$f":"IF(Entry!B$28=\"Y\",0,IF(ISERROR(INDEX('RC'!CV$48:CV$179,MATCH(A61,'RC'!BI$48:BI$179,0))),0,(INDEX('RC'!CV$48:CV$179,MATCH(A61,'RC'!BI$48:BI$179,0)))))","v":0},{"$f":"IF(Entry!B$28=\"Y\",0,IF(ISERROR(INDEX('RC'!CW$48:CW$179,MATCH(A61,'RC'!BI$48:BI$179,0))),0,(INDEX('RC'!CW$48:CW$179,MATCH(A61,'RC'!BI$48:BI$179,0)))))","v":0},0,{"$f":"IF(ISERROR(INDEX('RC'!CY$48:CY$179,MATCH(A61,'RC'!BI$48:BI$179,0))),0,(INDEX('RC'!CY$48:CY$179,MATCH(A61,'RC'!BI$48:BI$179,0))))","v":0},{"$f":"IF(ISERROR(INDEX('RC'!CZ$48:CZ$179,MATCH(A61,'RC'!BI$48:BI$179,0))),0,(INDEX('RC'!CZ$48:CZ$179,MATCH(A61,'RC'!BI$48:BI$179,0))))","v":0},0,{"$f":"IF(A61>='RC'!BM$29,0,IF(ISERROR(INDEX('RC'!CF$48:CF$179,MATCH(A61,'RC'!BI$48:BI$179,0))),0,(INDEX('RC'!CF$48:CF$179,MATCH(A61,'RC'!BI$48:BI$179,0)))))","v":0},0,0,null,null,null,null,null,null,null,0,0,"",""]
["2019-09-01",{"$f":"IF(ISERROR(INDEX('RC'!BJ$48:BJ$179,MATCH(A62,'RC'!BI$48:BI$179,0))),0,(INDEX('RC'!BJ$48:BJ$179,MATCH(A62,'RC'!BI$48:BI$179,0))))","v":0},{"$f":"IF(B62=\"\",0,IF(B62=0,0,INDEX('RC'!BK$48:BK$179,MATCH(A62,'RC'!BI$48:BI$179,0))))","v":0},{"$f":"IF(B62=\"\",0,IF(B62=0,0,INDEX('RC'!BL$48:BL$179,MATCH(A62,'RC'!BI$48:BI$179,0))))","v":0},{"$f":"IF(B62=\"\",0,IF(B62=0,0,INDEX('RC'!BM$48:BM$179,MATCH(A62,'RC'!BI$48:BI$179,0))))","v":0},0,{"$f":"IF(ISERROR(INDEX('RC'!BP$48:BP$179,MATCH(A62,'RC'!BI$48:BI$179,0))),0,(INDEX('RC'!BP$48:BP$179,MATCH(A62,'RC'!BI$48:BI$179,0))))","v":0},{"$f":"IF(B62=\"\",0,IF(B62=0,0,INDEX('RC'!BQ$48:BQ$179,MATCH(A62,'RC'!BI$48:BI$179,0))))","v":0},{"$f":"IF(B62=\"\",0,IF(B62=0,0,INDEX('RC'!BR$48:BR$179,MATCH(A62,'RC'!BI$48:BI$179,0))))","v":0},{"$f":"IF(B62=\"\",0,IF(B62=0,0,INDEX('RC'!BS$48:BS$179,MATCH(A62,'RC'!BI$48:BI$179,0))))","v":0},0,0,0,0,0,0,{"$f":"IF(ISERROR(INDEX('RC'!DG$48:DG$179,MATCH(A62,'RC'!BI$48:BI$179,0))),0,(INDEX('RC'!DG$48:DG$179,MATCH(A62,'RC'!BI$48:BI$179,0))))","v":0},{"$f":"IF(ISERROR(INDEX('RC'!DH$48:DH$179,MATCH(A62,'RC'!BI$48:BI$179,0))),0,(INDEX('RC'!DH$48:DH$179,MATCH(A62,'RC'!BI$48:BI$179,0))))","v":0},0,{"$f":"IF(Entry!B$28=\"Y\",0,IF(ISERROR(INDEX('RC'!CV$48:CV$179,MATCH(A62,'RC'!BI$48:BI$179,0))),0,(INDEX('RC'!CV$48:CV$179,MATCH(A62,'RC'!BI$48:BI$179,0)))))","v":0},{"$f":"IF(Entry!B$28=\"Y\",0,IF(ISERROR(INDEX('RC'!CW$48:CW$179,MATCH(A62,'RC'!BI$48:BI$179,0))),0,(INDEX('RC'!CW$48:CW$179,MATCH(A62,'RC'!BI$48:BI$179,0)))))","v":0},0,{"$f":"IF(ISERROR(INDEX('RC'!CY$48:CY$179,MATCH(A62,'RC'!BI$48:BI$179,0))),0,(INDEX('RC'!CY$48:CY$179,MATCH(A62,'RC'!BI$48:BI$179,0))))","v":0},{"$f":"IF(ISERROR(INDEX('RC'!CZ$48:CZ$179,MATCH(A62,'RC'!BI$48:BI$179,0))),0,(INDEX('RC'!CZ$48:CZ$179,MATCH(A62,'RC'!BI$48:BI$179,0))))","v":0},0,{"$f":"IF(A62>='RC'!BM$29,0,IF(ISERROR(INDEX('RC'!CF$48:CF$179,MATCH(A62,'RC'!BI$48:BI$179,0))),0,(INDEX('RC'!CF$48:CF$179,MATCH(A62,'RC'!BI$48:BI$179,0)))))","v":0},0,0,null,null,null,null,null,null,null,0,0,"",""]
[{"$f":"EDATE(A62,1)","v":"2019-10-01"},{"$f":"IF(ISERROR(INDEX('RC'!BJ$48:BJ$179,MATCH(A63,'RC'!BI$48:BI$179,0))),0,(INDEX('RC'!BJ$48:BJ$179,MATCH(A63,'RC'!BI$48:BI$179,0))))","v":0},{"$f":"IF(B63=\"\",0,IF(B63=0,0,INDEX('RC'!BK$48:BK$179,MATCH(A63,'RC'!BI$48:BI$179,0))))","v":0},{"$f":"IF(B63=\"\",0,IF(B63=0,0,INDEX('RC'!BL$48:BL$179,MATCH(A63,'RC'!BI$48:BI$179,0))))","v":0},{"$f":"IF(B63=\"\",0,IF(B63=0,0,INDEX('RC'!BM$48:BM$179,MATCH(A63,'RC'!BI$48:BI$179,0))))","v":0},0,{"$f":"IF(ISERROR(INDEX('RC'!BP$48:BP$179,MATCH(A63,'RC'!BI$48:BI$179,0))),0,(INDEX('RC'!BP$48:BP$179,MATCH(A63,'RC'!BI$48:BI$179,0))))","v":0},{"$f":"IF(B63=\"\",0,IF(B63=0,0,INDEX('RC'!BQ$48:BQ$179,MATCH(A63,'RC'!BI$48:BI$179,0))))","v":0},{"$f":"IF(B63=\"\",0,IF(B63=0,0,INDEX('RC'!BR$48:BR$179,MATCH(A63,'RC'!BI$48:BI$179,0))))","v":0},{"$f":"IF(B63=\"\",0,IF(B63=0,0,INDEX('RC'!BS$48:BS$179,MATCH(A63,'RC'!BI$48:BI$179,0))))","v":0},0,0,0,0,0,0,{"$f":"IF(ISERROR(INDEX('RC'!DG$48:DG$179,MATCH(A63,'RC'!BI$48:BI$179,0))),0,(INDEX('RC'!DG$48:DG$179,MATCH(A63,'RC'!BI$48:BI$179,0))))","v":0},{"$f":"IF(ISERROR(INDEX('RC'!DH$48:DH$179,MATCH(A63,'RC'!BI$48:BI$179,0))),0,(INDEX('RC'!DH$48:DH$179,MATCH(A63,'RC'!BI$48:BI$179,0))))","v":0},0,{"$f":"IF(Entry!B$28=\"Y\",0,IF(ISERROR(INDEX('RC'!CV$48:CV$179,MATCH(A63,'RC'!BI$48:BI$179,0))),0,(INDEX('RC'!CV$48:CV$179,MATCH(A63,'RC'!BI$48:BI$179,0)))))","v":0},{"$f":"IF(Entry!B$28=\"Y\",0,IF(ISERROR(INDEX('RC'!CW$48:CW$179,MATCH(A63,'RC'!BI$48:BI$179,0))),0,(INDEX('RC'!CW$48:CW$179,MATCH(A63,'RC'!BI$48:BI$179,0)))))","v":0},0,{"$f":"IF(ISERROR(INDEX('RC'!CY$48:CY$179,MATCH(A63,'RC'!BI$48:BI$179,0))),0,(INDEX('RC'!CY$48:CY$179,MATCH(A63,'RC'!BI$48:BI$179,0))))","v":0},{"$f":"IF(ISERROR(INDEX('RC'!CZ$48:CZ$179,MATCH(A63,'RC'!BI$48:BI$179,0))),0,(INDEX('RC'!CZ$48:CZ$179,MATCH(A63,'RC'!BI$48:BI$179,0))))","v":0},0,{"$f":"IF(A63>='RC'!BM$29,0,IF(ISERROR(INDEX('RC'!CF$48:CF$179,MATCH(A63,'RC'!BI$48:BI$179,0))),0,(INDEX('RC'!CF$48:CF$179,MATCH(A63,'RC'!BI$48:BI$179,0)))))","v":0},0,0,null,null,null,null,null,null,null,0,0,"",""]
[{"$f":"EDATE(A63,1)","v":"2019-11-01"},{"$f":"IF(ISERROR(INDEX('RC'!BJ$48:BJ$179,MATCH(A64,'RC'!BI$48:BI$179,0))),0,(INDEX('RC'!BJ$48:BJ$179,MATCH(A64,'RC'!BI$48:BI$179,0))))","v":0},{"$f":"IF(B64=\"\",0,IF(B64=0,0,INDEX('RC'!BK$48:BK$179,MATCH(A64,'RC'!BI$48:BI$179,0))))","v":0},{"$f":"IF(B64=\"\",0,IF(B64=0,0,INDEX('RC'!BL$48:BL$179,MATCH(A64,'RC'!BI$48:BI$179,0))))","v":0},{"$f":"IF(B64=\"\",0,IF(B64=0,0,INDEX('RC'!BM$48:BM$179,MATCH(A64,'RC'!BI$48:BI$179,0))))","v":0},0,{"$f":"IF(ISERROR(INDEX('RC'!BP$48:BP$179,MATCH(A64,'RC'!BI$48:BI$179,0))),0,(INDEX('RC'!BP$48:BP$179,MATCH(A64,'RC'!BI$48:BI$179,0))))","v":0},{"$f":"IF(B64=\"\",0,IF(B64=0,0,INDEX('RC'!BQ$48:BQ$179,MATCH(A64,'RC'!BI$48:BI$179,0))))","v":0},{"$f":"IF(B64=\"\",0,IF(B64=0,0,INDEX('RC'!BR$48:BR$179,MATCH(A64,'RC'!BI$48:BI$179,0))))","v":0},{"$f":"IF(B64=\"\",0,IF(B64=0,0,INDEX('RC'!BS$48:BS$179,MATCH(A64,'RC'!BI$48:BI$179,0))))","v":0},0,0,0,0,0,0,{"$f":"IF(ISERROR(INDEX('RC'!DG$48:DG$179,MATCH(A64,'RC'!BI$48:BI$179,0))),0,(INDEX('RC'!DG$48:DG$179,MATCH(A64,'RC'!BI$48:BI$179,0))))","v":0},{"$f":"IF(ISERROR(INDEX('RC'!DH$48:DH$179,MATCH(A64,'RC'!BI$48:BI$179,0))),0,(INDEX('RC'!DH$48:DH$179,MATCH(A64,'RC'!BI$48:BI$179,0))))","v":0},0,{"$f":"IF(Entry!B$28=\"Y\",0,IF(ISERROR(INDEX('RC'!CV$48:CV$179,MATCH(A64,'RC'!BI$48:BI$179,0))),0,(INDEX('RC'!CV$48:CV$179,MATCH(A64,'RC'!BI$48:BI$179,0)))))","v":0},{"$f":"IF(Entry!B$28=\"Y\",0,IF(ISERROR(INDEX('RC'!CW$48:CW$179,MATCH(A64,'RC'!BI$48:BI$179,0))),0,(INDEX('RC'!CW$48:CW$179,MATCH(A64,'RC'!BI$48:BI$179,0)))))","v":0},0,{"$f":"IF(ISERROR(INDEX('RC'!CY$48:CY$179,MATCH(A64,'RC'!BI$48:BI$179,0))),0,(INDEX('RC'!CY$48:CY$179,MATCH(A64,'RC'!BI$48:BI$179,0))))","v":0},{"$f":"IF(ISERROR(INDEX('RC'!CZ$48:CZ$179,MATCH(A64,'RC'!BI$48:BI$179,0))),0,(INDEX('RC'!CZ$48:CZ$179,MATCH(A64,'RC'!BI$48:BI$179,0))))","v":0},0,{"$f":"IF(A64>='RC'!BM$29,0,IF(ISERROR(INDEX('RC'!CF$48:CF$179,MATCH(A64,'RC'!BI$48:BI$179,0))),0,(INDEX('RC'!CF$48:CF$179,MATCH(A64,'RC'!BI$48:BI$179,0)))))","v":0},0,0,null,null,null,null,null,null,null,0,{"$f":"IF(C64<1,0,1)","v":0},{"$f":"IF(D64<1,0,1)","v":0},{"$f":"IF(E64<1,0,1)","v":0},{"$f":"IF(F64<1,0,1)","v":0}]
[{"$f":"EDATE(A64,1)","v":"2019-12-01"},{"$f":"IF(ISERROR(INDEX('RC'!BJ$48:BJ$179,MATCH(A65,'RC'!BI$48:BI$179,0))),0,(INDEX('RC'!BJ$48:BJ$179,MATCH(A65,'RC'!BI$48:BI$179,0))))","v":0},{"$f":"IF(B65=\"\",0,IF(B65=0,0,INDEX('RC'!BK$48:BK$179,MATCH(A65,'RC'!BI$48:BI$179,0))))","v":0},{"$f":"IF(B65=\"\",0,IF(B65=0,0,INDEX('RC'!BL$48:BL$179,MATCH(A65,'RC'!BI$48:BI$179,0))))","v":0},{"$f":"IF(B65=\"\",0,IF(B65=0,0,INDEX('RC'!BM$48:BM$179,MATCH(A65,'RC'!BI$48:BI$179,0))))","v":0},{"$f":"SUM(B65:E65)","v":0},{"$f":"IF(ISERROR(INDEX('RC'!BP$48:BP$179,MATCH(A65,'RC'!BI$48:BI$179,0))),0,(INDEX('RC'!BP$48:BP$179,MATCH(A65,'RC'!BI$48:BI$179,0))))","v":0},{"$f":"IF(B65=\"\",0,IF(B65=0,0,INDEX('RC'!BQ$48:BQ$179,MATCH(A65,'RC'!BI$48:BI$179,0))))","v":0},{"$f":"IF(B65=\"\",0,IF(B65=0,0,INDEX('RC'!BR$48:BR$179,MATCH(A65,'RC'!BI$48:BI$179,0))))","v":0},{"$f":"IF(B65=\"\",0,IF(B65=0,0,INDEX('RC'!BS$48:BS$179,MATCH(A65,'RC'!BI$48:BI$179,0))))","v":0},{"$f":"SUM(G65:J65)","v":0},{"$f":"B65-G65","v":0},{"$f":"C65-H65","v":0},{"$f":"D65-I65","v":0},{"$f":"E65-J65","v":0},{"$f":"SUM(L65:O65)","v":0},{"$f":"IF(ISERROR(INDEX('RC'!DG$48:DG$179,MATCH(A65,'RC'!BI$48:BI$179,0))),0,(INDEX('RC'!DG$48:DG$179,MATCH(A65,'RC'!BI$48:BI$179,0))))","v":0},{"$f":"IF(ISERROR(INDEX('RC'!DH$48:DH$179,MATCH(A65,'RC'!BI$48:BI$179,0))),0,(INDEX('RC'!DH$48:DH$179,MATCH(A65,'RC'!BI$48:BI$179,0))))","v":0},0,{"$f":"IF(Entry!B$28=\"Y\",0,IF(ISERROR(INDEX('RC'!CV$48:CV$179,MATCH(A65,'RC'!BI$48:BI$179,0))),0,(INDEX('RC'!CV$48:CV$179,MATCH(A65,'RC'!BI$48:BI$179,0)))))","v":0},{"$f":"IF(Entry!B$28=\"Y\",0,IF(ISERROR(INDEX('RC'!CW$48:CW$179,MATCH(A65,'RC'!BI$48:BI$179,0))),0,(INDEX('RC'!CW$48:CW$179,MATCH(A65,'RC'!BI$48:BI$179,0)))))","v":0},0,{"$f":"IF(ISERROR(INDEX('RC'!CY$48:CY$179,MATCH(A65,'RC'!BI$48:BI$179,0))),0,(INDEX('RC'!CY$48:CY$179,MATCH(A65,'RC'!BI$48:BI$179,0))))","v":0},{"$f":"IF(ISERROR(INDEX('RC'!CZ$48:CZ$179,MATCH(A65,'RC'!BI$48:BI$179,0))),0,(INDEX('RC'!CZ$48:CZ$179,MATCH(A65,'RC'!BI$48:BI$179,0))))","v":0},0,{"$f":"IF(A65>='RC'!BM$29,0,IF(ISERROR(INDEX('RC'!CF$48:CF$179,MATCH(A65,'RC'!BI$48:BI$179,0))),0,(INDEX('RC'!CF$48:CF$179,MATCH(A65,'RC'!BI$48:BI$179,0)))))","v":0},0,0,null,null,null,null,null,null,null,{"$f":"IF(B65<1,0,1)","v":0},0,"",""]
[{"$f":"EDATE(A65,1)","v":"2020-01-01"},{"$f":"IF(ISERROR(INDEX('RC'!BJ$48:BJ$179,MATCH(A66,'RC'!BI$48:BI$179,0))),0,(INDEX('RC'!BJ$48:BJ$179,MATCH(A66,'RC'!BI$48:BI$179,0))))","v":0},{"$f":"IF(B66=\"\",0,IF(B66=0,0,INDEX('RC'!BK$48:BK$179,MATCH(A66,'RC'!BI$48:BI$179,0))))","v":0},{"$f":"IF(B66=\"\",0,IF(B66=0,0,INDEX('RC'!BL$48:BL$179,MATCH(A66,'RC'!BI$48:BI$179,0))))","v":0},{"$f":"IF(B66=\"\",0,IF(B66=0,0,INDEX('RC'!BM$48:BM$179,MATCH(A66,'RC'!BI$48:BI$179,0))))","v":0},0,{"$f":"IF(ISERROR(INDEX('RC'!BP$48:BP$179,MATCH(A66,'RC'!BI$48:BI$179,0))),0,(INDEX('RC'!BP$48:BP$179,MATCH(A66,'RC'!BI$48:BI$179,0))))","v":0},{"$f":"IF(B66=\"\",0,IF(B66=0,0,INDEX('RC'!BQ$48:BQ$179,MATCH(A66,'RC'!BI$48:BI$179,0))))","v":0},{"$f":"IF(B66=\"\",0,IF(B66=0,0,INDEX('RC'!BR$48:BR$179,MATCH(A66,'RC'!BI$48:BI$179,0))))","v":0},{"$f":"IF(B66=\"\",0,IF(B66=0,0,INDEX('RC'!BS$48:BS$179,MATCH(A66,'RC'!BI$48:BI$179,0))))","v":0},{"$f":"SUM(G66:J66)","v":0},{"$f":"B66-G66","v":0},{"$f":"C66-H66","v":0},{"$f":"D66-I66","v":0},{"$f":"E66-J66","v":0},{"$f":"SUM(L66:O66)","v":0},{"$f":"IF(ISERROR(INDEX('RC'!DG$48:DG$179,MATCH(A66,'RC'!BI$48:BI$179,0))),0,(INDEX('RC'!DG$48:DG$179,MATCH(A66,'RC'!BI$48:BI$179,0))))","v":0},{"$f":"IF(ISERROR(INDEX('RC'!DH$48:DH$179,MATCH(A66,'RC'!BI$48:BI$179,0))),0,(INDEX('RC'!DH$48:DH$179,MATCH(A66,'RC'!BI$48:BI$179,0))))","v":0},0,{"$f":"IF(Entry!B$28=\"Y\",0,IF(ISERROR(INDEX('RC'!CV$48:CV$179,MATCH(A66,'RC'!BI$48:BI$179,0))),0,(INDEX('RC'!CV$48:CV$179,MATCH(A66,'RC'!BI$48:BI$179,0)))))","v":0},{"$f":"IF(Entry!B$28=\"Y\",0,IF(ISERROR(INDEX('RC'!CW$48:CW$179,MATCH(A66,'RC'!BI$48:BI$179,0))),0,(INDEX('RC'!CW$48:CW$179,MATCH(A66,'RC'!BI$48:BI$179,0)))))","v":0},0,{"$f":"IF(ISERROR(INDEX('RC'!CY$48:CY$179,MATCH(A66,'RC'!BI$48:BI$179,0))),0,(INDEX('RC'!CY$48:CY$179,MATCH(A66,'RC'!BI$48:BI$179,0))))","v":0},{"$f":"IF(ISERROR(INDEX('RC'!CZ$48:CZ$179,MATCH(A66,'RC'!BI$48:BI$179,0))),0,(INDEX('RC'!CZ$48:CZ$179,MATCH(A66,'RC'!BI$48:BI$179,0))))","v":0},0,{"$f":"IF(A66>='RC'!BM$29,0,IF(ISERROR(INDEX('RC'!CF$48:CF$179,MATCH(A66,'RC'!BI$48:BI$179,0))),0,(INDEX('RC'!CF$48:CF$179,MATCH(A66,'RC'!BI$48:BI$179,0)))))","v":0},0,0,null,null,null,null,null,null,null,0,0,"",""]
[{"$f":"EDATE(A66,1)","v":"2020-02-01"},{"$f":"IF(ISERROR(INDEX('RC'!BJ$48:BJ$179,MATCH(A67,'RC'!BI$48:BI$179,0))),0,(INDEX('RC'!BJ$48:BJ$179,MATCH(A67,'RC'!BI$48:BI$179,0))))","v":0},{"$f":"IF(B67=\"\",0,IF(B67=0,0,INDEX('RC'!BK$48:BK$179,MATCH(A67,'RC'!BI$48:BI$179,0))))","v":0},{"$f":"IF(B67=\"\",0,IF(B67=0,0,INDEX('RC'!BL$48:BL$179,MATCH(A67,'RC'!BI$48:BI$179,0))))","v":0},{"$f":"IF(B67=\"\",0,IF(B67=0,0,INDEX('RC'!BM$48:BM$179,MATCH(A67,'RC'!BI$48:BI$179,0))))","v":0},0,{"$f":"IF(ISERROR(INDEX('RC'!BP$48:BP$179,MATCH(A67,'RC'!BI$48:BI$179,0))),0,(INDEX('RC'!BP$48:BP$179,MATCH(A67,'RC'!BI$48:BI$179,0))))","v":0},{"$f":"IF(B67=\"\",0,IF(B67=0,0,INDEX('RC'!BQ$48:BQ$179,MATCH(A67,'RC'!BI$48:BI$179,0))))","v":0},{"$f":"IF(B67=\"\",0,IF(B67=0,0,INDEX('RC'!BR$48:BR$179,MATCH(A67,'RC'!BI$48:BI$179,0))))","v":0},{"$f":"IF(B67=\"\",0,IF(B67=0,0,INDEX('RC'!BS$48:BS$179,MATCH(A67,'RC'!BI$48:BI$179,0))))","v":0},0,0,0,0,0,0,{"$f":"IF(ISERROR(INDEX('RC'!DG$48:DG$179,MATCH(A67,'RC'!BI$48:BI$179,0))),0,(INDEX('RC'!DG$48:DG$179,MATCH(A67,'RC'!BI$48:BI$179,0))))","v":0},{"$f":"IF(ISERROR(INDEX('RC'!DH$48:DH$179,MATCH(A67,'RC'!BI$48:BI$179,0))),0,(INDEX('RC'!DH$48:DH$179,MATCH(A67,'RC'!BI$48:BI$179,0))))","v":0},0,{"$f":"IF(Entry!B$28=\"Y\",0,IF(ISERROR(INDEX('RC'!CV$48:CV$179,MATCH(A67,'RC'!BI$48:BI$179,0))),0,(INDEX('RC'!CV$48:CV$179,MATCH(A67,'RC'!BI$48:BI$179,0)))))","v":0},{"$f":"IF(Entry!B$28=\"Y\",0,IF(ISERROR(INDEX('RC'!CW$48:CW$179,MATCH(A67,'RC'!BI$48:BI$179,0))),0,(INDEX('RC'!CW$48:CW$179,MATCH(A67,'RC'!BI$48:BI$179,0)))))","v":0},0,{"$f":"IF(ISERROR(INDEX('RC'!CY$48:CY$179,MATCH(A67,'RC'!BI$48:BI$179,0))),0,(INDEX('RC'!CY$48:CY$179,MATCH(A67,'RC'!BI$48:BI$179,0))))","v":0},{"$f":"IF(ISERROR(INDEX('RC'!CZ$48:CZ$179,MATCH(A67,'RC'!BI$48:BI$179,0))),0,(INDEX('RC'!CZ$48:CZ$179,MATCH(A67,'RC'!BI$48:BI$179,0))))","v":0},0,{"$f":"IF(A67>='RC'!BM$29,0,IF(ISERROR(INDEX('RC'!CF$48:CF$179,MATCH(A67,'RC'!BI$48:BI$179,0))),0,(INDEX('RC'!CF$48:CF$179,MATCH(A67,'RC'!BI$48:BI$179,0)))))","v":0},0,0,null,null,null,null,null,null,null,0,0,"",""]
[{"$f":"EDATE(A67,1)","v":"2020-03-01"},{"$f":"IF(ISERROR(INDEX('RC'!BJ$48:BJ$179,MATCH(A68,'RC'!BI$48:BI$179,0))),0,(INDEX('RC'!BJ$48:BJ$179,MATCH(A68,'RC'!BI$48:BI$179,0))))","v":0},{"$f":"IF(B68=\"\",0,IF(B68=0,0,INDEX('RC'!BK$48:BK$179,MATCH(A68,'RC'!BI$48:BI$179,0))))","v":0},{"$f":"IF(B68=\"\",0,IF(B68=0,0,INDEX('RC'!BL$48:BL$179,MATCH(A68,'RC'!BI$48:BI$179,0))))","v":0},{"$f":"IF(B68=\"\",0,IF(B68=0,0,INDEX('RC'!BM$48:BM$179,MATCH(A68,'RC'!BI$48:BI$179,0))))","v":0},0,{"$f":"IF(ISERROR(INDEX('RC'!BP$48:BP$179,MATCH(A68,'RC'!BI$48:BI$179,0))),0,(INDEX('RC'!BP$48:BP$179,MATCH(A68,'RC'!BI$48:BI$179,0))))","v":0},{"$f":"IF(B68=\"\",0,IF(B68=0,0,INDEX('RC'!BQ$48:BQ$179,MATCH(A68,'RC'!BI$48:BI$179,0))))","v":0},{"$f":"IF(B68=\"\",0,IF(B68=0,0,INDEX('RC'!BR$48:BR$179,MATCH(A68,'RC'!BI$48:BI$179,0))))","v":0},{"$f":"IF(B68=\"\",0,IF(B68=0,0,INDEX('RC'!BS$48:BS$179,MATCH(A68,'RC'!BI$48:BI$179,0))))","v":0},0,0,0,0,0,0,{"$f":"IF(ISERROR(INDEX('RC'!DG$48:DG$179,MATCH(A68,'RC'!BI$48:BI$179,0))),0,(INDEX('RC'!DG$48:DG$179,MATCH(A68,'RC'!BI$48:BI$179,0))))","v":0},{"$f":"IF(ISERROR(INDEX('RC'!DH$48:DH$179,MATCH(A68,'RC'!BI$48:BI$179,0))),0,(INDEX('RC'!DH$48:DH$179,MATCH(A68,'RC'!BI$48:BI$179,0))))","v":0},0,{"$f":"IF(Entry!B$28=\"Y\",0,IF(ISERROR(INDEX('RC'!CV$48:CV$179,MATCH(A68,'RC'!BI$48:BI$179,0))),0,(INDEX('RC'!CV$48:CV$179,MATCH(A68,'RC'!BI$48:BI$179,0)))))","v":0},{"$f":"IF(Entry!B$28=\"Y\",0,IF(ISERROR(INDEX('RC'!CW$48:CW$179,MATCH(A68,'RC'!BI$48:BI$179,0))),0,(INDEX('RC'!CW$48:CW$179,MATCH(A68,'RC'!BI$48:BI$179,0)))))","v":0},0,{"$f":"IF(ISERROR(INDEX('RC'!CY$48:CY$179,MATCH(A68,'RC'!BI$48:BI$179,0))),0,(INDEX('RC'!CY$48:CY$179,MATCH(A68,'RC'!BI$48:BI$179,0))))","v":0},{"$f":"IF(ISERROR(INDEX('RC'!CZ$48:CZ$179,MATCH(A68,'RC'!BI$48:BI$179,0))),0,(INDEX('RC'!CZ$48:CZ$179,MATCH(A68,'RC'!BI$48:BI$179,0))))","v":0},0,{"$f":"IF(A68>='RC'!BM$29,0,IF(ISERROR(INDEX('RC'!CF$48:CF$179,MATCH(A68,'RC'!BI$48:BI$179,0))),0,(INDEX('RC'!CF$48:CF$179,MATCH(A68,'RC'!BI$48:BI$179,0)))))","v":0},0,0,null,null,null,null,null,null,null,0,0,"",""]
["2020-04-01",{"$f":"IF(ISERROR(INDEX('RC'!BJ$48:BJ$179,MATCH(A69,'RC'!BI$48:BI$179,0))),0,(INDEX('RC'!BJ$48:BJ$179,MATCH(A69,'RC'!BI$48:BI$179,0))))","v":0},{"$f":"IF(B69=\"\",0,IF(B69=0,0,INDEX('RC'!BK$48:BK$179,MATCH(A69,'RC'!BI$48:BI$179,0))))","v":0},{"$f":"IF(B69=\"\",0,IF(B69=0,0,INDEX('RC'!BL$48:BL$179,MATCH(A69,'RC'!BI$48:BI$179,0))))","v":0},{"$f":"IF(B69=\"\",0,IF(B69=0,0,INDEX('RC'!BM$48:BM$179,MATCH(A69,'RC'!BI$48:BI$179,0))))","v":0},0,{"$f":"IF(ISERROR(INDEX('RC'!BP$48:BP$179,MATCH(A69,'RC'!BI$48:BI$179,0))),0,(INDEX('RC'!BP$48:BP$179,MATCH(A69,'RC'!BI$48:BI$179,0))))","v":0},{"$f":"IF(B69=\"\",0,IF(B69=0,0,INDEX('RC'!BQ$48:BQ$179,MATCH(A69,'RC'!BI$48:BI$179,0))))","v":0},{"$f":"IF(B69=\"\",0,IF(B69=0,0,INDEX('RC'!BR$48:BR$179,MATCH(A69,'RC'!BI$48:BI$179,0))))","v":0},{"$f":"IF(B69=\"\",0,IF(B69=0,0,INDEX('RC'!BS$48:BS$179,MATCH(A69,'RC'!BI$48:BI$179,0))))","v":0},0,0,0,0,0,0,{"$f":"IF(ISERROR(INDEX('RC'!DG$48:DG$179,MATCH(A69,'RC'!BI$48:BI$179,0))),0,(INDEX('RC'!DG$48:DG$179,MATCH(A69,'RC'!BI$48:BI$179,0))))","v":0},{"$f":"IF(ISERROR(INDEX('RC'!DH$48:DH$179,MATCH(A69,'RC'!BI$48:BI$179,0))),0,(INDEX('RC'!DH$48:DH$179,MATCH(A69,'RC'!BI$48:BI$179,0))))","v":0},0,{"$f":"IF(Entry!B$28=\"Y\",0,IF(ISERROR(INDEX('RC'!CV$48:CV$179,MATCH(A69,'RC'!BI$48:BI$179,0))),0,(INDEX('RC'!CV$48:CV$179,MATCH(A69,'RC'!BI$48:BI$179,0)))))","v":0},{"$f":"IF(Entry!B$28=\"Y\",0,IF(ISERROR(INDEX('RC'!CW$48:CW$179,MATCH(A69,'RC'!BI$48:BI$179,0))),0,(INDEX('RC'!CW$48:CW$179,MATCH(A69,'RC'!BI$48:BI$179,0)))))","v":0},0,{"$f":"IF(ISERROR(INDEX('RC'!CY$48:CY$179,MATCH(A69,'RC'!BI$48:BI$179,0))),0,(INDEX('RC'!CY$48:CY$179,MATCH(A69,'RC'!BI$48:BI$179,0))))","v":0},{"$f":"IF(ISERROR(INDEX('RC'!CZ$48:CZ$179,MATCH(A69,'RC'!BI$48:BI$179,0))),0,(INDEX('RC'!CZ$48:CZ$179,MATCH(A69,'RC'!BI$48:BI$179,0))))","v":0},0,{"$f":"IF(A69>='RC'!BM$29,0,IF(ISERROR(INDEX('RC'!CF$48:CF$179,MATCH(A69,'RC'!BI$48:BI$179,0))),0,(INDEX('RC'!CF$48:CF$179,MATCH(A69,'RC'!BI$48:BI$179,0)))))","v":0},0,0,null,null,null,null,null,null,null,0,0,"",""]
["2020-05-01",{"$f":"IF(ISERROR(INDEX('RC'!BJ$48:BJ$179,MATCH(A70,'RC'!BI$48:BI$179,0))),0,(INDEX('RC'!BJ$48:BJ$179,MATCH(A70,'RC'!BI$48:BI$179,0))))","v":0},{"$f":"IF(B70=\"\",0,IF(B70=0,0,INDEX('RC'!BK$48:BK$179,MATCH(A70,'RC'!BI$48:BI$179,0))))","v":0},{"$f":"IF(B70=\"\",0,IF(B70=0,0,INDEX('RC'!BL$48:BL$179,MATCH(A70,'RC'!BI$48:BI$179,0))))","v":0},{"$f":"IF(B70=\"\",0,IF(B70=0,0,INDEX('RC'!BM$48:BM$179,MATCH(A70,'RC'!BI$48:BI$179,0))))","v":0},0,{"$f":"IF(ISERROR(INDEX('RC'!BP$48:BP$179,MATCH(A70,'RC'!BI$48:BI$179,0))),0,(INDEX('RC'!BP$48:BP$179,MATCH(A70,'RC'!BI$48:BI$179,0))))","v":0},{"$f":"IF(B70=\"\",0,IF(B70=0,0,INDEX('RC'!BQ$48:BQ$179,MATCH(A70,'RC'!BI$48:BI$179,0))))","v":0},{"$f":"IF(B70=\"\",0,IF(B70=0,0,INDEX('RC'!BR$48:BR$179,MATCH(A70,'RC'!BI$48:BI$179,0))))","v":0},{"$f":"IF(B70=\"\",0,IF(B70=0,0,INDEX('RC'!BS$48:BS$179,MATCH(A70,'RC'!BI$48:BI$179,0))))","v":0},0,0,0,0,0,0,{"$f":"IF(ISERROR(INDEX('RC'!DG$48:DG$179,MATCH(A70,'RC'!BI$48:BI$179,0))),0,(INDEX('RC'!DG$48:DG$179,MATCH(A70,'RC'!BI$48:BI$179,0))))","v":0},{"$f":"IF(ISERROR(INDEX('RC'!DH$48:DH$179,MATCH(A70,'RC'!BI$48:BI$179,0))),0,(INDEX('RC'!DH$48:DH$179,MATCH(A70,'RC'!BI$48:BI$179,0))))","v":0},0,{"$f":"IF(Entry!B$28=\"Y\",0,IF(ISERROR(INDEX('RC'!CV$48:CV$179,MATCH(A70,'RC'!BI$48:BI$179,0))),0,(INDEX('RC'!CV$48:CV$179,MATCH(A70,'RC'!BI$48:BI$179,0)))))","v":0},{"$f":"IF(Entry!B$28=\"Y\",0,IF(ISERROR(INDEX('RC'!CW$48:CW$179,MATCH(A70,'RC'!BI$48:BI$179,0))),0,(INDEX('RC'!CW$48:CW$179,MATCH(A70,'RC'!BI$48:BI$179,0)))))","v":0},0,{"$f":"IF(ISERROR(INDEX('RC'!CY$48:CY$179,MATCH(A70,'RC'!BI$48:BI$179,0))),0,(INDEX('RC'!CY$48:CY$179,MATCH(A70,'RC'!BI$48:BI$179,0))))","v":0},{"$f":"IF(ISERROR(INDEX('RC'!CZ$48:CZ$179,MATCH(A70,'RC'!BI$48:BI$179,0))),0,(INDEX('RC'!CZ$48:CZ$179,MATCH(A70,'RC'!BI$48:BI$179,0))))","v":0},0,{"$f":"IF(A70>='RC'!BM$29,0,IF(ISERROR(INDEX('RC'!CF$48:CF$179,MATCH(A70,'RC'!BI$48:BI$179,0))),0,(INDEX('RC'!CF$48:CF$179,MATCH(A70,'RC'!BI$48:BI$179,0)))))","v":0},0,0,null,null,null,null,null,null,null,0,0,"",""]
["2020-06-01",{"$f":"IF(ISERROR(INDEX('RC'!BJ$48:BJ$179,MATCH(A71,'RC'!BI$48:BI$179,0))),0,(INDEX('RC'!BJ$48:BJ$179,MATCH(A71,'RC'!BI$48:BI$179,0))))","v":0},{"$f":"IF(B71=\"\",0,IF(B71=0,0,INDEX('RC'!BK$48:BK$179,MATCH(A71,'RC'!BI$48:BI$179,0))))","v":0},{"$f":"IF(B71=\"\",0,IF(B71=0,0,INDEX('RC'!BL$48:BL$179,MATCH(A71,'RC'!BI$48:BI$179,0))))","v":0},{"$f":"IF(B71=\"\",0,IF(B71=0,0,INDEX('RC'!BM$48:BM$179,MATCH(A71,'RC'!BI$48:BI$179,0))))","v":0},0,{"$f":"IF(ISERROR(INDEX('RC'!BP$48:BP$179,MATCH(A71,'RC'!BI$48:BI$179,0))),0,(INDEX('RC'!BP$48:BP$179,MATCH(A71,'RC'!BI$48:BI$179,0))))","v":0},{"$f":"IF(B71=\"\",0,IF(B71=0,0,INDEX('RC'!BQ$48:BQ$179,MATCH(A71,'RC'!BI$48:BI$179,0))))","v":0},{"$f":"IF(B71=\"\",0,IF(B71=0,0,INDEX('RC'!BR$48:BR$179,MATCH(A71,'RC'!BI$48:BI$179,0))))","v":0},{"$f":"IF(B71=\"\",0,IF(B71=0,0,INDEX('RC'!BS$48:BS$179,MATCH(A71,'RC'!BI$48:BI$179,0))))","v":0},0,0,0,0,0,0,{"$f":"IF(ISERROR(INDEX('RC'!DG$48:DG$179,MATCH(A71,'RC'!BI$48:BI$179,0))),0,(INDEX('RC'!DG$48:DG$179,MATCH(A71,'RC'!BI$48:BI$179,0))))","v":0},{"$f":"IF(ISERROR(INDEX('RC'!DH$48:DH$179,MATCH(A71,'RC'!BI$48:BI$179,0))),0,(INDEX('RC'!DH$48:DH$179,MATCH(A71,'RC'!BI$48:BI$179,0))))","v":0},0,{"$f":"IF(Entry!B$28=\"Y\",0,IF(ISERROR(INDEX('RC'!CV$48:CV$179,MATCH(A71,'RC'!BI$48:BI$179,0))),0,(INDEX('RC'!CV$48:CV$179,MATCH(A71,'RC'!BI$48:BI$179,0)))))","v":0},{"$f":"IF(Entry!B$28=\"Y\",0,IF(ISERROR(INDEX('RC'!CW$48:CW$179,MATCH(A71,'RC'!BI$48:BI$179,0))),0,(INDEX('RC'!CW$48:CW$179,MATCH(A71,'RC'!BI$48:BI$179,0)))))","v":0},0,{"$f":"IF(ISERROR(INDEX('RC'!CY$48:CY$179,MATCH(A71,'RC'!BI$48:BI$179,0))),0,(INDEX('RC'!CY$48:CY$179,MATCH(A71,'RC'!BI$48:BI$179,0))))","v":0},{"$f":"IF(ISERROR(INDEX('RC'!CZ$48:CZ$179,MATCH(A71,'RC'!BI$48:BI$179,0))),0,(INDEX('RC'!CZ$48:CZ$179,MATCH(A71,'RC'!BI$48:BI$179,0))))","v":0},0,{"$f":"IF(A71>='RC'!BM$29,0,IF(ISERROR(INDEX('RC'!CF$48:CF$179,MATCH(A71,'RC'!BI$48:BI$179,0))),0,(INDEX('RC'!CF$48:CF$179,MATCH(A71,'RC'!BI$48:BI$179,0)))))","v":0},0,0,null,null,null,null,null,null,null,0,0,"",""]
["2020-07-01",{"$f":"IF(ISERROR(INDEX('RC'!BJ$48:BJ$179,MATCH(A72,'RC'!BI$48:BI$179,0))),0,(INDEX('RC'!BJ$48:BJ$179,MATCH(A72,'RC'!BI$48:BI$179,0))))","v":0},{"$f":"IF(B72=\"\",0,IF(B72=0,0,INDEX('RC'!BK$48:BK$179,MATCH(A72,'RC'!BI$48:BI$179,0))))","v":0},{"$f":"IF(B72=\"\",0,IF(B72=0,0,INDEX('RC'!BL$48:BL$179,MATCH(A72,'RC'!BI$48:BI$179,0))))","v":0},{"$f":"IF(B72=\"\",0,IF(B72=0,0,INDEX('RC'!BM$48:BM$179,MATCH(A72,'RC'!BI$48:BI$179,0))))","v":0},0,{"$f":"IF(ISERROR(INDEX('RC'!BP$48:BP$179,MATCH(A72,'RC'!BI$48:BI$179,0))),0,(INDEX('RC'!BP$48:BP$179,MATCH(A72,'RC'!BI$48:BI$179,0))))","v":0},{"$f":"IF(B72=\"\",0,IF(B72=0,0,INDEX('RC'!BQ$48:BQ$179,MATCH(A72,'RC'!BI$48:BI$179,0))))","v":0},{"$f":"IF(B72=\"\",0,IF(B72=0,0,INDEX('RC'!BR$48:BR$179,MATCH(A72,'RC'!BI$48:BI$179,0))))","v":0},{"$f":"IF(B72=\"\",0,IF(B72=0,0,INDEX('RC'!BS$48:BS$179,MATCH(A72,'RC'!BI$48:BI$179,0))))","v":0},0,0,0,0,0,0,{"$f":"IF(ISERROR(INDEX('RC'!DG$48:DG$179,MATCH(A72,'RC'!BI$48:BI$179,0))),0,(INDEX('RC'!DG$48:DG$179,MATCH(A72,'RC'!BI$48:BI$179,0))))","v":0},{"$f":"IF(ISERROR(INDEX('RC'!DH$48:DH$179,MATCH(A72,'RC'!BI$48:BI$179,0))),0,(INDEX('RC'!DH$48:DH$179,MATCH(A72,'RC'!BI$48:BI$179,0))))","v":0},0,{"$f":"IF(Entry!B$28=\"Y\",0,IF(ISERROR(INDEX('RC'!CV$48:CV$179,MATCH(A72,'RC'!BI$48:BI$179,0))),0,(INDEX('RC'!CV$48:CV$179,MATCH(A72,'RC'!BI$48:BI$179,0)))))","v":0},{"$f":"IF(Entry!B$28=\"Y\",0,IF(ISERROR(INDEX('RC'!CW$48:CW$179,MATCH(A72,'RC'!BI$48:BI$179,0))),0,(INDEX('RC'!CW$48:CW$179,MATCH(A72,'RC'!BI$48:BI$179,0)))))","v":0},0,{"$f":"IF(ISERROR(INDEX('RC'!CY$48:CY$179,MATCH(A72,'RC'!BI$48:BI$179,0))),0,(INDEX('RC'!CY$48:CY$179,MATCH(A72,'RC'!BI$48:BI$179,0))))","v":0},{"$f":"IF(ISERROR(INDEX('RC'!CZ$48:CZ$179,MATCH(A72,'RC'!BI$48:BI$179,0))),0,(INDEX('RC'!CZ$48:CZ$179,MATCH(A72,'RC'!BI$48:BI$179,0))))","v":0},0,{"$f":"IF(A72>='RC'!BM$29,0,IF(ISERROR(INDEX('RC'!CF$48:CF$179,MATCH(A72,'RC'!BI$48:BI$179,0))),0,(INDEX('RC'!CF$48:CF$179,MATCH(A72,'RC'!BI$48:BI$179,0)))))","v":0},0,0,null,null,null,null,null,null,null,0,0,"",""]
["2020-08-01",{"$f":"IF(ISERROR(INDEX('RC'!BJ$48:BJ$179,MATCH(A73,'RC'!BI$48:BI$179,0))),0,(INDEX('RC'!BJ$48:BJ$179,MATCH(A73,'RC'!BI$48:BI$179,0))))","v":0},{"$f":"IF(B73=\"\",0,IF(B73=0,0,INDEX('RC'!BK$48:BK$179,MATCH(A73,'RC'!BI$48:BI$179,0))))","v":0},{"$f":"IF(B73=\"\",0,IF(B73=0,0,INDEX('RC'!BL$48:BL$179,MATCH(A73,'RC'!BI$48:BI$179,0))))","v":0},{"$f":"IF(B73=\"\",0,IF(B73=0,0,INDEX('RC'!BM$48:BM$179,MATCH(A73,'RC'!BI$48:BI$179,0))))","v":0},0,{"$f":"IF(ISERROR(INDEX('RC'!BP$48:BP$179,MATCH(A73,'RC'!BI$48:BI$179,0))),0,(INDEX('RC'!BP$48:BP$179,MATCH(A73,'RC'!BI$48:BI$179,0))))","v":0},{"$f":"IF(B73=\"\",0,IF(B73=0,0,INDEX('RC'!BQ$48:BQ$179,MATCH(A73,'RC'!BI$48:BI$179,0))))","v":0},{"$f":"IF(B73=\"\",0,IF(B73=0,0,INDEX('RC'!BR$48:BR$179,MATCH(A73,'RC'!BI$48:BI$179,0))))","v":0},{"$f":"IF(B73=\"\",0,IF(B73=0,0,INDEX('RC'!BS$48:BS$179,MATCH(A73,'RC'!BI$48:BI$179,0))))","v":0},0,0,0,0,0,0,{"$f":"IF(ISERROR(INDEX('RC'!DG$48:DG$179,MATCH(A73,'RC'!BI$48:BI$179,0))),0,(INDEX('RC'!DG$48:DG$179,MATCH(A73,'RC'!BI$48:BI$179,0))))","v":0},{"$f":"IF(ISERROR(INDEX('RC'!DH$48:DH$179,MATCH(A73,'RC'!BI$48:BI$179,0))),0,(INDEX('RC'!DH$48:DH$179,MATCH(A73,'RC'!BI$48:BI$179,0))))","v":0},0,{"$f":"IF(Entry!B$28=\"Y\",0,IF(ISERROR(INDEX('RC'!CV$48:CV$179,MATCH(A73,'RC'!BI$48:BI$179,0))),0,(INDEX('RC'!CV$48:CV$179,MATCH(A73,'RC'!BI$48:BI$179,0)))))","v":0},{"$f":"IF(Entry!B$28=\"Y\",0,IF(ISERROR(INDEX('RC'!CW$48:CW$179,MATCH(A73,'RC'!BI$48:BI$179,0))),0,(INDEX('RC'!CW$48:CW$179,MATCH(A73,'RC'!BI$48:BI$179,0)))))","v":0},0,{"$f":"IF(ISERROR(INDEX('RC'!CY$48:CY$179,MATCH(A73,'RC'!BI$48:BI$179,0))),0,(INDEX('RC'!CY$48:CY$179,MATCH(A73,'RC'!BI$48:BI$179,0))))","v":0},{"$f":"IF(ISERROR(INDEX('RC'!CZ$48:CZ$179,MATCH(A73,'RC'!BI$48:BI$179,0))),0,(INDEX('RC'!CZ$48:CZ$179,MATCH(A73,'RC'!BI$48:BI$179,0))))","v":0},0,{"$f":"IF(A73>='RC'!BM$29,0,IF(ISERROR(INDEX('RC'!CF$48:CF$179,MATCH(A73,'RC'!BI$48:BI$179,0))),0,(INDEX('RC'!CF$48:CF$179,MATCH(A73,'RC'!BI$48:BI$179,0)))))","v":0},0,0,null,null,null,null,null,null,null,0,0,"",""]
["2020-09-01",{"$f":"IF(ISERROR(INDEX('RC'!BJ$48:BJ$179,MATCH(A74,'RC'!BI$48:BI$179,0))),0,(INDEX('RC'!BJ$48:BJ$179,MATCH(A74,'RC'!BI$48:BI$179,0))))","v":0},{"$f":"IF(B74=\"\",0,IF(B74=0,0,INDEX('RC'!BK$48:BK$179,MATCH(A74,'RC'!BI$48:BI$179,0))))","v":0},{"$f":"IF(B74=\"\",0,IF(B74=0,0,INDEX('RC'!BL$48:BL$179,MATCH(A74,'RC'!BI$48:BI$179,0))))","v":0},{"$f":"IF(B74=\"\",0,IF(B74=0,0,INDEX('RC'!BM$48:BM$179,MATCH(A74,'RC'!BI$48:BI$179,0))))","v":0},0,{"$f":"IF(ISERROR(INDEX('RC'!BP$48:BP$179,MATCH(A74,'RC'!BI$48:BI$179,0))),0,(INDEX('RC'!BP$48:BP$179,MATCH(A74,'RC'!BI$48:BI$179,0))))","v":0},{"$f":"IF(B74=\"\",0,IF(B74=0,0,INDEX('RC'!BQ$48:BQ$179,MATCH(A74,'RC'!BI$48:BI$179,0))))","v":0},{"$f":"IF(B74=\"\",0,IF(B74=0,0,INDEX('RC'!BR$48:BR$179,MATCH(A74,'RC'!BI$48:BI$179,0))))","v":0},{"$f":"IF(B74=\"\",0,IF(B74=0,0,INDEX('RC'!BS$48:BS$179,MATCH(A74,'RC'!BI$48:BI$179,0))))","v":0},0,0,0,0,0,0,{"$f":"IF(ISERROR(INDEX('RC'!DG$48:DG$179,MATCH(A74,'RC'!BI$48:BI$179,0))),0,(INDEX('RC'!DG$48:DG$179,MATCH(A74,'RC'!BI$48:BI$179,0))))","v":0},{"$f":"IF(ISERROR(INDEX('RC'!DH$48:DH$179,MATCH(A74,'RC'!BI$48:BI$179,0))),0,(INDEX('RC'!DH$48:DH$179,MATCH(A74,'RC'!BI$48:BI$179,0))))","v":0},0,{"$f":"IF(Entry!B$28=\"Y\",0,IF(ISERROR(INDEX('RC'!CV$48:CV$179,MATCH(A74,'RC'!BI$48:BI$179,0))),0,(INDEX('RC'!CV$48:CV$179,MATCH(A74,'RC'!BI$48:BI$179,0)))))","v":0},{"$f":"IF(Entry!B$28=\"Y\",0,IF(ISERROR(INDEX('RC'!CW$48:CW$179,MATCH(A74,'RC'!BI$48:BI$179,0))),0,(INDEX('RC'!CW$48:CW$179,MATCH(A74,'RC'!BI$48:BI$179,0)))))","v":0},0,{"$f":"IF(ISERROR(INDEX('RC'!CY$48:CY$179,MATCH(A74,'RC'!BI$48:BI$179,0))),0,(INDEX('RC'!CY$48:CY$179,MATCH(A74,'RC'!BI$48:BI$179,0))))","v":0},{"$f":"IF(ISERROR(INDEX('RC'!CZ$48:CZ$179,MATCH(A74,'RC'!BI$48:BI$179,0))),0,(INDEX('RC'!CZ$48:CZ$179,MATCH(A74,'RC'!BI$48:BI$179,0))))","v":0},0,{"$f":"IF(A74>='RC'!BM$29,0,IF(ISERROR(INDEX('RC'!CF$48:CF$179,MATCH(A74,'RC'!BI$48:BI$179,0))),0,(INDEX('RC'!CF$48:CF$179,MATCH(A74,'RC'!BI$48:BI$179,0)))))","v":0},0,0,null,null,null,null,null,null,null,0,0,"",""]
["2020-10-01",{"$f":"IF(ISERROR(INDEX('RC'!BJ$48:BJ$179,MATCH(A75,'RC'!BI$48:BI$179,0))),0,(INDEX('RC'!BJ$48:BJ$179,MATCH(A75,'RC'!BI$48:BI$179,0))))","v":0},{"$f":"IF(B75=\"\",0,IF(B75=0,0,INDEX('RC'!BK$48:BK$179,MATCH(A75,'RC'!BI$48:BI$179,0))))","v":0},{"$f":"IF(B75=\"\",0,IF(B75=0,0,INDEX('RC'!BL$48:BL$179,MATCH(A75,'RC'!BI$48:BI$179,0))))","v":0},{"$f":"IF(B75=\"\",0,IF(B75=0,0,INDEX('RC'!BM$48:BM$179,MATCH(A75,'RC'!BI$48:BI$179,0))))","v":0},0,{"$f":"IF(ISERROR(INDEX('RC'!BP$48:BP$179,MATCH(A75,'RC'!BI$48:BI$179,0))),0,(INDEX('RC'!BP$48:BP$179,MATCH(A75,'RC'!BI$48:BI$179,0))))","v":0},{"$f":"IF(B75=\"\",0,IF(B75=0,0,INDEX('RC'!BQ$48:BQ$179,MATCH(A75,'RC'!BI$48:BI$179,0))))","v":0},{"$f":"IF(B75=\"\",0,IF(B75=0,0,INDEX('RC'!BR$48:BR$179,MATCH(A75,'RC'!BI$48:BI$179,0))))","v":0},{"$f":"IF(B75=\"\",0,IF(B75=0,0,INDEX('RC'!BS$48:BS$179,MATCH(A75,'RC'!BI$48:BI$179,0))))","v":0},0,0,0,0,0,0,{"$f":"IF(ISERROR(INDEX('RC'!DG$48:DG$179,MATCH(A75,'RC'!BI$48:BI$179,0))),0,(INDEX('RC'!DG$48:DG$179,MATCH(A75,'RC'!BI$48:BI$179,0))))","v":0},{"$f":"IF(ISERROR(INDEX('RC'!DH$48:DH$179,MATCH(A75,'RC'!BI$48:BI$179,0))),0,(INDEX('RC'!DH$48:DH$179,MATCH(A75,'RC'!BI$48:BI$179,0))))","v":0},0,{"$f":"IF(Entry!B$28=\"Y\",0,IF(ISERROR(INDEX('RC'!CV$48:CV$179,MATCH(A75,'RC'!BI$48:BI$179,0))),0,(INDEX('RC'!CV$48:CV$179,MATCH(A75,'RC'!BI$48:BI$179,0)))))","v":0},{"$f":"IF(Entry!B$28=\"Y\",0,IF(ISERROR(INDEX('RC'!CW$48:CW$179,MATCH(A75,'RC'!BI$48:BI$179,0))),0,(INDEX('RC'!CW$48:CW$179,MATCH(A75,'RC'!BI$48:BI$179,0)))))","v":0},0,{"$f":"IF(ISERROR(INDEX('RC'!CY$48:CY$179,MATCH(A75,'RC'!BI$48:BI$179,0))),0,(INDEX('RC'!CY$48:CY$179,MATCH(A75,'RC'!BI$48:BI$179,0))))","v":0},{"$f":"IF(ISERROR(INDEX('RC'!CZ$48:CZ$179,MATCH(A75,'RC'!BI$48:BI$179,0))),0,(INDEX('RC'!CZ$48:CZ$179,MATCH(A75,'RC'!BI$48:BI$179,0))))","v":0},0,{"$f":"IF(A75>='RC'!BM$29,0,IF(ISERROR(INDEX('RC'!CF$48:CF$179,MATCH(A75,'RC'!BI$48:BI$179,0))),0,(INDEX('RC'!CF$48:CF$179,MATCH(A75,'RC'!BI$48:BI$179,0)))))","v":0},0,0,null,null,null,null,null,null,null,0,0,"",""]
["2020-11-01",{"$f":"IF(ISERROR(INDEX('RC'!BJ$48:BJ$179,MATCH(A76,'RC'!BI$48:BI$179,0))),0,(INDEX('RC'!BJ$48:BJ$179,MATCH(A76,'RC'!BI$48:BI$179,0))))","v":0},{"$f":"IF(B76=\"\",0,IF(B76=0,0,INDEX('RC'!BK$48:BK$179,MATCH(A76,'RC'!BI$48:BI$179,0))))","v":0},{"$f":"IF(B76=\"\",0,IF(B76=0,0,INDEX('RC'!BL$48:BL$179,MATCH(A76,'RC'!BI$48:BI$179,0))))","v":0},{"$f":"IF(B76=\"\",0,IF(B76=0,0,INDEX('RC'!BM$48:BM$179,MATCH(A76,'RC'!BI$48:BI$179,0))))","v":0},0,{"$f":"IF(ISERROR(INDEX('RC'!BP$48:BP$179,MATCH(A76,'RC'!BI$48:BI$179,0))),0,(INDEX('RC'!BP$48:BP$179,MATCH(A76,'RC'!BI$48:BI$179,0))))","v":0},{"$f":"IF(B76=\"\",0,IF(B76=0,0,INDEX('RC'!BQ$48:BQ$179,MATCH(A76,'RC'!BI$48:BI$179,0))))","v":0},{"$f":"IF(B76=\"\",0,IF(B76=0,0,INDEX('RC'!BR$48:BR$179,MATCH(A76,'RC'!BI$48:BI$179,0))))","v":0},{"$f":"IF(B76=\"\",0,IF(B76=0,0,INDEX('RC'!BS$48:BS$179,MATCH(A76,'RC'!BI$48:BI$179,0))))","v":0},0,0,0,0,0,0,{"$f":"IF(ISERROR(INDEX('RC'!DG$48:DG$179,MATCH(A76,'RC'!BI$48:BI$179,0))),0,(INDEX('RC'!DG$48:DG$179,MATCH(A76,'RC'!BI$48:BI$179,0))))","v":0},{"$f":"IF(ISERROR(INDEX('RC'!DH$48:DH$179,MATCH(A76,'RC'!BI$48:BI$179,0))),0,(INDEX('RC'!DH$48:DH$179,MATCH(A76,'RC'!BI$48:BI$179,0))))","v":0},0,{"$f":"IF(Entry!B$28=\"Y\",0,IF(ISERROR(INDEX('RC'!CV$48:CV$179,MATCH(A76,'RC'!BI$48:BI$179,0))),0,(INDEX('RC'!CV$48:CV$179,MATCH(A76,'RC'!BI$48:BI$179,0)))))","v":0},{"$f":"IF(Entry!B$28=\"Y\",0,IF(ISERROR(INDEX('RC'!CW$48:CW$179,MATCH(A76,'RC'!BI$48:BI$179,0))),0,(INDEX('RC'!CW$48:CW$179,MATCH(A76,'RC'!BI$48:BI$179,0)))))","v":0},0,{"$f":"IF(ISERROR(INDEX('RC'!CY$48:CY$179,MATCH(A76,'RC'!BI$48:BI$179,0))),0,(INDEX('RC'!CY$48:CY$179,MATCH(A76,'RC'!BI$48:BI$179,0))))","v":0},{"$f":"IF(ISERROR(INDEX('RC'!CZ$48:CZ$179,MATCH(A76,'RC'!BI$48:BI$179,0))),0,(INDEX('RC'!CZ$48:CZ$179,MATCH(A76,'RC'!BI$48:BI$179,0))))","v":0},0,{"$f":"IF(A76>='RC'!BM$29,0,IF(ISERROR(INDEX('RC'!CF$48:CF$179,MATCH(A76,'RC'!BI$48:BI$179,0))),0,(INDEX('RC'!CF$48:CF$179,MATCH(A76,'RC'!BI$48:BI$179,0)))))","v":0},0,0,null,null,null,null,null,null,null,0,0,"",""]
["2020-12-01",{"$f":"IF(ISERROR(INDEX('RC'!BJ$48:BJ$179,MATCH(A77,'RC'!BI$48:BI$179,0))),0,(INDEX('RC'!BJ$48:BJ$179,MATCH(A77,'RC'!BI$48:BI$179,0))))","v":0},{"$f":"IF(B77=\"\",0,IF(B77=0,0,INDEX('RC'!BK$48:BK$179,MATCH(A77,'RC'!BI$48:BI$179,0))))","v":0},{"$f":"IF(B77=\"\",0,IF(B77=0,0,INDEX('RC'!BL$48:BL$179,MATCH(A77,'RC'!BI$48:BI$179,0))))","v":0},{"$f":"IF(B77=\"\",0,IF(B77=0,0,INDEX('RC'!BM$48:BM$179,MATCH(A77,'RC'!BI$48:BI$179,0))))","v":0},0,{"$f":"IF(ISERROR(INDEX('RC'!BP$48:BP$179,MATCH(A77,'RC'!BI$48:BI$179,0))),0,(INDEX('RC'!BP$48:BP$179,MATCH(A77,'RC'!BI$48:BI$179,0))))","v":0},{"$f":"IF(B77=\"\",0,IF(B77=0,0,INDEX('RC'!BQ$48:BQ$179,MATCH(A77,'RC'!BI$48:BI$179,0))))","v":0},{"$f":"IF(B77=\"\",0,IF(B77=0,0,INDEX('RC'!BR$48:BR$179,MATCH(A77,'RC'!BI$48:BI$179,0))))","v":0},{"$f":"IF(B77=\"\",0,IF(B77=0,0,INDEX('RC'!BS$48:BS$179,MATCH(A77,'RC'!BI$48:BI$179,0))))","v":0},0,0,0,0,0,0,{"$f":"IF(ISERROR(INDEX('RC'!DG$48:DG$179,MATCH(A77,'RC'!BI$48:BI$179,0))),0,(INDEX('RC'!DG$48:DG$179,MATCH(A77,'RC'!BI$48:BI$179,0))))","v":0},{"$f":"IF(ISERROR(INDEX('RC'!DH$48:DH$179,MATCH(A77,'RC'!BI$48:BI$179,0))),0,(INDEX('RC'!DH$48:DH$179,MATCH(A77,'RC'!BI$48:BI$179,0))))","v":0},{"$f":"Q77-R77","v":0},{"$f":"IF(Entry!B$28=\"Y\",0,IF(ISERROR(INDEX('RC'!CV$48:CV$179,MATCH(A77,'RC'!BI$48:BI$179,0))),0,(INDEX('RC'!CV$48:CV$179,MATCH(A77,'RC'!BI$48:BI$179,0)))))","v":0},{"$f":"IF(Entry!B$28=\"Y\",0,IF(ISERROR(INDEX('RC'!CW$48:CW$179,MATCH(A77,'RC'!BI$48:BI$179,0))),0,(INDEX('RC'!CW$48:CW$179,MATCH(A77,'RC'!BI$48:BI$179,0)))))","v":0},{"$f":"T77-U77","v":0},{"$f":"IF(ISERROR(INDEX('RC'!CY$48:CY$179,MATCH(A77,'RC'!BI$48:BI$179,0))),0,(INDEX('RC'!CY$48:CY$179,MATCH(A77,'RC'!BI$48:BI$179,0))))","v":0},{"$f":"IF(ISERROR(INDEX('RC'!CZ$48:CZ$179,MATCH(A77,'RC'!BI$48:BI$179,0))),0,(INDEX('RC'!CZ$48:CZ$179,MATCH(A77,'RC'!BI$48:BI$179,0))))","v":0},{"$f":"W77-X77","v":0},{"$f":"IF(A77>='RC'!BM$29,0,IF(ISERROR(INDEX('RC'!CF$48:CF$179,MATCH(A77,'RC'!BI$48:BI$179,0))),0,(INDEX('RC'!CF$48:CF$179,MATCH(A77,'RC'!BI$48:BI$179,0)))))","v":0},0,0,null,null,null,null,null,null,null,0,0,"",""]
["2021-01-01",{"$f":"IF(ISERROR(INDEX('RC'!BJ$48:BJ$179,MATCH(A78,'RC'!BI$48:BI$179,0))),0,(INDEX('RC'!BJ$48:BJ$179,MATCH(A78,'RC'!BI$48:BI$179,0))))","v":0},{"$f":"IF(B78=\"\",0,IF(B78=0,0,INDEX('RC'!BK$48:BK$179,MATCH(A78,'RC'!BI$48:BI$179,0))))","v":0},{"$f":"IF(B78=\"\",0,IF(B78=0,0,INDEX('RC'!BL$48:BL$179,MATCH(A78,'RC'!BI$48:BI$179,0))))","v":0},{"$f":"IF(B78=\"\",0,IF(B78=0,0,INDEX('RC'!BM$48:BM$179,MATCH(A78,'RC'!BI$48:BI$179,0))))","v":0},0,{"$f":"IF(ISERROR(INDEX('RC'!BP$48:BP$179,MATCH(A78,'RC'!BI$48:BI$179,0))),0,(INDEX('RC'!BP$48:BP$179,MATCH(A78,'RC'!BI$48:BI$179,0))))","v":0},{"$f":"IF(B78=\"\",0,IF(B78=0,0,INDEX('RC'!BQ$48:BQ$179,MATCH(A78,'RC'!BI$48:BI$179,0))))","v":0},{"$f":"IF(B78=\"\",0,IF(B78=0,0,INDEX('RC'!BR$48:BR$179,MATCH(A78,'RC'!BI$48:BI$179,0))))","v":0},{"$f":"IF(B78=\"\",0,IF(B78=0,0,INDEX('RC'!BS$48:BS$179,MATCH(A78,'RC'!BI$48:BI$179,0))))","v":0},0,0,0,0,0,0,{"$f":"IF(ISERROR(INDEX('RC'!DG$48:DG$179,MATCH(A78,'RC'!BI$48:BI$179,0))),0,(INDEX('RC'!DG$48:DG$179,MATCH(A78,'RC'!BI$48:BI$179,0))))","v":0},{"$f":"IF(ISERROR(INDEX('RC'!DH$48:DH$179,MATCH(A78,'RC'!BI$48:BI$179,0))),0,(INDEX('RC'!DH$48:DH$179,MATCH(A78,'RC'!BI$48:BI$179,0))))","v":0},0,{"$f":"IF(Entry!B$28=\"Y\",0,IF(ISERROR(INDEX('RC'!CV$48:CV$179,MATCH(A78,'RC'!BI$48:BI$179,0))),0,(INDEX('RC'!CV$48:CV$179,MATCH(A78,'RC'!BI$48:BI$179,0)))))","v":0},{"$f":"IF(Entry!B$28=\"Y\",0,IF(ISERROR(INDEX('RC'!CW$48:CW$179,MATCH(A78,'RC'!BI$48:BI$179,0))),0,(INDEX('RC'!CW$48:CW$179,MATCH(A78,'RC'!BI$48:BI$179,0)))))","v":0},0,{"$f":"IF(ISERROR(INDEX('RC'!CY$48:CY$179,MATCH(A78,'RC'!BI$48:BI$179,0))),0,(INDEX('RC'!CY$48:CY$179,MATCH(A78,'RC'!BI$48:BI$179,0))))","v":0},{"$f":"IF(ISERROR(INDEX('RC'!CZ$48:CZ$179,MATCH(A78,'RC'!BI$48:BI$179,0))),0,(INDEX('RC'!CZ$48:CZ$179,MATCH(A78,'RC'!BI$48:BI$179,0))))","v":0},0,{"$f":"IF(A78>='RC'!BM$29,0,IF(ISERROR(INDEX('RC'!CF$48:CF$179,MATCH(A78,'RC'!BI$48:BI$179,0))),0,(INDEX('RC'!CF$48:CF$179,MATCH(A78,'RC'!BI$48:BI$179,0)))))","v":0},0,0,null,null,null,null,null,null,null,0,0,"",""]
["2021-02-01",{"$f":"IF(ISERROR(INDEX('RC'!BJ$48:BJ$179,MATCH(A79,'RC'!BI$48:BI$179,0))),0,(INDEX('RC'!BJ$48:BJ$179,MATCH(A79,'RC'!BI$48:BI$179,0))))","v":0},{"$f":"IF(B79=\"\",0,IF(B79=0,0,INDEX('RC'!BK$48:BK$179,MATCH(A79,'RC'!BI$48:BI$179,0))))","v":0},{"$f":"IF(B79=\"\",0,IF(B79=0,0,INDEX('RC'!BL$48:BL$179,MATCH(A79,'RC'!BI$48:BI$179,0))))","v":0},{"$f":"IF(B79=\"\",0,IF(B79=0,0,INDEX('RC'!BM$48:BM$179,MATCH(A79,'RC'!BI$48:BI$179,0))))","v":0},0,{"$f":"IF(ISERROR(INDEX('RC'!BP$48:BP$179,MATCH(A79,'RC'!BI$48:BI$179,0))),0,(INDEX('RC'!BP$48:BP$179,MATCH(A79,'RC'!BI$48:BI$179,0))))","v":0},{"$f":"IF(B79=\"\",0,IF(B79=0,0,INDEX('RC'!BQ$48:BQ$179,MATCH(A79,'RC'!BI$48:BI$179,0))))","v":0},{"$f":"IF(B79=\"\",0,IF(B79=0,0,INDEX('RC'!BR$48:BR$179,MATCH(A79,'RC'!BI$48:BI$179,0))))","v":0},{"$f":"IF(B79=\"\",0,IF(B79=0,0,INDEX('RC'!BS$48:BS$179,MATCH(A79,'RC'!BI$48:BI$179,0))))","v":0},0,0,0,0,0,0,{"$f":"IF(ISERROR(INDEX('RC'!DG$48:DG$179,MATCH(A79,'RC'!BI$48:BI$179,0))),0,(INDEX('RC'!DG$48:DG$179,MATCH(A79,'RC'!BI$48:BI$179,0))))","v":0},{"$f":"IF(ISERROR(INDEX('RC'!DH$48:DH$179,MATCH(A79,'RC'!BI$48:BI$179,0))),0,(INDEX('RC'!DH$48:DH$179,MATCH(A79,'RC'!BI$48:BI$179,0))))","v":0},0,{"$f":"IF(Entry!B$28=\"Y\",0,IF(ISERROR(INDEX('RC'!CV$48:CV$179,MATCH(A79,'RC'!BI$48:BI$179,0))),0,(INDEX('RC'!CV$48:CV$179,MATCH(A79,'RC'!BI$48:BI$179,0)))))","v":0},{"$f":"IF(Entry!B$28=\"Y\",0,IF(ISERROR(INDEX('RC'!CW$48:CW$179,MATCH(A79,'RC'!BI$48:BI$179,0))),0,(INDEX('RC'!CW$48:CW$179,MATCH(A79,'RC'!BI$48:BI$179,0)))))","v":0},0,{"$f":"IF(ISERROR(INDEX('RC'!CY$48:CY$179,MATCH(A79,'RC'!BI$48:BI$179,0))),0,(INDEX('RC'!CY$48:CY$179,MATCH(A79,'RC'!BI$48:BI$179,0))))","v":0},{"$f":"IF(ISERROR(INDEX('RC'!CZ$48:CZ$179,MATCH(A79,'RC'!BI$48:BI$179,0))),0,(INDEX('RC'!CZ$48:CZ$179,MATCH(A79,'RC'!BI$48:BI$179,0))))","v":0},0,{"$f":"IF(A79>='RC'!BM$29,0,IF(ISERROR(INDEX('RC'!CF$48:CF$179,MATCH(A79,'RC'!BI$48:BI$179,0))),0,(INDEX('RC'!CF$48:CF$179,MATCH(A79,'RC'!BI$48:BI$179,0)))))","v":0},0,0,null,null,null,null,null,null,null,0,0,"",""]
["2021-03-01",{"$f":"IF(ISERROR(INDEX('RC'!BJ$48:BJ$179,MATCH(A80,'RC'!BI$48:BI$179,0))),0,(INDEX('RC'!BJ$48:BJ$179,MATCH(A80,'RC'!BI$48:BI$179,0))))","v":0},{"$f":"IF(B80=\"\",0,IF(B80=0,0,INDEX('RC'!BK$48:BK$179,MATCH(A80,'RC'!BI$48:BI$179,0))))","v":0},{"$f":"IF(B80=\"\",0,IF(B80=0,0,INDEX('RC'!BL$48:BL$179,MATCH(A80,'RC'!BI$48:BI$179,0))))","v":0},{"$f":"IF(B80=\"\",0,IF(B80=0,0,INDEX('RC'!BM$48:BM$179,MATCH(A80,'RC'!BI$48:BI$179,0))))","v":0},0,{"$f":"IF(ISERROR(INDEX('RC'!BP$48:BP$179,MATCH(A80,'RC'!BI$48:BI$179,0))),0,(INDEX('RC'!BP$48:BP$179,MATCH(A80,'RC'!BI$48:BI$179,0))))","v":0},{"$f":"IF(B80=\"\",0,IF(B80=0,0,INDEX('RC'!BQ$48:BQ$179,MATCH(A80,'RC'!BI$48:BI$179,0))))","v":0},{"$f":"IF(B80=\"\",0,IF(B80=0,0,INDEX('RC'!BR$48:BR$179,MATCH(A80,'RC'!BI$48:BI$179,0))))","v":0},{"$f":"IF(B80=\"\",0,IF(B80=0,0,INDEX('RC'!BS$48:BS$179,MATCH(A80,'RC'!BI$48:BI$179,0))))","v":0},0,0,0,0,0,0,{"$f":"IF(ISERROR(INDEX('RC'!DG$48:DG$179,MATCH(A80,'RC'!BI$48:BI$179,0))),0,(INDEX('RC'!DG$48:DG$179,MATCH(A80,'RC'!BI$48:BI$179,0))))","v":0},{"$f":"IF(ISERROR(INDEX('RC'!DH$48:DH$179,MATCH(A80,'RC'!BI$48:BI$179,0))),0,(INDEX('RC'!DH$48:DH$179,MATCH(A80,'RC'!BI$48:BI$179,0))))","v":0},0,{"$f":"IF(Entry!B$28=\"Y\",0,IF(ISERROR(INDEX('RC'!CV$48:CV$179,MATCH(A80,'RC'!BI$48:BI$179,0))),0,(INDEX('RC'!CV$48:CV$179,MATCH(A80,'RC'!BI$48:BI$179,0)))))","v":0},{"$f":"IF(Entry!B$28=\"Y\",0,IF(ISERROR(INDEX('RC'!CW$48:CW$179,MATCH(A80,'RC'!BI$48:BI$179,0))),0,(INDEX('RC'!CW$48:CW$179,MATCH(A80,'RC'!BI$48:BI$179,0)))))","v":0},0,{"$f":"IF(ISERROR(INDEX('RC'!CY$48:CY$179,MATCH(A80,'RC'!BI$48:BI$179,0))),0,(INDEX('RC'!CY$48:CY$179,MATCH(A80,'RC'!BI$48:BI$179,0))))","v":0},{"$f":"IF(ISERROR(INDEX('RC'!CZ$48:CZ$179,MATCH(A80,'RC'!BI$48:BI$179,0))),0,(INDEX('RC'!CZ$48:CZ$179,MATCH(A80,'RC'!BI$48:BI$179,0))))","v":0},0,{"$f":"IF(A80>='RC'!BM$29,0,IF(ISERROR(INDEX('RC'!CF$48:CF$179,MATCH(A80,'RC'!BI$48:BI$179,0))),0,(INDEX('RC'!CF$48:CF$179,MATCH(A80,'RC'!BI$48:BI$179,0)))))","v":0},0,0,null,null,null,null,null,null,null,0,0,"",""]
["2021-04-01",{"$f":"IF(ISERROR(INDEX('RC'!BJ$48:BJ$179,MATCH(A81,'RC'!BI$48:BI$179,0))),0,(INDEX('RC'!BJ$48:BJ$179,MATCH(A81,'RC'!BI$48:BI$179,0))))","v":0},{"$f":"IF(B81=\"\",0,IF(B81=0,0,INDEX('RC'!BK$48:BK$179,MATCH(A81,'RC'!BI$48:BI$179,0))))","v":0},{"$f":"IF(B81=\"\",0,IF(B81=0,0,INDEX('RC'!BL$48:BL$179,MATCH(A81,'RC'!BI$48:BI$179,0))))","v":0},{"$f":"IF(B81=\"\",0,IF(B81=0,0,INDEX('RC'!BM$48:BM$179,MATCH(A81,'RC'!BI$48:BI$179,0))))","v":0},0,{"$f":"IF(ISERROR(INDEX('RC'!BP$48:BP$179,MATCH(A81,'RC'!BI$48:BI$179,0))),0,(INDEX('RC'!BP$48:BP$179,MATCH(A81,'RC'!BI$48:BI$179,0))))","v":0},{"$f":"IF(B81=\"\",0,IF(B81=0,0,INDEX('RC'!BQ$48:BQ$179,MATCH(A81,'RC'!BI$48:BI$179,0))))","v":0},{"$f":"IF(B81=\"\",0,IF(B81=0,0,INDEX('RC'!BR$48:BR$179,MATCH(A81,'RC'!BI$48:BI$179,0))))","v":0},{"$f":"IF(B81=\"\",0,IF(B81=0,0,INDEX('RC'!BS$48:BS$179,MATCH(A81,'RC'!BI$48:BI$179,0))))","v":0},0,0,0,0,0,0,{"$f":"IF(ISERROR(INDEX('RC'!DG$48:DG$179,MATCH(A81,'RC'!BI$48:BI$179,0))),0,(INDEX('RC'!DG$48:DG$179,MATCH(A81,'RC'!BI$48:BI$179,0))))","v":0},{"$f":"IF(ISERROR(INDEX('RC'!DH$48:DH$179,MATCH(A81,'RC'!BI$48:BI$179,0))),0,(INDEX('RC'!DH$48:DH$179,MATCH(A81,'RC'!BI$48:BI$179,0))))","v":0},0,{"$f":"IF(Entry!B$28=\"Y\",0,IF(ISERROR(INDEX('RC'!CV$48:CV$179,MATCH(A81,'RC'!BI$48:BI$179,0))),0,(INDEX('RC'!CV$48:CV$179,MATCH(A81,'RC'!BI$48:BI$179,0)))))","v":0},{"$f":"IF(Entry!B$28=\"Y\",0,IF(ISERROR(INDEX('RC'!CW$48:CW$179,MATCH(A81,'RC'!BI$48:BI$179,0))),0,(INDEX('RC'!CW$48:CW$179,MATCH(A81,'RC'!BI$48:BI$179,0)))))","v":0},0,{"$f":"IF(ISERROR(INDEX('RC'!CY$48:CY$179,MATCH(A81,'RC'!BI$48:BI$179,0))),0,(INDEX('RC'!CY$48:CY$179,MATCH(A81,'RC'!BI$48:BI$179,0))))","v":0},{"$f":"IF(ISERROR(INDEX('RC'!CZ$48:CZ$179,MATCH(A81,'RC'!BI$48:BI$179,0))),0,(INDEX('RC'!CZ$48:CZ$179,MATCH(A81,'RC'!BI$48:BI$179,0))))","v":0},0,{"$f":"IF(A81>='RC'!BM$29,0,IF(ISERROR(INDEX('RC'!CF$48:CF$179,MATCH(A81,'RC'!BI$48:BI$179,0))),0,(INDEX('RC'!CF$48:CF$179,MATCH(A81,'RC'!BI$48:BI$179,0)))))","v":0},0,0,null,null,null,null,null,null,null,0,0,"",""]
["2021-05-01",{"$f":"IF(ISERROR(INDEX('RC'!BJ$48:BJ$179,MATCH(A82,'RC'!BI$48:BI$179,0))),0,(INDEX('RC'!BJ$48:BJ$179,MATCH(A82,'RC'!BI$48:BI$179,0))))","v":0},{"$f":"IF(B82=\"\",0,IF(B82=0,0,INDEX('RC'!BK$48:BK$179,MATCH(A82,'RC'!BI$48:BI$179,0))))","v":0},{"$f":"IF(B82=\"\",0,IF(B82=0,0,INDEX('RC'!BL$48:BL$179,MATCH(A82,'RC'!BI$48:BI$179,0))))","v":0},{"$f":"IF(B82=\"\",0,IF(B82=0,0,INDEX('RC'!BM$48:BM$179,MATCH(A82,'RC'!BI$48:BI$179,0))))","v":0},0,{"$f":"IF(ISERROR(INDEX('RC'!BP$48:BP$179,MATCH(A82,'RC'!BI$48:BI$179,0))),0,(INDEX('RC'!BP$48:BP$179,MATCH(A82,'RC'!BI$48:BI$179,0))))","v":0},{"$f":"IF(B82=\"\",0,IF(B82=0,0,INDEX('RC'!BQ$48:BQ$179,MATCH(A82,'RC'!BI$48:BI$179,0))))","v":0},{"$f":"IF(B82=\"\",0,IF(B82=0,0,INDEX('RC'!BR$48:BR$179,MATCH(A82,'RC'!BI$48:BI$179,0))))","v":0},{"$f":"IF(B82=\"\",0,IF(B82=0,0,INDEX('RC'!BS$48:BS$179,MATCH(A82,'RC'!BI$48:BI$179,0))))","v":0},0,0,0,0,0,0,{"$f":"IF(ISERROR(INDEX('RC'!DG$48:DG$179,MATCH(A82,'RC'!BI$48:BI$179,0))),0,(INDEX('RC'!DG$48:DG$179,MATCH(A82,'RC'!BI$48:BI$179,0))))","v":0},{"$f":"IF(ISERROR(INDEX('RC'!DH$48:DH$179,MATCH(A82,'RC'!BI$48:BI$179,0))),0,(INDEX('RC'!DH$48:DH$179,MATCH(A82,'RC'!BI$48:BI$179,0))))","v":0},0,{"$f":"IF(Entry!B$28=\"Y\",0,IF(ISERROR(INDEX('RC'!CV$48:CV$179,MATCH(A82,'RC'!BI$48:BI$179,0))),0,(INDEX('RC'!CV$48:CV$179,MATCH(A82,'RC'!BI$48:BI$179,0)))))","v":0},{"$f":"IF(Entry!B$28=\"Y\",0,IF(ISERROR(INDEX('RC'!CW$48:CW$179,MATCH(A82,'RC'!BI$48:BI$179,0))),0,(INDEX('RC'!CW$48:CW$179,MATCH(A82,'RC'!BI$48:BI$179,0)))))","v":0},0,{"$f":"IF(ISERROR(INDEX('RC'!CY$48:CY$179,MATCH(A82,'RC'!BI$48:BI$179,0))),0,(INDEX('RC'!CY$48:CY$179,MATCH(A82,'RC'!BI$48:BI$179,0))))","v":0},{"$f":"IF(ISERROR(INDEX('RC'!CZ$48:CZ$179,MATCH(A82,'RC'!BI$48:BI$179,0))),0,(INDEX('RC'!CZ$48:CZ$179,MATCH(A82,'RC'!BI$48:BI$179,0))))","v":0},0,{"$f":"IF(A82>='RC'!BM$29,0,IF(ISERROR(INDEX('RC'!CF$48:CF$179,MATCH(A82,'RC'!BI$48:BI$179,0))),0,(INDEX('RC'!CF$48:CF$179,MATCH(A82,'RC'!BI$48:BI$179,0)))))","v":0},0,0,null,null,null,null,null,null,null,0,0,"",""]
["2021-06-01",{"$f":"IF(ISERROR(INDEX('RC'!BJ$48:BJ$179,MATCH(A83,'RC'!BI$48:BI$179,0))),0,(INDEX('RC'!BJ$48:BJ$179,MATCH(A83,'RC'!BI$48:BI$179,0))))","v":0},{"$f":"IF(B83=\"\",0,IF(B83=0,0,INDEX('RC'!BK$48:BK$179,MATCH(A83,'RC'!BI$48:BI$179,0))))","v":0},{"$f":"IF(B83=\"\",0,IF(B83=0,0,INDEX('RC'!BL$48:BL$179,MATCH(A83,'RC'!BI$48:BI$179,0))))","v":0},{"$f":"IF(B83=\"\",0,IF(B83=0,0,INDEX('RC'!BM$48:BM$179,MATCH(A83,'RC'!BI$48:BI$179,0))))","v":0},0,{"$f":"IF(ISERROR(INDEX('RC'!BP$48:BP$179,MATCH(A83,'RC'!BI$48:BI$179,0))),0,(INDEX('RC'!BP$48:BP$179,MATCH(A83,'RC'!BI$48:BI$179,0))))","v":0},{"$f":"IF(B83=\"\",0,IF(B83=0,0,INDEX('RC'!BQ$48:BQ$179,MATCH(A83,'RC'!BI$48:BI$179,0))))","v":0},{"$f":"IF(B83=\"\",0,IF(B83=0,0,INDEX('RC'!BR$48:BR$179,MATCH(A83,'RC'!BI$48:BI$179,0))))","v":0},{"$f":"IF(B83=\"\",0,IF(B83=0,0,INDEX('RC'!BS$48:BS$179,MATCH(A83,'RC'!BI$48:BI$179,0))))","v":0},0,0,0,0,0,0,{"$f":"IF(ISERROR(INDEX('RC'!DG$48:DG$179,MATCH(A83,'RC'!BI$48:BI$179,0))),0,(INDEX('RC'!DG$48:DG$179,MATCH(A83,'RC'!BI$48:BI$179,0))))","v":0},{"$f":"IF(ISERROR(INDEX('RC'!DH$48:DH$179,MATCH(A83,'RC'!BI$48:BI$179,0))),0,(INDEX('RC'!DH$48:DH$179,MATCH(A83,'RC'!BI$48:BI$179,0))))","v":0},0,{"$f":"IF(Entry!B$28=\"Y\",0,IF(ISERROR(INDEX('RC'!CV$48:CV$179,MATCH(A83,'RC'!BI$48:BI$179,0))),0,(INDEX('RC'!CV$48:CV$179,MATCH(A83,'RC'!BI$48:BI$179,0)))))","v":0},{"$f":"IF(Entry!B$28=\"Y\",0,IF(ISERROR(INDEX('RC'!CW$48:CW$179,MATCH(A83,'RC'!BI$48:BI$179,0))),0,(INDEX('RC'!CW$48:CW$179,MATCH(A83,'RC'!BI$48:BI$179,0)))))","v":0},0,{"$f":"IF(ISERROR(INDEX('RC'!CY$48:CY$179,MATCH(A83,'RC'!BI$48:BI$179,0))),0,(INDEX('RC'!CY$48:CY$179,MATCH(A83,'RC'!BI$48:BI$179,0))))","v":0},{"$f":"IF(ISERROR(INDEX('RC'!CZ$48:CZ$179,MATCH(A83,'RC'!BI$48:BI$179,0))),0,(INDEX('RC'!CZ$48:CZ$179,MATCH(A83,'RC'!BI$48:BI$179,0))))","v":0},0,{"$f":"IF(A83>='RC'!BM$29,0,IF(ISERROR(INDEX('RC'!CF$48:CF$179,MATCH(A83,'RC'!BI$48:BI$179,0))),0,(INDEX('RC'!CF$48:CF$179,MATCH(A83,'RC'!BI$48:BI$179,0)))))","v":0},0,0,null,null,null,null,null,null,null,0,0,"",""]
["2021-07-01",{"$f":"IF(ISERROR(INDEX('RC'!BJ$48:BJ$179,MATCH(A84,'RC'!BI$48:BI$179,0))),0,(INDEX('RC'!BJ$48:BJ$179,MATCH(A84,'RC'!BI$48:BI$179,0))))","v":0},{"$f":"IF(B84=\"\",0,IF(B84=0,0,INDEX('RC'!BK$48:BK$179,MATCH(A84,'RC'!BI$48:BI$179,0))))","v":0},{"$f":"IF(B84=\"\",0,IF(B84=0,0,INDEX('RC'!BL$48:BL$179,MATCH(A84,'RC'!BI$48:BI$179,0))))","v":0},{"$f":"IF(B84=\"\",0,IF(B84=0,0,INDEX('RC'!BM$48:BM$179,MATCH(A84,'RC'!BI$48:BI$179,0))))","v":0},0,{"$f":"IF(ISERROR(INDEX('RC'!BP$48:BP$179,MATCH(A84,'RC'!BI$48:BI$179,0))),0,(INDEX('RC'!BP$48:BP$179,MATCH(A84,'RC'!BI$48:BI$179,0))))","v":0},{"$f":"IF(B84=\"\",0,IF(B84=0,0,INDEX('RC'!BQ$48:BQ$179,MATCH(A84,'RC'!BI$48:BI$179,0))))","v":0},{"$f":"IF(B84=\"\",0,IF(B84=0,0,INDEX('RC'!BR$48:BR$179,MATCH(A84,'RC'!BI$48:BI$179,0))))","v":0},{"$f":"IF(B84=\"\",0,IF(B84=0,0,INDEX('RC'!BS$48:BS$179,MATCH(A84,'RC'!BI$48:BI$179,0))))","v":0},0,0,0,0,0,0,{"$f":"IF(ISERROR(INDEX('RC'!DG$48:DG$179,MATCH(A84,'RC'!BI$48:BI$179,0))),0,(INDEX('RC'!DG$48:DG$179,MATCH(A84,'RC'!BI$48:BI$179,0))))","v":0},{"$f":"IF(ISERROR(INDEX('RC'!DH$48:DH$179,MATCH(A84,'RC'!BI$48:BI$179,0))),0,(INDEX('RC'!DH$48:DH$179,MATCH(A84,'RC'!BI$48:BI$179,0))))","v":0},0,{"$f":"IF(Entry!B$28=\"Y\",0,IF(ISERROR(INDEX('RC'!CV$48:CV$179,MATCH(A84,'RC'!BI$48:BI$179,0))),0,(INDEX('RC'!CV$48:CV$179,MATCH(A84,'RC'!BI$48:BI$179,0)))))","v":0},{"$f":"IF(Entry!B$28=\"Y\",0,IF(ISERROR(INDEX('RC'!CW$48:CW$179,MATCH(A84,'RC'!BI$48:BI$179,0))),0,(INDEX('RC'!CW$48:CW$179,MATCH(A84,'RC'!BI$48:BI$179,0)))))","v":0},0,{"$f":"IF(ISERROR(INDEX('RC'!CY$48:CY$179,MATCH(A84,'RC'!BI$48:BI$179,0))),0,(INDEX('RC'!CY$48:CY$179,MATCH(A84,'RC'!BI$48:BI$179,0))))","v":0},{"$f":"IF(ISERROR(INDEX('RC'!CZ$48:CZ$179,MATCH(A84,'RC'!BI$48:BI$179,0))),0,(INDEX('RC'!CZ$48:CZ$179,MATCH(A84,'RC'!BI$48:BI$179,0))))","v":0},0,{"$f":"IF(A84>='RC'!BM$29,0,IF(ISERROR(INDEX('RC'!CF$48:CF$179,MATCH(A84,'RC'!BI$48:BI$179,0))),0,(INDEX('RC'!CF$48:CF$179,MATCH(A84,'RC'!BI$48:BI$179,0)))))","v":0},0,0,null,null,null,null,null,null,null,0,0,"",""]
["2021-08-01",{"$f":"IF(ISERROR(INDEX('RC'!BJ$48:BJ$179,MATCH(A85,'RC'!BI$48:BI$179,0))),0,(INDEX('RC'!BJ$48:BJ$179,MATCH(A85,'RC'!BI$48:BI$179,0))))","v":0},{"$f":"IF(B85=\"\",0,IF(B85=0,0,INDEX('RC'!BK$48:BK$179,MATCH(A85,'RC'!BI$48:BI$179,0))))","v":0},{"$f":"IF(B85=\"\",0,IF(B85=0,0,INDEX('RC'!BL$48:BL$179,MATCH(A85,'RC'!BI$48:BI$179,0))))","v":0},{"$f":"IF(B85=\"\",0,IF(B85=0,0,INDEX('RC'!BM$48:BM$179,MATCH(A85,'RC'!BI$48:BI$179,0))))","v":0},0,{"$f":"IF(ISERROR(INDEX('RC'!BP$48:BP$179,MATCH(A85,'RC'!BI$48:BI$179,0))),0,(INDEX('RC'!BP$48:BP$179,MATCH(A85,'RC'!BI$48:BI$179,0))))","v":0},{"$f":"IF(B85=\"\",0,IF(B85=0,0,INDEX('RC'!BQ$48:BQ$179,MATCH(A85,'RC'!BI$48:BI$179,0))))","v":0},{"$f":"IF(B85=\"\",0,IF(B85=0,0,INDEX('RC'!BR$48:BR$179,MATCH(A85,'RC'!BI$48:BI$179,0))))","v":0},{"$f":"IF(B85=\"\",0,IF(B85=0,0,INDEX('RC'!BS$48:BS$179,MATCH(A85,'RC'!BI$48:BI$179,0))))","v":0},0,0,0,0,0,0,{"$f":"IF(ISERROR(INDEX('RC'!DG$48:DG$179,MATCH(A85,'RC'!BI$48:BI$179,0))),0,(INDEX('RC'!DG$48:DG$179,MATCH(A85,'RC'!BI$48:BI$179,0))))","v":0},{"$f":"IF(ISERROR(INDEX('RC'!DH$48:DH$179,MATCH(A85,'RC'!BI$48:BI$179,0))),0,(INDEX('RC'!DH$48:DH$179,MATCH(A85,'RC'!BI$48:BI$179,0))))","v":0},0,{"$f":"IF(Entry!B$28=\"Y\",0,IF(ISERROR(INDEX('RC'!CV$48:CV$179,MATCH(A85,'RC'!BI$48:BI$179,0))),0,(INDEX('RC'!CV$48:CV$179,MATCH(A85,'RC'!BI$48:BI$179,0)))))","v":0},{"$f":"IF(Entry!B$28=\"Y\",0,IF(ISERROR(INDEX('RC'!CW$48:CW$179,MATCH(A85,'RC'!BI$48:BI$179,0))),0,(INDEX('RC'!CW$48:CW$179,MATCH(A85,'RC'!BI$48:BI$179,0)))))","v":0},0,{"$f":"IF(ISERROR(INDEX('RC'!CY$48:CY$179,MATCH(A85,'RC'!BI$48:BI$179,0))),0,(INDEX('RC'!CY$48:CY$179,MATCH(A85,'RC'!BI$48:BI$179,0))))","v":0},{"$f":"IF(ISERROR(INDEX('RC'!CZ$48:CZ$179,MATCH(A85,'RC'!BI$48:BI$179,0))),0,(INDEX('RC'!CZ$48:CZ$179,MATCH(A85,'RC'!BI$48:BI$179,0))))","v":0},0,{"$f":"IF(A85>='RC'!BM$29,0,IF(ISERROR(INDEX('RC'!CF$48:CF$179,MATCH(A85,'RC'!BI$48:BI$179,0))),0,(INDEX('RC'!CF$48:CF$179,MATCH(A85,'RC'!BI$48:BI$179,0)))))","v":0},0,0,null,null,null,null,null,null,null,0,0,"",""]
["2021-09-01",{"$f":"IF(ISERROR(INDEX('RC'!BJ$48:BJ$179,MATCH(A86,'RC'!BI$48:BI$179,0))),0,(INDEX('RC'!BJ$48:BJ$179,MATCH(A86,'RC'!BI$48:BI$179,0))))","v":0},{"$f":"IF(B86=\"\",0,IF(B86=0,0,INDEX('RC'!BK$48:BK$179,MATCH(A86,'RC'!BI$48:BI$179,0))))","v":0},{"$f":"IF(B86=\"\",0,IF(B86=0,0,INDEX('RC'!BL$48:BL$179,MATCH(A86,'RC'!BI$48:BI$179,0))))","v":0},{"$f":"IF(B86=\"\",0,IF(B86=0,0,INDEX('RC'!BM$48:BM$179,MATCH(A86,'RC'!BI$48:BI$179,0))))","v":0},0,{"$f":"IF(ISERROR(INDEX('RC'!BP$48:BP$179,MATCH(A86,'RC'!BI$48:BI$179,0))),0,(INDEX('RC'!BP$48:BP$179,MATCH(A86,'RC'!BI$48:BI$179,0))))","v":0},{"$f":"IF(B86=\"\",0,IF(B86=0,0,INDEX('RC'!BQ$48:BQ$179,MATCH(A86,'RC'!BI$48:BI$179,0))))","v":0},{"$f":"IF(B86=\"\",0,IF(B86=0,0,INDEX('RC'!BR$48:BR$179,MATCH(A86,'RC'!BI$48:BI$179,0))))","v":0},{"$f":"IF(B86=\"\",0,IF(B86=0,0,INDEX('RC'!BS$48:BS$179,MATCH(A86,'RC'!BI$48:BI$179,0))))","v":0},0,0,0,0,0,0,{"$f":"IF(ISERROR(INDEX('RC'!DG$48:DG$179,MATCH(A86,'RC'!BI$48:BI$179,0))),0,(INDEX('RC'!DG$48:DG$179,MATCH(A86,'RC'!BI$48:BI$179,0))))","v":0},{"$f":"IF(ISERROR(INDEX('RC'!DH$48:DH$179,MATCH(A86,'RC'!BI$48:BI$179,0))),0,(INDEX('RC'!DH$48:DH$179,MATCH(A86,'RC'!BI$48:BI$179,0))))","v":0},0,{"$f":"IF(Entry!B$28=\"Y\",0,IF(ISERROR(INDEX('RC'!CV$48:CV$179,MATCH(A86,'RC'!BI$48:BI$179,0))),0,(INDEX('RC'!CV$48:CV$179,MATCH(A86,'RC'!BI$48:BI$179,0)))))","v":0},{"$f":"IF(Entry!B$28=\"Y\",0,IF(ISERROR(INDEX('RC'!CW$48:CW$179,MATCH(A86,'RC'!BI$48:BI$179,0))),0,(INDEX('RC'!CW$48:CW$179,MATCH(A86,'RC'!BI$48:BI$179,0)))))","v":0},0,{"$f":"IF(ISERROR(INDEX('RC'!CY$48:CY$179,MATCH(A86,'RC'!BI$48:BI$179,0))),0,(INDEX('RC'!CY$48:CY$179,MATCH(A86,'RC'!BI$48:BI$179,0))))","v":0},{"$f":"IF(ISERROR(INDEX('RC'!CZ$48:CZ$179,MATCH(A86,'RC'!BI$48:BI$179,0))),0,(INDEX('RC'!CZ$48:CZ$179,MATCH(A86,'RC'!BI$48:BI$179,0))))","v":0},0,{"$f":"IF(A86>='RC'!BM$29,0,IF(ISERROR(INDEX('RC'!CF$48:CF$179,MATCH(A86,'RC'!BI$48:BI$179,0))),0,(INDEX('RC'!CF$48:CF$179,MATCH(A86,'RC'!BI$48:BI$179,0)))))","v":0},0,0,null,null,null,null,null,null,null,0,0,"",""]
["2021-10-01",{"$f":"IF(ISERROR(INDEX('RC'!BJ$48:BJ$179,MATCH(A87,'RC'!BI$48:BI$179,0))),0,(INDEX('RC'!BJ$48:BJ$179,MATCH(A87,'RC'!BI$48:BI$179,0))))","v":0},{"$f":"IF(B87=\"\",0,IF(B87=0,0,INDEX('RC'!BK$48:BK$179,MATCH(A87,'RC'!BI$48:BI$179,0))))","v":0},{"$f":"IF(B87=\"\",0,IF(B87=0,0,INDEX('RC'!BL$48:BL$179,MATCH(A87,'RC'!BI$48:BI$179,0))))","v":0},{"$f":"IF(B87=\"\",0,IF(B87=0,0,INDEX('RC'!BM$48:BM$179,MATCH(A87,'RC'!BI$48:BI$179,0))))","v":0},0,{"$f":"IF(ISERROR(INDEX('RC'!BP$48:BP$179,MATCH(A87,'RC'!BI$48:BI$179,0))),0,(INDEX('RC'!BP$48:BP$179,MATCH(A87,'RC'!BI$48:BI$179,0))))","v":0},{"$f":"IF(B87=\"\",0,IF(B87=0,0,INDEX('RC'!BQ$48:BQ$179,MATCH(A87,'RC'!BI$48:BI$179,0))))","v":0},{"$f":"IF(B87=\"\",0,IF(B87=0,0,INDEX('RC'!BR$48:BR$179,MATCH(A87,'RC'!BI$48:BI$179,0))))","v":0},{"$f":"IF(B87=\"\",0,IF(B87=0,0,INDEX('RC'!BS$48:BS$179,MATCH(A87,'RC'!BI$48:BI$179,0))))","v":0},0,0,0,0,0,0,{"$f":"IF(ISERROR(INDEX('RC'!DG$48:DG$179,MATCH(A87,'RC'!BI$48:BI$179,0))),0,(INDEX('RC'!DG$48:DG$179,MATCH(A87,'RC'!BI$48:BI$179,0))))","v":0},{"$f":"IF(ISERROR(INDEX('RC'!DH$48:DH$179,MATCH(A87,'RC'!BI$48:BI$179,0))),0,(INDEX('RC'!DH$48:DH$179,MATCH(A87,'RC'!BI$48:BI$179,0))))","v":0},0,{"$f":"IF(Entry!B$28=\"Y\",0,IF(ISERROR(INDEX('RC'!CV$48:CV$179,MATCH(A87,'RC'!BI$48:BI$179,0))),0,(INDEX('RC'!CV$48:CV$179,MATCH(A87,'RC'!BI$48:BI$179,0)))))","v":0},{"$f":"IF(Entry!B$28=\"Y\",0,IF(ISERROR(INDEX('RC'!CW$48:CW$179,MATCH(A87,'RC'!BI$48:BI$179,0))),0,(INDEX('RC'!CW$48:CW$179,MATCH(A87,'RC'!BI$48:BI$179,0)))))","v":0},0,{"$f":"IF(ISERROR(INDEX('RC'!CY$48:CY$179,MATCH(A87,'RC'!BI$48:BI$179,0))),0,(INDEX('RC'!CY$48:CY$179,MATCH(A87,'RC'!BI$48:BI$179,0))))","v":0},{"$f":"IF(ISERROR(INDEX('RC'!CZ$48:CZ$179,MATCH(A87,'RC'!BI$48:BI$179,0))),0,(INDEX('RC'!CZ$48:CZ$179,MATCH(A87,'RC'!BI$48:BI$179,0))))","v":0},0,{"$f":"IF(A87>='RC'!BM$29,0,IF(ISERROR(INDEX('RC'!CF$48:CF$179,MATCH(A87,'RC'!BI$48:BI$179,0))),0,(INDEX('RC'!CF$48:CF$179,MATCH(A87,'RC'!BI$48:BI$179,0)))))","v":0},0,0,null,null,null,null,null,null,null,0,0,"",""]
["Totalc/f",{"$f":"SUM(B46:B87)","v":47709},{"$f":"SUM(C46:C87)","v":56774},0,4771,109254,45201,53789,0,4520,{"$f":"SUM(K46:K87)","v":103510},2508,2985,{"$f":"SUM(N46:N87)","v":0},251,5744,6600,4200,2400,1160,{"$f":"IF(Entry!B$28=\"Y\",0,IF(ISERROR(INDEX('RC'!CW$48:CW$179,MATCH(A88,'RC'!BI$48:BI$179,0))),0,(INDEX('RC'!CW$48:CW$179,MATCH(A88,'RC'!BI$48:BI$179,0)))))","v":0},{"$f":"SUM(V46:V87)","v":0},2600,2600,0,0,2400,3344,null,null,null,null,null,null,null,{"$f":"IF(B87=0,0,IF(B90=0,0,1))","v":0},{"$f":"AJ88","v":0},{"$f":"IF(AK88=0,\"\",AK88)","v":""},{"$f":"IF(AL88=0,\"\",AL88)","v":""}]
["TotalB/f",{"$f":"B88","v":47709},{"$f":"C88","v":56774},0,4771,109254,45201,53789,0,4520,{"$f":"K88","v":103510},2508,2985,{"$f":"N88","v":0},251,5744,6600,4200,2400,1160,{"$f":"IF(Entry!B$28=\"Y\",0,IF(ISERROR(INDEX('RC'!CW$48:CW$179,MATCH(A89,'RC'!BI$48:BI$179,0))),0,(INDEX('RC'!CW$48:CW$179,MATCH(A89,'RC'!BI$48:BI$179,0)))))","v":0},{"$f":"V88","v":0},2600,2600,0,0,2400,3344,null,null,null,null,null,null,null,{"$f":"IF(B87=0,0,IF(B90=0,0,1))","v":0},{"$f":"AJ89","v":0},{"$f":"IF(AK89=0,\"\",AK89)","v":""},{"$f":"IF(AL89=0,\"\",AL89)","v":""}]
[{"$f":"EDATE(A87,1)","v":"2021-11-01"},{"$f":"IF(ISERROR(INDEX('RC'!BJ$48:BJ$179,MATCH(A90,'RC'!BI$48:BI$179,0))),0,(INDEX('RC'!BJ$48:BJ$179,MATCH(A90,'RC'!BI$48:BI$179,0))))","v":0},{"$f":"IF(B90=\"\",0,IF(B90=0,0,INDEX('RC'!BK$48:BK$179,MATCH(A90,'RC'!BI$48:BI$179,0))))","v":0},{"$f":"IF(B90=\"\",0,IF(B90=0,0,INDEX('RC'!BL$48:BL$179,MATCH(A90,'RC'!BI$48:BI$179,0))))","v":0},{"$f":"IF(B90=\"\",0,IF(B90=0,0,INDEX('RC'!BM$48:BM$179,MATCH(A90,'RC'!BI$48:BI$179,0))))","v":0},0,{"$f":"IF(ISERROR(INDEX('RC'!BP$48:BP$179,MATCH(A90,'RC'!BI$48:BI$179,0))),0,(INDEX('RC'!BP$48:BP$179,MATCH(A90,'RC'!BI$48:BI$179,0))))","v":0},{"$f":"IF(B90=\"\",0,IF(B90=0,0,INDEX('RC'!BQ$48:BQ$179,MATCH(A90,'RC'!BI$48:BI$179,0))))","v":0},{"$f":"IF(B90=\"\",0,IF(B90=0,0,INDEX('RC'!BR$48:BR$179,MATCH(A90,'RC'!BI$48:BI$179,0))))","v":0},{"$f":"IF(B90=\"\",0,IF(B90=0,0,INDEX('RC'!BS$48:BS$179,MATCH(A90,'RC'!BI$48:BI$179,0))))","v":0},0,0,0,0,0,0,{"$f":"IF(ISERROR(INDEX('RC'!DG$48:DG$179,MATCH(A90,'RC'!BI$48:BI$179,0))),0,(INDEX('RC'!DG$48:DG$179,MATCH(A90,'RC'!BI$48:BI$179,0))))","v":0},{"$f":"IF(ISERROR(INDEX('RC'!DH$48:DH$179,MATCH(A90,'RC'!BI$48:BI$179,0))),0,(INDEX('RC'!DH$48:DH$179,MATCH(A90,'RC'!BI$48:BI$179,0))))","v":0},0,{"$f":"IF(Entry!B$28=\"Y\",0,IF(ISERROR(INDEX('RC'!CV$48:CV$179,MATCH(A90,'RC'!BI$48:BI$179,0))),0,(INDEX('RC'!CV$48:CV$179,MATCH(A90,'RC'!BI$48:BI$179,0)))))","v":0},{"$f":"IF(Entry!B$28=\"Y\",0,IF(ISERROR(INDEX('RC'!CW$48:CW$179,MATCH(A90,'RC'!BI$48:BI$179,0))),0,(INDEX('RC'!CW$48:CW$179,MATCH(A90,'RC'!BI$48:BI$179,0)))))","v":0},0,{"$f":"IF(ISERROR(INDEX('RC'!CY$48:CY$179,MATCH(A90,'RC'!BI$48:BI$179,0))),0,(INDEX('RC'!CY$48:CY$179,MATCH(A90,'RC'!BI$48:BI$179,0))))","v":0},{"$f":"IF(ISERROR(INDEX('RC'!CZ$48:CZ$179,MATCH(A90,'RC'!BI$48:BI$179,0))),0,(INDEX('RC'!CZ$48:CZ$179,MATCH(A90,'RC'!BI$48:BI$179,0))))","v":0},0,{"$f":"IF(A90>='RC'!BM$29,0,IF(ISERROR(INDEX('RC'!CF$48:CF$179,MATCH(A90,'RC'!BI$48:BI$179,0))),0,(INDEX('RC'!CF$48:CF$179,MATCH(A90,'RC'!BI$48:BI$179,0)))))","v":0},{"$f":"S90+V90+Y90+Z90","v":0},{"$f":"P90-AA90","v":0},null,null,null,null,null,null,null,0,0,"",""]
["2021-12-01",{"$f":"IF(ISERROR(INDEX('RC'!BJ$48:BJ$179,MATCH(A91,'RC'!BI$48:BI$179,0))),0,(INDEX('RC'!BJ$48:BJ$179,MATCH(A91,'RC'!BI$48:BI$179,0))))","v":0},{"$f":"IF(B91=\"\",0,IF(B91=0,0,INDEX('RC'!BK$48:BK$179,MATCH(A91,'RC'!BI$48:BI$179,0))))","v":0},{"$f":"IF(B91=\"\",0,IF(B91=0,0,INDEX('RC'!BL$48:BL$179,MATCH(A91,'RC'!BI$48:BI$179,0))))","v":0},{"$f":"IF(B91=\"\",0,IF(B91=0,0,INDEX('RC'!BM$48:BM$179,MATCH(A91,'RC'!BI$48:BI$179,0))))","v":0},0,{"$f":"IF(ISERROR(INDEX('RC'!BP$48:BP$179,MATCH(A91,'RC'!BI$48:BI$179,0))),0,(INDEX('RC'!BP$48:BP$179,MATCH(A91,'RC'!BI$48:BI$179,0))))","v":0},{"$f":"IF(B91=\"\",0,IF(B91=0,0,INDEX('RC'!BQ$48:BQ$179,MATCH(A91,'RC'!BI$48:BI$179,0))))","v":0},{"$f":"IF(B91=\"\",0,IF(B91=0,0,INDEX('RC'!BR$48:BR$179,MATCH(A91,'RC'!BI$48:BI$179,0))))","v":0},{"$f":"IF(B91=\"\",0,IF(B91=0,0,INDEX('RC'!BS$48:BS$179,MATCH(A91,'RC'!BI$48:BI$179,0))))","v":0},0,0,0,0,0,0,{"$f":"IF(ISERROR(INDEX('RC'!DG$48:DG$179,MATCH(A91,'RC'!BI$48:BI$179,0))),0,(INDEX('RC'!DG$48:DG$179,MATCH(A91,'RC'!BI$48:BI$179,0))))","v":0},{"$f":"IF(ISERROR(INDEX('RC'!DH$48:DH$179,MATCH(A91,'RC'!BI$48:BI$179,0))),0,(INDEX('RC'!DH$48:DH$179,MATCH(A91,'RC'!BI$48:BI$179,0))))","v":0},0,{"$f":"IF(Entry!B$28=\"Y\",0,IF(ISERROR(INDEX('RC'!CV$48:CV$179,MATCH(A91,'RC'!BI$48:BI$179,0))),0,(INDEX('RC'!CV$48:CV$179,MATCH(A91,'RC'!BI$48:BI$179,0)))))","v":0},{"$f":"IF(Entry!B$28=\"Y\",0,IF(ISERROR(INDEX('RC'!CW$48:CW$179,MATCH(A91,'RC'!BI$48:BI$179,0))),0,(INDEX('RC'!CW$48:CW$179,MATCH(A91,'RC'!BI$48:BI$179,0)))))","v":0},0,{"$f":"IF(ISERROR(INDEX('RC'!CY$48:CY$179,MATCH(A91,'RC'!BI$48:BI$179,0))),0,(INDEX('RC'!CY$48:CY$179,MATCH(A91,'RC'!BI$48:BI$179,0))))","v":0},{"$f":"IF(ISERROR(INDEX('RC'!CZ$48:CZ$179,MATCH(A91,'RC'!BI$48:BI$179,0))),0,(INDEX('RC'!CZ$48:CZ$179,MATCH(A91,'RC'!BI$48:BI$179,0))))","v":0},0,{"$f":"IF(A91>='RC'!BM$29,0,IF(ISERROR(INDEX('RC'!CF$48:CF$179,MATCH(A91,'RC'!BI$48:BI$179,0))),0,(INDEX('RC'!CF$48:CF$179,MATCH(A91,'RC'!BI$48:BI$179,0)))))","v":0},0,0,null,null,null,null,null,null,null,0,0,"",""]
[{"$f":"EDATE(A91,1)","v":"2022-01-01"},{"$f":"IF(ISERROR(INDEX('RC'!BJ$48:BJ$179,MATCH(A92,'RC'!BI$48:BI$179,0))),0,(INDEX('RC'!BJ$48:BJ$179,MATCH(A92,'RC'!BI$48:BI$179,0))))","v":0},{"$f":"IF(B92=\"\",0,IF(B92=0,0,INDEX('RC'!BK$48:BK$179,MATCH(A92,'RC'!BI$48:BI$179,0))))","v":0},{"$f":"IF(B92=\"\",0,IF(B92=0,0,INDEX('RC'!BL$48:BL$179,MATCH(A92,'RC'!BI$48:BI$179,0))))","v":0},{"$f":"IF(B92=\"\",0,IF(B92=0,0,INDEX('RC'!BM$48:BM$179,MATCH(A92,'RC'!BI$48:BI$179,0))))","v":0},0,{"$f":"IF(ISERROR(INDEX('RC'!BP$48:BP$179,MATCH(A92,'RC'!BI$48:BI$179,0))),0,(INDEX('RC'!BP$48:BP$179,MATCH(A92,'RC'!BI$48:BI$179,0))))","v":0},{"$f":"IF(B92=\"\",0,IF(B92=0,0,INDEX('RC'!BQ$48:BQ$179,MATCH(A92,'RC'!BI$48:BI$179,0))))","v":0},{"$f":"IF(B92=\"\",0,IF(B92=0,0,INDEX('RC'!BR$48:BR$179,MATCH(A92,'RC'!BI$48:BI$179,0))))","v":0},{"$f":"IF(B92=\"\",0,IF(B92=0,0,INDEX('RC'!BS$48:BS$179,MATCH(A92,'RC'!BI$48:BI$179,0))))","v":0},0,0,0,0,0,0,{"$f":"IF(ISERROR(INDEX('RC'!DG$48:DG$179,MATCH(A92,'RC'!BI$48:BI$179,0))),0,(INDEX('RC'!DG$48:DG$179,MATCH(A92,'RC'!BI$48:BI$179,0))))","v":0},{"$f":"IF(ISERROR(INDEX('RC'!DH$48:DH$179,MATCH(A92,'RC'!BI$48:BI$179,0))),0,(INDEX('RC'!DH$48:DH$179,MATCH(A92,'RC'!BI$48:BI$179,0))))","v":0},0,{"$f":"IF(Entry!B$28=\"Y\",0,IF(ISERROR(INDEX('RC'!CV$48:CV$179,MATCH(A92,'RC'!BI$48:BI$179,0))),0,(INDEX('RC'!CV$48:CV$179,MATCH(A92,'RC'!BI$48:BI$179,0)))))","v":0},{"$f":"IF(Entry!B$28=\"Y\",0,IF(ISERROR(INDEX('RC'!CW$48:CW$179,MATCH(A92,'RC'!BI$48:BI$179,0))),0,(INDEX('RC'!CW$48:CW$179,MATCH(A92,'RC'!BI$48:BI$179,0)))))","v":0},0,{"$f":"IF(ISERROR(INDEX('RC'!CY$48:CY$179,MATCH(A92,'RC'!BI$48:BI$179,0))),0,(INDEX('RC'!CY$48:CY$179,MATCH(A92,'RC'!BI$48:BI$179,0))))","v":0},{"$f":"IF(ISERROR(INDEX('RC'!CZ$48:CZ$179,MATCH(A92,'RC'!BI$48:BI$179,0))),0,(INDEX('RC'!CZ$48:CZ$179,MATCH(A92,'RC'!BI$48:BI$179,0))))","v":0},0,{"$f":"IF(A92>='RC'!BM$29,0,IF(ISERROR(INDEX('RC'!CF$48:CF$179,MATCH(A92,'RC'!BI$48:BI$179,0))),0,(INDEX('RC'!CF$48:CF$179,MATCH(A92,'RC'!BI$48:BI$179,0)))))","v":0},0,0,null,null,null,null,null,null,null,0,0,"",""]
["2022-02-01",{"$f":"IF(ISERROR(INDEX('RC'!BJ$48:BJ$179,MATCH(A93,'RC'!BI$48:BI$179,0))),0,(INDEX('RC'!BJ$48:BJ$179,MATCH(A93,'RC'!BI$48:BI$179,0))))","v":0},{"$f":"IF(B93=\"\",0,IF(B93=0,0,INDEX('RC'!BK$48:BK$179,MATCH(A93,'RC'!BI$48:BI$179,0))))","v":0},{"$f":"IF(B93=\"\",0,IF(B93=0,0,INDEX('RC'!BL$48:BL$179,MATCH(A93,'RC'!BI$48:BI$179,0))))","v":0},{"$f":"IF(B93=\"\",0,IF(B93=0,0,INDEX('RC'!BM$48:BM$179,MATCH(A93,'RC'!BI$48:BI$179,0))))","v":0},0,{"$f":"IF(ISERROR(INDEX('RC'!BP$48:BP$179,MATCH(A93,'RC'!BI$48:BI$179,0))),0,(INDEX('RC'!BP$48:BP$179,MATCH(A93,'RC'!BI$48:BI$179,0))))","v":0},{"$f":"IF(B93=\"\",0,IF(B93=0,0,INDEX('RC'!BQ$48:BQ$179,MATCH(A93,'RC'!BI$48:BI$179,0))))","v":0},{"$f":"IF(B93=\"\",0,IF(B93=0,0,INDEX('RC'!BR$48:BR$179,MATCH(A93,'RC'!BI$48:BI$179,0))))","v":0},{"$f":"IF(B93=\"\",0,IF(B93=0,0,INDEX('RC'!BS$48:BS$179,MATCH(A93,'RC'!BI$48:BI$179,0))))","v":0},0,0,0,0,0,0,{"$f":"IF(ISERROR(INDEX('RC'!DG$48:DG$179,MATCH(A93,'RC'!BI$48:BI$179,0))),0,(INDEX('RC'!DG$48:DG$179,MATCH(A93,'RC'!BI$48:BI$179,0))))","v":0},{"$f":"IF(ISERROR(INDEX('RC'!DH$48:DH$179,MATCH(A93,'RC'!BI$48:BI$179,0))),0,(INDEX('RC'!DH$48:DH$179,MATCH(A93,'RC'!BI$48:BI$179,0))))","v":0},0,{"$f":"IF(Entry!B$28=\"Y\",0,IF(ISERROR(INDEX('RC'!CV$48:CV$179,MATCH(A93,'RC'!BI$48:BI$179,0))),0,(INDEX('RC'!CV$48:CV$179,MATCH(A93,'RC'!BI$48:BI$179,0)))))","v":0},{"$f":"IF(Entry!B$28=\"Y\",0,IF(ISERROR(INDEX('RC'!CW$48:CW$179,MATCH(A93,'RC'!BI$48:BI$179,0))),0,(INDEX('RC'!CW$48:CW$179,MATCH(A93,'RC'!BI$48:BI$179,0)))))","v":0},0,{"$f":"IF(ISERROR(INDEX('RC'!CY$48:CY$179,MATCH(A93,'RC'!BI$48:BI$179,0))),0,(INDEX('RC'!CY$48:CY$179,MATCH(A93,'RC'!BI$48:BI$179,0))))","v":0},{"$f":"IF(ISERROR(INDEX('RC'!CZ$48:CZ$179,MATCH(A93,'RC'!BI$48:BI$179,0))),0,(INDEX('RC'!CZ$48:CZ$179,MATCH(A93,'RC'!BI$48:BI$179,0))))","v":0},0,{"$f":"IF(A93>='RC'!BM$29,0,IF(ISERROR(INDEX('RC'!CF$48:CF$179,MATCH(A93,'RC'!BI$48:BI$179,0))),0,(INDEX('RC'!CF$48:CF$179,MATCH(A93,'RC'!BI$48:BI$179,0)))))","v":0},0,0,null,null,null,null,null,null,null,0,0,"",""]
["2022-03-01",{"$f":"IF(ISERROR(INDEX('RC'!BJ$48:BJ$179,MATCH(A94,'RC'!BI$48:BI$179,0))),0,(INDEX('RC'!BJ$48:BJ$179,MATCH(A94,'RC'!BI$48:BI$179,0))))","v":0},{"$f":"IF(B94=\"\",0,IF(B94=0,0,INDEX('RC'!BK$48:BK$179,MATCH(A94,'RC'!BI$48:BI$179,0))))","v":0},{"$f":"IF(B94=\"\",0,IF(B94=0,0,INDEX('RC'!BL$48:BL$179,MATCH(A94,'RC'!BI$48:BI$179,0))))","v":0},{"$f":"IF(B94=\"\",0,IF(B94=0,0,INDEX('RC'!BM$48:BM$179,MATCH(A94,'RC'!BI$48:BI$179,0))))","v":0},0,{"$f":"IF(ISERROR(INDEX('RC'!BP$48:BP$179,MATCH(A94,'RC'!BI$48:BI$179,0))),0,(INDEX('RC'!BP$48:BP$179,MATCH(A94,'RC'!BI$48:BI$179,0))))","v":0},{"$f":"IF(B94=\"\",0,IF(B94=0,0,INDEX('RC'!BQ$48:BQ$179,MATCH(A94,'RC'!BI$48:BI$179,0))))","v":0},{"$f":"IF(B94=\"\",0,IF(B94=0,0,INDEX('RC'!BR$48:BR$179,MATCH(A94,'RC'!BI$48:BI$179,0))))","v":0},{"$f":"IF(B94=\"\",0,IF(B94=0,0,INDEX('RC'!BS$48:BS$179,MATCH(A94,'RC'!BI$48:BI$179,0))))","v":0},0,0,0,0,0,0,{"$f":"IF(ISERROR(INDEX('RC'!DG$48:DG$179,MATCH(A94,'RC'!BI$48:BI$179,0))),0,(INDEX('RC'!DG$48:DG$179,MATCH(A94,'RC'!BI$48:BI$179,0))))","v":0},{"$f":"IF(ISERROR(INDEX('RC'!DH$48:DH$179,MATCH(A94,'RC'!BI$48:BI$179,0))),0,(INDEX('RC'!DH$48:DH$179,MATCH(A94,'RC'!BI$48:BI$179,0))))","v":0},0,{"$f":"IF(Entry!B$28=\"Y\",0,IF(ISERROR(INDEX('RC'!CV$48:CV$179,MATCH(A94,'RC'!BI$48:BI$179,0))),0,(INDEX('RC'!CV$48:CV$179,MATCH(A94,'RC'!BI$48:BI$179,0)))))","v":0},{"$f":"IF(Entry!B$28=\"Y\",0,IF(ISERROR(INDEX('RC'!CW$48:CW$179,MATCH(A94,'RC'!BI$48:BI$179,0))),0,(INDEX('RC'!CW$48:CW$179,MATCH(A94,'RC'!BI$48:BI$179,0)))))","v":0},0,{"$f":"IF(ISERROR(INDEX('RC'!CY$48:CY$179,MATCH(A94,'RC'!BI$48:BI$179,0))),0,(INDEX('RC'!CY$48:CY$179,MATCH(A94,'RC'!BI$48:BI$179,0))))","v":0},{"$f":"IF(ISERROR(INDEX('RC'!CZ$48:CZ$179,MATCH(A94,'RC'!BI$48:BI$179,0))),0,(INDEX('RC'!CZ$48:CZ$179,MATCH(A94,'RC'!BI$48:BI$179,0))))","v":0},0,{"$f":"IF(A94>='RC'!BM$29,0,IF(ISERROR(INDEX('RC'!CF$48:CF$179,MATCH(A94,'RC'!BI$48:BI$179,0))),0,(INDEX('RC'!CF$48:CF$179,MATCH(A94,'RC'!BI$48:BI$179,0)))))","v":0},0,0,null,null,null,null,null,null,null,0,0,"",""]
["2022-04-01",{"$f":"IF(ISERROR(INDEX('RC'!BJ$48:BJ$179,MATCH(A95,'RC'!BI$48:BI$179,0))),0,(INDEX('RC'!BJ$48:BJ$179,MATCH(A95,'RC'!BI$48:BI$179,0))))","v":0},{"$f":"IF(B95=\"\",0,IF(B95=0,0,INDEX('RC'!BK$48:BK$179,MATCH(A95,'RC'!BI$48:BI$179,0))))","v":0},{"$f":"IF(B95=\"\",0,IF(B95=0,0,INDEX('RC'!BL$48:BL$179,MATCH(A95,'RC'!BI$48:BI$179,0))))","v":0},{"$f":"IF(B95=\"\",0,IF(B95=0,0,INDEX('RC'!BM$48:BM$179,MATCH(A95,'RC'!BI$48:BI$179,0))))","v":0},0,{"$f":"IF(ISERROR(INDEX('RC'!BP$48:BP$179,MATCH(A95,'RC'!BI$48:BI$179,0))),0,(INDEX('RC'!BP$48:BP$179,MATCH(A95,'RC'!BI$48:BI$179,0))))","v":0},{"$f":"IF(B95=\"\",0,IF(B95=0,0,INDEX('RC'!BQ$48:BQ$179,MATCH(A95,'RC'!BI$48:BI$179,0))))","v":0},{"$f":"IF(B95=\"\",0,IF(B95=0,0,INDEX('RC'!BR$48:BR$179,MATCH(A95,'RC'!BI$48:BI$179,0))))","v":0},{"$f":"IF(B95=\"\",0,IF(B95=0,0,INDEX('RC'!BS$48:BS$179,MATCH(A95,'RC'!BI$48:BI$179,0))))","v":0},0,0,0,0,0,0,{"$f":"IF(ISERROR(INDEX('RC'!DG$48:DG$179,MATCH(A95,'RC'!BI$48:BI$179,0))),0,(INDEX('RC'!DG$48:DG$179,MATCH(A95,'RC'!BI$48:BI$179,0))))","v":0},{"$f":"IF(ISERROR(INDEX('RC'!DH$48:DH$179,MATCH(A95,'RC'!BI$48:BI$179,0))),0,(INDEX('RC'!DH$48:DH$179,MATCH(A95,'RC'!BI$48:BI$179,0))))","v":0},0,{"$f":"IF(Entry!B$28=\"Y\",0,IF(ISERROR(INDEX('RC'!CV$48:CV$179,MATCH(A95,'RC'!BI$48:BI$179,0))),0,(INDEX('RC'!CV$48:CV$179,MATCH(A95,'RC'!BI$48:BI$179,0)))))","v":0},{"$f":"IF(Entry!B$28=\"Y\",0,IF(ISERROR(INDEX('RC'!CW$48:CW$179,MATCH(A95,'RC'!BI$48:BI$179,0))),0,(INDEX('RC'!CW$48:CW$179,MATCH(A95,'RC'!BI$48:BI$179,0)))))","v":0},0,{"$f":"IF(ISERROR(INDEX('RC'!CY$48:CY$179,MATCH(A95,'RC'!BI$48:BI$179,0))),0,(INDEX('RC'!CY$48:CY$179,MATCH(A95,'RC'!BI$48:BI$179,0))))","v":0},{"$f":"IF(ISERROR(INDEX('RC'!CZ$48:CZ$179,MATCH(A95,'RC'!BI$48:BI$179,0))),0,(INDEX('RC'!CZ$48:CZ$179,MATCH(A95,'RC'!BI$48:BI$179,0))))","v":0},0,{"$f":"IF(A95>='RC'!BM$29,0,IF(ISERROR(INDEX('RC'!CF$48:CF$179,MATCH(A95,'RC'!BI$48:BI$179,0))),0,(INDEX('RC'!CF$48:CF$179,MATCH(A95,'RC'!BI$48:BI$179,0)))))","v":0},0,0,null,null,null,null,null,null,null,0,0,"",""]
["2022-05-01",{"$f":"IF(ISERROR(INDEX('RC'!BJ$48:BJ$179,MATCH(A96,'RC'!BI$48:BI$179,0))),0,(INDEX('RC'!BJ$48:BJ$179,MATCH(A96,'RC'!BI$48:BI$179,0))))","v":0},{"$f":"IF(B96=\"\",0,IF(B96=0,0,INDEX('RC'!BK$48:BK$179,MATCH(A96,'RC'!BI$48:BI$179,0))))","v":0},{"$f":"IF(B96=\"\",0,IF(B96=0,0,INDEX('RC'!BL$48:BL$179,MATCH(A96,'RC'!BI$48:BI$179,0))))","v":0},{"$f":"IF(B96=\"\",0,IF(B96=0,0,INDEX('RC'!BM$48:BM$179,MATCH(A96,'RC'!BI$48:BI$179,0))))","v":0},0,{"$f":"IF(ISERROR(INDEX('RC'!BP$48:BP$179,MATCH(A96,'RC'!BI$48:BI$179,0))),0,(INDEX('RC'!BP$48:BP$179,MATCH(A96,'RC'!BI$48:BI$179,0))))","v":0},{"$f":"IF(B96=\"\",0,IF(B96=0,0,INDEX('RC'!BQ$48:BQ$179,MATCH(A96,'RC'!BI$48:BI$179,0))))","v":0},{"$f":"IF(B96=\"\",0,IF(B96=0,0,INDEX('RC'!BR$48:BR$179,MATCH(A96,'RC'!BI$48:BI$179,0))))","v":0},{"$f":"IF(B96=\"\",0,IF(B96=0,0,INDEX('RC'!BS$48:BS$179,MATCH(A96,'RC'!BI$48:BI$179,0))))","v":0},0,0,0,0,0,0,{"$f":"IF(ISERROR(INDEX('RC'!DG$48:DG$179,MATCH(A96,'RC'!BI$48:BI$179,0))),0,(INDEX('RC'!DG$48:DG$179,MATCH(A96,'RC'!BI$48:BI$179,0))))","v":0},{"$f":"IF(ISERROR(INDEX('RC'!DH$48:DH$179,MATCH(A96,'RC'!BI$48:BI$179,0))),0,(INDEX('RC'!DH$48:DH$179,MATCH(A96,'RC'!BI$48:BI$179,0))))","v":0},0,{"$f":"IF(Entry!B$28=\"Y\",0,IF(ISERROR(INDEX('RC'!CV$48:CV$179,MATCH(A96,'RC'!BI$48:BI$179,0))),0,(INDEX('RC'!CV$48:CV$179,MATCH(A96,'RC'!BI$48:BI$179,0)))))","v":0},{"$f":"IF(Entry!B$28=\"Y\",0,IF(ISERROR(INDEX('RC'!CW$48:CW$179,MATCH(A96,'RC'!BI$48:BI$179,0))),0,(INDEX('RC'!CW$48:CW$179,MATCH(A96,'RC'!BI$48:BI$179,0)))))","v":0},0,{"$f":"IF(ISERROR(INDEX('RC'!CY$48:CY$179,MATCH(A96,'RC'!BI$48:BI$179,0))),0,(INDEX('RC'!CY$48:CY$179,MATCH(A96,'RC'!BI$48:BI$179,0))))","v":0},{"$f":"IF(ISERROR(INDEX('RC'!CZ$48:CZ$179,MATCH(A96,'RC'!BI$48:BI$179,0))),0,(INDEX('RC'!CZ$48:CZ$179,MATCH(A96,'RC'!BI$48:BI$179,0))))","v":0},0,{"$f":"IF(A96>='RC'!BM$29,0,IF(ISERROR(INDEX('RC'!CF$48:CF$179,MATCH(A96,'RC'!BI$48:BI$179,0))),0,(INDEX('RC'!CF$48:CF$179,MATCH(A96,'RC'!BI$48:BI$179,0)))))","v":0},0,0,null,null,null,null,null,null,null,0,0,"",""]
[{"$f":"EDATE(A96,1)","v":"2022-06-01"},{"$f":"IF(ISERROR(INDEX('RC'!BJ$48:BJ$179,MATCH(A97,'RC'!BI$48:BI$179,0))),0,(INDEX('RC'!BJ$48:BJ$179,MATCH(A97,'RC'!BI$48:BI$179,0))))","v":0},{"$f":"IF(B97=\"\",0,IF(B97=0,0,INDEX('RC'!BK$48:BK$179,MATCH(A97,'RC'!BI$48:BI$179,0))))","v":0},{"$f":"IF(B97=\"\",0,IF(B97=0,0,INDEX('RC'!BL$48:BL$179,MATCH(A97,'RC'!BI$48:BI$179,0))))","v":0},{"$f":"IF(B97=\"\",0,IF(B97=0,0,INDEX('RC'!BM$48:BM$179,MATCH(A97,'RC'!BI$48:BI$179,0))))","v":0},{"$f":"SUM(B97:E97)","v":0},{"$f":"IF(ISERROR(INDEX('RC'!BP$48:BP$179,MATCH(A97,'RC'!BI$48:BI$179,0))),0,(INDEX('RC'!BP$48:BP$179,MATCH(A97,'RC'!BI$48:BI$179,0))))","v":0},{"$f":"IF(B97=\"\",0,IF(B97=0,0,INDEX('RC'!BQ$48:BQ$179,MATCH(A97,'RC'!BI$48:BI$179,0))))","v":0},{"$f":"IF(B97=\"\",0,IF(B97=0,0,INDEX('RC'!BR$48:BR$179,MATCH(A97,'RC'!BI$48:BI$179,0))))","v":0},{"$f":"IF(B97=\"\",0,IF(B97=0,0,INDEX('RC'!BS$48:BS$179,MATCH(A97,'RC'!BI$48:BI$179,0))))","v":0},{"$f":"SUM(G97:J97)","v":0},{"$f":"B97-G97","v":0},{"$f":"C97-H97","v":0},{"$f":"D97-I97","v":0},{"$f":"E97-J97","v":0},{"$f":"SUM(L97:O97)","v":0},{"$f":"IF(ISERROR(INDEX('RC'!DG$48:DG$179,MATCH(A97,'RC'!BI$48:BI$179,0))),0,(INDEX('RC'!DG$48:DG$179,MATCH(A97,'RC'!BI$48:BI$179,0))))","v":0},{"$f":"IF(ISERROR(INDEX('RC'!DH$48:DH$179,MATCH(A97,'RC'!BI$48:BI$179,0))),0,(INDEX('RC'!DH$48:DH$179,MATCH(A97,'RC'!BI$48:BI$179,0))))","v":0},0,{"$f":"IF(Entry!B$28=\"Y\",0,IF(ISERROR(INDEX('RC'!CV$48:CV$179,MATCH(A97,'RC'!BI$48:BI$179,0))),0,(INDEX('RC'!CV$48:CV$179,MATCH(A97,'RC'!BI$48:BI$179,0)))))","v":0},{"$f":"IF(Entry!B$28=\"Y\",0,IF(ISERROR(INDEX('RC'!CW$48:CW$179,MATCH(A97,'RC'!BI$48:BI$179,0))),0,(INDEX('RC'!CW$48:CW$179,MATCH(A97,'RC'!BI$48:BI$179,0)))))","v":0},0,{"$f":"IF(ISERROR(INDEX('RC'!CY$48:CY$179,MATCH(A97,'RC'!BI$48:BI$179,0))),0,(INDEX('RC'!CY$48:CY$179,MATCH(A97,'RC'!BI$48:BI$179,0))))","v":0},{"$f":"IF(ISERROR(INDEX('RC'!CZ$48:CZ$179,MATCH(A97,'RC'!BI$48:BI$179,0))),0,(INDEX('RC'!CZ$48:CZ$179,MATCH(A97,'RC'!BI$48:BI$179,0))))","v":0},0,{"$f":"IF(A97>='RC'!BM$29,0,IF(ISERROR(INDEX('RC'!CF$48:CF$179,MATCH(A97,'RC'!BI$48:BI$179,0))),0,(INDEX('RC'!CF$48:CF$179,MATCH(A97,'RC'!BI$48:BI$179,0)))))","v":0},0,0,null,null,null,null,null,null,null,{"$f":"IF(B97<1,0,1)","v":0},0,"",""]
[{"$f":"EDATE(A97,1)","v":"2022-07-01"},{"$f":"IF(ISERROR(INDEX('RC'!BJ$48:BJ$179,MATCH(A98,'RC'!BI$48:BI$179,0))),0,(INDEX('RC'!BJ$48:BJ$179,MATCH(A98,'RC'!BI$48:BI$179,0))))","v":0},{"$f":"IF(B98=\"\",0,IF(B98=0,0,INDEX('RC'!BK$48:BK$179,MATCH(A98,'RC'!BI$48:BI$179,0))))","v":0},{"$f":"IF(B98=\"\",0,IF(B98=0,0,INDEX('RC'!BL$48:BL$179,MATCH(A98,'RC'!BI$48:BI$179,0))))","v":0},{"$f":"IF(B98=\"\",0,IF(B98=0,0,INDEX('RC'!BM$48:BM$179,MATCH(A98,'RC'!BI$48:BI$179,0))))","v":0},0,{"$f":"IF(ISERROR(INDEX('RC'!BP$48:BP$179,MATCH(A98,'RC'!BI$48:BI$179,0))),0,(INDEX('RC'!BP$48:BP$179,MATCH(A98,'RC'!BI$48:BI$179,0))))","v":0},{"$f":"IF(B98=\"\",0,IF(B98=0,0,INDEX('RC'!BQ$48:BQ$179,MATCH(A98,'RC'!BI$48:BI$179,0))))","v":0},{"$f":"IF(B98=\"\",0,IF(B98=0,0,INDEX('RC'!BR$48:BR$179,MATCH(A98,'RC'!BI$48:BI$179,0))))","v":0},{"$f":"IF(B98=\"\",0,IF(B98=0,0,INDEX('RC'!BS$48:BS$179,MATCH(A98,'RC'!BI$48:BI$179,0))))","v":0},{"$f":"SUM(G98:J98)","v":0},{"$f":"B98-G98","v":0},{"$f":"C98-H98","v":0},{"$f":"D98-I98","v":0},{"$f":"E98-J98","v":0},{"$f":"SUM(L98:O98)","v":0},{"$f":"IF(ISERROR(INDEX('RC'!DG$48:DG$179,MATCH(A98,'RC'!BI$48:BI$179,0))),0,(INDEX('RC'!DG$48:DG$179,MATCH(A98,'RC'!BI$48:BI$179,0))))","v":0},{"$f":"IF(ISERROR(INDEX('RC'!DH$48:DH$179,MATCH(A98,'RC'!BI$48:BI$179,0))),0,(INDEX('RC'!DH$48:DH$179,MATCH(A98,'RC'!BI$48:BI$179,0))))","v":0},0,{"$f":"IF(Entry!B$28=\"Y\",0,IF(ISERROR(INDEX('RC'!CV$48:CV$179,MATCH(A98,'RC'!BI$48:BI$179,0))),0,(INDEX('RC'!CV$48:CV$179,MATCH(A98,'RC'!BI$48:BI$179,0)))))","v":0},{"$f":"IF(Entry!B$28=\"Y\",0,IF(ISERROR(INDEX('RC'!CW$48:CW$179,MATCH(A98,'RC'!BI$48:BI$179,0))),0,(INDEX('RC'!CW$48:CW$179,MATCH(A98,'RC'!BI$48:BI$179,0)))))","v":0},0,{"$f":"IF(ISERROR(INDEX('RC'!CY$48:CY$179,MATCH(A98,'RC'!BI$48:BI$179,0))),0,(INDEX('RC'!CY$48:CY$179,MATCH(A98,'RC'!BI$48:BI$179,0))))","v":0},{"$f":"IF(ISERROR(INDEX('RC'!CZ$48:CZ$179,MATCH(A98,'RC'!BI$48:BI$179,0))),0,(INDEX('RC'!CZ$48:CZ$179,MATCH(A98,'RC'!BI$48:BI$179,0))))","v":0},0,{"$f":"IF(A98>='RC'!BM$29,0,IF(ISERROR(INDEX('RC'!CF$48:CF$179,MATCH(A98,'RC'!BI$48:BI$179,0))),0,(INDEX('RC'!CF$48:CF$179,MATCH(A98,'RC'!BI$48:BI$179,0)))))","v":0},0,0,null,null,null,null,null,null,null,0,0,"",""]
["2022-08-01",{"$f":"IF(ISERROR(INDEX('RC'!BJ$48:BJ$179,MATCH(A99,'RC'!BI$48:BI$179,0))),0,(INDEX('RC'!BJ$48:BJ$179,MATCH(A99,'RC'!BI$48:BI$179,0))))","v":0},{"$f":"IF(B99=\"\",0,IF(B99=0,0,INDEX('RC'!BK$48:BK$179,MATCH(A99,'RC'!BI$48:BI$179,0))))","v":0},{"$f":"IF(B99=\"\",0,IF(B99=0,0,INDEX('RC'!BL$48:BL$179,MATCH(A99,'RC'!BI$48:BI$179,0))))","v":0},{"$f":"IF(B99=\"\",0,IF(B99=0,0,INDEX('RC'!BM$48:BM$179,MATCH(A99,'RC'!BI$48:BI$179,0))))","v":0},0,{"$f":"IF(ISERROR(INDEX('RC'!BP$48:BP$179,MATCH(A99,'RC'!BI$48:BI$179,0))),0,(INDEX('RC'!BP$48:BP$179,MATCH(A99,'RC'!BI$48:BI$179,0))))","v":0},{"$f":"IF(B99=\"\",0,IF(B99=0,0,INDEX('RC'!BQ$48:BQ$179,MATCH(A99,'RC'!BI$48:BI$179,0))))","v":0},{"$f":"IF(B99=\"\",0,IF(B99=0,0,INDEX('RC'!BR$48:BR$179,MATCH(A99,'RC'!BI$48:BI$179,0))))","v":0},{"$f":"IF(B99=\"\",0,IF(B99=0,0,INDEX('RC'!BS$48:BS$179,MATCH(A99,'RC'!BI$48:BI$179,0))))","v":0},0,0,0,0,0,0,{"$f":"IF(ISERROR(INDEX('RC'!DG$48:DG$179,MATCH(A99,'RC'!BI$48:BI$179,0))),0,(INDEX('RC'!DG$48:DG$179,MATCH(A99,'RC'!BI$48:BI$179,0))))","v":0},{"$f":"IF(ISERROR(INDEX('RC'!DH$48:DH$179,MATCH(A99,'RC'!BI$48:BI$179,0))),0,(INDEX('RC'!DH$48:DH$179,MATCH(A99,'RC'!BI$48:BI$179,0))))","v":0},0,{"$f":"IF(Entry!B$28=\"Y\",0,IF(ISERROR(INDEX('RC'!CV$48:CV$179,MATCH(A99,'RC'!BI$48:BI$179,0))),0,(INDEX('RC'!CV$48:CV$179,MATCH(A99,'RC'!BI$48:BI$179,0)))))","v":0},{"$f":"IF(Entry!B$28=\"Y\",0,IF(ISERROR(INDEX('RC'!CW$48:CW$179,MATCH(A99,'RC'!BI$48:BI$179,0))),0,(INDEX('RC'!CW$48:CW$179,MATCH(A99,'RC'!BI$48:BI$179,0)))))","v":0},0,{"$f":"IF(ISERROR(INDEX('RC'!CY$48:CY$179,MATCH(A99,'RC'!BI$48:BI$179,0))),0,(INDEX('RC'!CY$48:CY$179,MATCH(A99,'RC'!BI$48:BI$179,0))))","v":0},{"$f":"IF(ISERROR(INDEX('RC'!CZ$48:CZ$179,MATCH(A99,'RC'!BI$48:BI$179,0))),0,(INDEX('RC'!CZ$48:CZ$179,MATCH(A99,'RC'!BI$48:BI$179,0))))","v":0},0,{"$f":"IF(A99>='RC'!BM$29,0,IF(ISERROR(INDEX('RC'!CF$48:CF$179,MATCH(A99,'RC'!BI$48:BI$179,0))),0,(INDEX('RC'!CF$48:CF$179,MATCH(A99,'RC'!BI$48:BI$179,0)))))","v":0},0,0,null,null,null,null,null,null,null,0,{"$f":"AJ99","v":0},{"$f":"IF(AK99=0,\"\",AK99)","v":""},{"$f":"IF(AL99=0,\"\",AL99)","v":""}]
["2022-09-01",{"$f":"IF(ISERROR(INDEX('RC'!BJ$48:BJ$179,MATCH(A100,'RC'!BI$48:BI$179,0))),0,(INDEX('RC'!BJ$48:BJ$179,MATCH(A100,'RC'!BI$48:BI$179,0))))","v":0},{"$f":"IF(B100=\"\",0,IF(B100=0,0,INDEX('RC'!BK$48:BK$179,MATCH(A100,'RC'!BI$48:BI$179,0))))","v":0},{"$f":"IF(B100=\"\",0,IF(B100=0,0,INDEX('RC'!BL$48:BL$179,MATCH(A100,'RC'!BI$48:BI$179,0))))","v":0},{"$f":"IF(B100=\"\",0,IF(B100=0,0,INDEX('RC'!BM$48:BM$179,MATCH(A100,'RC'!BI$48:BI$179,0))))","v":0},0,{"$f":"IF(ISERROR(INDEX('RC'!BP$48:BP$179,MATCH(A100,'RC'!BI$48:BI$179,0))),0,(INDEX('RC'!BP$48:BP$179,MATCH(A100,'RC'!BI$48:BI$179,0))))","v":0},{"$f":"IF(B100=\"\",0,IF(B100=0,0,INDEX('RC'!BQ$48:BQ$179,MATCH(A100,'RC'!BI$48:BI$179,0))))","v":0},{"$f":"IF(B100=\"\",0,IF(B100=0,0,INDEX('RC'!BR$48:BR$179,MATCH(A100,'RC'!BI$48:BI$179,0))))","v":0},{"$f":"IF(B100=\"\",0,IF(B100=0,0,INDEX('RC'!BS$48:BS$179,MATCH(A100,'RC'!BI$48:BI$179,0))))","v":0},0,0,0,0,0,0,{"$f":"IF(ISERROR(INDEX('RC'!DG$48:DG$179,MATCH(A100,'RC'!BI$48:BI$179,0))),0,(INDEX('RC'!DG$48:DG$179,MATCH(A100,'RC'!BI$48:BI$179,0))))","v":0},{"$f":"IF(ISERROR(INDEX('RC'!DH$48:DH$179,MATCH(A100,'RC'!BI$48:BI$179,0))),0,(INDEX('RC'!DH$48:DH$179,MATCH(A100,'RC'!BI$48:BI$179,0))))","v":0},0,{"$f":"IF(Entry!B$28=\"Y\",0,IF(ISERROR(INDEX('RC'!CV$48:CV$179,MATCH(A100,'RC'!BI$48:BI$179,0))),0,(INDEX('RC'!CV$48:CV$179,MATCH(A100,'RC'!BI$48:BI$179,0)))))","v":0},{"$f":"IF(Entry!B$28=\"Y\",0,IF(ISERROR(INDEX('RC'!CW$48:CW$179,MATCH(A100,'RC'!BI$48:BI$179,0))),0,(INDEX('RC'!CW$48:CW$179,MATCH(A100,'RC'!BI$48:BI$179,0)))))","v":0},0,{"$f":"IF(ISERROR(INDEX('RC'!CY$48:CY$179,MATCH(A100,'RC'!BI$48:BI$179,0))),0,(INDEX('RC'!CY$48:CY$179,MATCH(A100,'RC'!BI$48:BI$179,0))))","v":0},{"$f":"IF(ISERROR(INDEX('RC'!CZ$48:CZ$179,MATCH(A100,'RC'!BI$48:BI$179,0))),0,(INDEX('RC'!CZ$48:CZ$179,MATCH(A100,'RC'!BI$48:BI$179,0))))","v":0},0,{"$f":"IF(A100>='RC'!BM$29,0,IF(ISERROR(INDEX('RC'!CF$48:CF$179,MATCH(A100,'RC'!BI$48:BI$179,0))),0,(INDEX('RC'!CF$48:CF$179,MATCH(A100,'RC'!BI$48:BI$179,0)))))","v":0},0,0,null,null,null,null,null,null,null,0,0,"",""]
["2022-10-01",{"$f":"IF(ISERROR(INDEX('RC'!BJ$48:BJ$179,MATCH(A101,'RC'!BI$48:BI$179,0))),0,(INDEX('RC'!BJ$48:BJ$179,MATCH(A101,'RC'!BI$48:BI$179,0))))","v":0},{"$f":"IF(B101=\"\",0,IF(B101=0,0,INDEX('RC'!BK$48:BK$179,MATCH(A101,'RC'!BI$48:BI$179,0))))","v":0},{"$f":"IF(B101=\"\",0,IF(B101=0,0,INDEX('RC'!BL$48:BL$179,MATCH(A101,'RC'!BI$48:BI$179,0))))","v":0},{"$f":"IF(B101=\"\",0,IF(B101=0,0,INDEX('RC'!BM$48:BM$179,MATCH(A101,'RC'!BI$48:BI$179,0))))","v":0},0,{"$f":"IF(ISERROR(INDEX('RC'!BP$48:BP$179,MATCH(A101,'RC'!BI$48:BI$179,0))),0,(INDEX('RC'!BP$48:BP$179,MATCH(A101,'RC'!BI$48:BI$179,0))))","v":0},{"$f":"IF(B101=\"\",0,IF(B101=0,0,INDEX('RC'!BQ$48:BQ$179,MATCH(A101,'RC'!BI$48:BI$179,0))))","v":0},{"$f":"IF(B101=\"\",0,IF(B101=0,0,INDEX('RC'!BR$48:BR$179,MATCH(A101,'RC'!BI$48:BI$179,0))))","v":0},{"$f":"IF(B101=\"\",0,IF(B101=0,0,INDEX('RC'!BS$48:BS$179,MATCH(A101,'RC'!BI$48:BI$179,0))))","v":0},0,0,0,0,0,0,{"$f":"IF(ISERROR(INDEX('RC'!DG$48:DG$179,MATCH(A101,'RC'!BI$48:BI$179,0))),0,(INDEX('RC'!DG$48:DG$179,MATCH(A101,'RC'!BI$48:BI$179,0))))","v":0},{"$f":"IF(ISERROR(INDEX('RC'!DH$48:DH$179,MATCH(A101,'RC'!BI$48:BI$179,0))),0,(INDEX('RC'!DH$48:DH$179,MATCH(A101,'RC'!BI$48:BI$179,0))))","v":0},0,{"$f":"IF(Entry!B$28=\"Y\",0,IF(ISERROR(INDEX('RC'!CV$48:CV$179,MATCH(A101,'RC'!BI$48:BI$179,0))),0,(INDEX('RC'!CV$48:CV$179,MATCH(A101,'RC'!BI$48:BI$179,0)))))","v":0},{"$f":"IF(Entry!B$28=\"Y\",0,IF(ISERROR(INDEX('RC'!CW$48:CW$179,MATCH(A101,'RC'!BI$48:BI$179,0))),0,(INDEX('RC'!CW$48:CW$179,MATCH(A101,'RC'!BI$48:BI$179,0)))))","v":0},0,{"$f":"IF(ISERROR(INDEX('RC'!CY$48:CY$179,MATCH(A101,'RC'!BI$48:BI$179,0))),0,(INDEX('RC'!CY$48:CY$179,MATCH(A101,'RC'!BI$48:BI$179,0))))","v":0},{"$f":"IF(ISERROR(INDEX('RC'!CZ$48:CZ$179,MATCH(A101,'RC'!BI$48:BI$179,0))),0,(INDEX('RC'!CZ$48:CZ$179,MATCH(A101,'RC'!BI$48:BI$179,0))))","v":0},0,{"$f":"IF(A101>='RC'!BM$29,0,IF(ISERROR(INDEX('RC'!CF$48:CF$179,MATCH(A101,'RC'!BI$48:BI$179,0))),0,(INDEX('RC'!CF$48:CF$179,MATCH(A101,'RC'!BI$48:BI$179,0)))))","v":0},0,0,null,null,null,null,null,null,null,0,0,"",""]
["2022-11-01",{"$f":"IF(ISERROR(INDEX('RC'!BJ$48:BJ$179,MATCH(A102,'RC'!BI$48:BI$179,0))),0,(INDEX('RC'!BJ$48:BJ$179,MATCH(A102,'RC'!BI$48:BI$179,0))))","v":0},{"$f":"IF(B102=\"\",0,IF(B102=0,0,INDEX('RC'!BK$48:BK$179,MATCH(A102,'RC'!BI$48:BI$179,0))))","v":0},{"$f":"IF(B102=\"\",0,IF(B102=0,0,INDEX('RC'!BL$48:BL$179,MATCH(A102,'RC'!BI$48:BI$179,0))))","v":0},{"$f":"IF(B102=\"\",0,IF(B102=0,0,INDEX('RC'!BM$48:BM$179,MATCH(A102,'RC'!BI$48:BI$179,0))))","v":0},0,{"$f":"IF(ISERROR(INDEX('RC'!BP$48:BP$179,MATCH(A102,'RC'!BI$48:BI$179,0))),0,(INDEX('RC'!BP$48:BP$179,MATCH(A102,'RC'!BI$48:BI$179,0))))","v":0},{"$f":"IF(B102=\"\",0,IF(B102=0,0,INDEX('RC'!BQ$48:BQ$179,MATCH(A102,'RC'!BI$48:BI$179,0))))","v":0},{"$f":"IF(B102=\"\",0,IF(B102=0,0,INDEX('RC'!BR$48:BR$179,MATCH(A102,'RC'!BI$48:BI$179,0))))","v":0},{"$f":"IF(B102=\"\",0,IF(B102=0,0,INDEX('RC'!BS$48:BS$179,MATCH(A102,'RC'!BI$48:BI$179,0))))","v":0},0,0,0,0,0,0,{"$f":"IF(ISERROR(INDEX('RC'!DG$48:DG$179,MATCH(A102,'RC'!BI$48:BI$179,0))),0,(INDEX('RC'!DG$48:DG$179,MATCH(A102,'RC'!BI$48:BI$179,0))))","v":0},{"$f":"IF(ISERROR(INDEX('RC'!DH$48:DH$179,MATCH(A102,'RC'!BI$48:BI$179,0))),0,(INDEX('RC'!DH$48:DH$179,MATCH(A102,'RC'!BI$48:BI$179,0))))","v":0},0,{"$f":"IF(Entry!B$28=\"Y\",0,IF(ISERROR(INDEX('RC'!CV$48:CV$179,MATCH(A102,'RC'!BI$48:BI$179,0))),0,(INDEX('RC'!CV$48:CV$179,MATCH(A102,'RC'!BI$48:BI$179,0)))))","v":0},{"$f":"IF(Entry!B$28=\"Y\",0,IF(ISERROR(INDEX('RC'!CW$48:CW$179,MATCH(A102,'RC'!BI$48:BI$179,0))),0,(INDEX('RC'!CW$48:CW$179,MATCH(A102,'RC'!BI$48:BI$179,0)))))","v":0},0,{"$f":"IF(ISERROR(INDEX('RC'!CY$48:CY$179,MATCH(A102,'RC'!BI$48:BI$179,0))),0,(INDEX('RC'!CY$48:CY$179,MATCH(A102,'RC'!BI$48:BI$179,0))))","v":0},{"$f":"IF(ISERROR(INDEX('RC'!CZ$48:CZ$179,MATCH(A102,'RC'!BI$48:BI$179,0))),0,(INDEX('RC'!CZ$48:CZ$179,MATCH(A102,'RC'!BI$48:BI$179,0))))","v":0},0,{"$f":"IF(A102>='RC'!BM$29,0,IF(ISERROR(INDEX('RC'!CF$48:CF$179,MATCH(A102,'RC'!BI$48:BI$179,0))),0,(INDEX('RC'!CF$48:CF$179,MATCH(A102,'RC'!BI$48:BI$179,0)))))","v":0},0,0,null,null,null,null,null,null,null,0,0,"",""]
["2022-12-01",{"$f":"IF(ISERROR(INDEX('RC'!BJ$48:BJ$179,MATCH(A103,'RC'!BI$48:BI$179,0))),0,(INDEX('RC'!BJ$48:BJ$179,MATCH(A103,'RC'!BI$48:BI$179,0))))","v":0},{"$f":"IF(B103=\"\",0,IF(B103=0,0,INDEX('RC'!BK$48:BK$179,MATCH(A103,'RC'!BI$48:BI$179,0))))","v":0},{"$f":"IF(B103=\"\",0,IF(B103=0,0,INDEX('RC'!BL$48:BL$179,MATCH(A103,'RC'!BI$48:BI$179,0))))","v":0},{"$f":"IF(B103=\"\",0,IF(B103=0,0,INDEX('RC'!BM$48:BM$179,MATCH(A103,'RC'!BI$48:BI$179,0))))","v":0},0,{"$f":"IF(ISERROR(INDEX('RC'!BP$48:BP$179,MATCH(A103,'RC'!BI$48:BI$179,0))),0,(INDEX('RC'!BP$48:BP$179,MATCH(A103,'RC'!BI$48:BI$179,0))))","v":0},{"$f":"IF(B103=\"\",0,IF(B103=0,0,INDEX('RC'!BQ$48:BQ$179,MATCH(A103,'RC'!BI$48:BI$179,0))))","v":0},{"$f":"IF(B103=\"\",0,IF(B103=0,0,INDEX('RC'!BR$48:BR$179,MATCH(A103,'RC'!BI$48:BI$179,0))))","v":0},{"$f":"IF(B103=\"\",0,IF(B103=0,0,INDEX('RC'!BS$48:BS$179,MATCH(A103,'RC'!BI$48:BI$179,0))))","v":0},0,0,0,0,0,0,{"$f":"IF(ISERROR(INDEX('RC'!DG$48:DG$179,MATCH(A103,'RC'!BI$48:BI$179,0))),0,(INDEX('RC'!DG$48:DG$179,MATCH(A103,'RC'!BI$48:BI$179,0))))","v":0},{"$f":"IF(ISERROR(INDEX('RC'!DH$48:DH$179,MATCH(A103,'RC'!BI$48:BI$179,0))),0,(INDEX('RC'!DH$48:DH$179,MATCH(A103,'RC'!BI$48:BI$179,0))))","v":0},0,{"$f":"IF(Entry!B$28=\"Y\",0,IF(ISERROR(INDEX('RC'!CV$48:CV$179,MATCH(A103,'RC'!BI$48:BI$179,0))),0,(INDEX('RC'!CV$48:CV$179,MATCH(A103,'RC'!BI$48:BI$179,0)))))","v":0},{"$f":"IF(Entry!B$28=\"Y\",0,IF(ISERROR(INDEX('RC'!CW$48:CW$179,MATCH(A103,'RC'!BI$48:BI$179,0))),0,(INDEX('RC'!CW$48:CW$179,MATCH(A103,'RC'!BI$48:BI$179,0)))))","v":0},0,{"$f":"IF(ISERROR(INDEX('RC'!CY$48:CY$179,MATCH(A103,'RC'!BI$48:BI$179,0))),0,(INDEX('RC'!CY$48:CY$179,MATCH(A103,'RC'!BI$48:BI$179,0))))","v":0},{"$f":"IF(ISERROR(INDEX('RC'!CZ$48:CZ$179,MATCH(A103,'RC'!BI$48:BI$179,0))),0,(INDEX('RC'!CZ$48:CZ$179,MATCH(A103,'RC'!BI$48:BI$179,0))))","v":0},0,{"$f":"IF(A103>='RC'!BM$29,0,IF(ISERROR(INDEX('RC'!CF$48:CF$179,MATCH(A103,'RC'!BI$48:BI$179,0))),0,(INDEX('RC'!CF$48:CF$179,MATCH(A103,'RC'!BI$48:BI$179,0)))))","v":0},0,0,null,null,null,null,null,null,null,0,0,"",""]
["2023-01-01",{"$f":"IF(ISERROR(INDEX('RC'!BJ$48:BJ$179,MATCH(A104,'RC'!BI$48:BI$179,0))),0,(INDEX('RC'!BJ$48:BJ$179,MATCH(A104,'RC'!BI$48:BI$179,0))))","v":0},{"$f":"IF(B104=\"\",0,IF(B104=0,0,INDEX('RC'!BK$48:BK$179,MATCH(A104,'RC'!BI$48:BI$179,0))))","v":0},{"$f":"IF(B104=\"\",0,IF(B104=0,0,INDEX('RC'!BL$48:BL$179,MATCH(A104,'RC'!BI$48:BI$179,0))))","v":0},{"$f":"IF(B104=\"\",0,IF(B104=0,0,INDEX('RC'!BM$48:BM$179,MATCH(A104,'RC'!BI$48:BI$179,0))))","v":0},0,{"$f":"IF(ISERROR(INDEX('RC'!BP$48:BP$179,MATCH(A104,'RC'!BI$48:BI$179,0))),0,(INDEX('RC'!BP$48:BP$179,MATCH(A104,'RC'!BI$48:BI$179,0))))","v":0},{"$f":"IF(B104=\"\",0,IF(B104=0,0,INDEX('RC'!BQ$48:BQ$179,MATCH(A104,'RC'!BI$48:BI$179,0))))","v":0},{"$f":"IF(B104=\"\",0,IF(B104=0,0,INDEX('RC'!BR$48:BR$179,MATCH(A104,'RC'!BI$48:BI$179,0))))","v":0},{"$f":"IF(B104=\"\",0,IF(B104=0,0,INDEX('RC'!BS$48:BS$179,MATCH(A104,'RC'!BI$48:BI$179,0))))","v":0},0,0,0,0,0,0,{"$f":"IF(ISERROR(INDEX('RC'!DG$48:DG$179,MATCH(A104,'RC'!BI$48:BI$179,0))),0,(INDEX('RC'!DG$48:DG$179,MATCH(A104,'RC'!BI$48:BI$179,0))))","v":0},{"$f":"IF(ISERROR(INDEX('RC'!DH$48:DH$179,MATCH(A104,'RC'!BI$48:BI$179,0))),0,(INDEX('RC'!DH$48:DH$179,MATCH(A104,'RC'!BI$48:BI$179,0))))","v":0},0,{"$f":"IF(Entry!B$28=\"Y\",0,IF(ISERROR(INDEX('RC'!CV$48:CV$179,MATCH(A104,'RC'!BI$48:BI$179,0))),0,(INDEX('RC'!CV$48:CV$179,MATCH(A104,'RC'!BI$48:BI$179,0)))))","v":0},{"$f":"IF(Entry!B$28=\"Y\",0,IF(ISERROR(INDEX('RC'!CW$48:CW$179,MATCH(A104,'RC'!BI$48:BI$179,0))),0,(INDEX('RC'!CW$48:CW$179,MATCH(A104,'RC'!BI$48:BI$179,0)))))","v":0},0,{"$f":"IF(ISERROR(INDEX('RC'!CY$48:CY$179,MATCH(A104,'RC'!BI$48:BI$179,0))),0,(INDEX('RC'!CY$48:CY$179,MATCH(A104,'RC'!BI$48:BI$179,0))))","v":0},{"$f":"IF(ISERROR(INDEX('RC'!CZ$48:CZ$179,MATCH(A104,'RC'!BI$48:BI$179,0))),0,(INDEX('RC'!CZ$48:CZ$179,MATCH(A104,'RC'!BI$48:BI$179,0))))","v":0},0,{"$f":"IF(A104>='RC'!BM$29,0,IF(ISERROR(INDEX('RC'!CF$48:CF$179,MATCH(A104,'RC'!BI$48:BI$179,0))),0,(INDEX('RC'!CF$48:CF$179,MATCH(A104,'RC'!BI$48:BI$179,0)))))","v":0},0,0,null,null,null,null,null,null,null,0,0,"",""]
[{"$f":"EDATE(A104,1)","v":"2023-02-01"},{"$f":"IF(ISERROR(INDEX('RC'!BJ$48:BJ$179,MATCH(A105,'RC'!BI$48:BI$179,0))),0,(INDEX('RC'!BJ$48:BJ$179,MATCH(A105,'RC'!BI$48:BI$179,0))))","v":0},{"$f":"IF(B105=\"\",0,IF(B105=0,0,INDEX('RC'!BK$48:BK$179,MATCH(A105,'RC'!BI$48:BI$179,0))))","v":0},{"$f":"IF(B105=\"\",0,IF(B105=0,0,INDEX('RC'!BL$48:BL$179,MATCH(A105,'RC'!BI$48:BI$179,0))))","v":0},{"$f":"IF(B105=\"\",0,IF(B105=0,0,INDEX('RC'!BM$48:BM$179,MATCH(A105,'RC'!BI$48:BI$179,0))))","v":0},0,{"$f":"IF(ISERROR(INDEX('RC'!BP$48:BP$179,MATCH(A105,'RC'!BI$48:BI$179,0))),0,(INDEX('RC'!BP$48:BP$179,MATCH(A105,'RC'!BI$48:BI$179,0))))","v":0},{"$f":"IF(B105=\"\",0,IF(B105=0,0,INDEX('RC'!BQ$48:BQ$179,MATCH(A105,'RC'!BI$48:BI$179,0))))","v":0},{"$f":"IF(B105=\"\",0,IF(B105=0,0,INDEX('RC'!BR$48:BR$179,MATCH(A105,'RC'!BI$48:BI$179,0))))","v":0},{"$f":"IF(B105=\"\",0,IF(B105=0,0,INDEX('RC'!BS$48:BS$179,MATCH(A105,'RC'!BI$48:BI$179,0))))","v":0},0,0,0,0,0,0,{"$f":"IF(ISERROR(INDEX('RC'!DG$48:DG$179,MATCH(A105,'RC'!BI$48:BI$179,0))),0,(INDEX('RC'!DG$48:DG$179,MATCH(A105,'RC'!BI$48:BI$179,0))))","v":0},{"$f":"IF(ISERROR(INDEX('RC'!DH$48:DH$179,MATCH(A105,'RC'!BI$48:BI$179,0))),0,(INDEX('RC'!DH$48:DH$179,MATCH(A105,'RC'!BI$48:BI$179,0))))","v":0},0,{"$f":"IF(Entry!B$28=\"Y\",0,IF(ISERROR(INDEX('RC'!CV$48:CV$179,MATCH(A105,'RC'!BI$48:BI$179,0))),0,(INDEX('RC'!CV$48:CV$179,MATCH(A105,'RC'!BI$48:BI$179,0)))))","v":0},{"$f":"IF(Entry!B$28=\"Y\",0,IF(ISERROR(INDEX('RC'!CW$48:CW$179,MATCH(A105,'RC'!BI$48:BI$179,0))),0,(INDEX('RC'!CW$48:CW$179,MATCH(A105,'RC'!BI$48:BI$179,0)))))","v":0},0,{"$f":"IF(ISERROR(INDEX('RC'!CY$48:CY$179,MATCH(A105,'RC'!BI$48:BI$179,0))),0,(INDEX('RC'!CY$48:CY$179,MATCH(A105,'RC'!BI$48:BI$179,0))))","v":0},{"$f":"IF(ISERROR(INDEX('RC'!CZ$48:CZ$179,MATCH(A105,'RC'!BI$48:BI$179,0))),0,(INDEX('RC'!CZ$48:CZ$179,MATCH(A105,'RC'!BI$48:BI$179,0))))","v":0},0,{"$f":"IF(A105>='RC'!BM$29,0,IF(ISERROR(INDEX('RC'!CF$48:CF$179,MATCH(A105,'RC'!BI$48:BI$179,0))),0,(INDEX('RC'!CF$48:CF$179,MATCH(A105,'RC'!BI$48:BI$179,0)))))","v":0},0,0,null,null,null,null,null,null,null,0,0,"",""]
["2023-03-01",{"$f":"IF(ISERROR(INDEX('RC'!BJ$48:BJ$179,MATCH(A106,'RC'!BI$48:BI$179,0))),0,(INDEX('RC'!BJ$48:BJ$179,MATCH(A106,'RC'!BI$48:BI$179,0))))","v":0},{"$f":"IF(B106=\"\",0,IF(B106=0,0,INDEX('RC'!BK$48:BK$179,MATCH(A106,'RC'!BI$48:BI$179,0))))","v":0},{"$f":"IF(B106=\"\",0,IF(B106=0,0,INDEX('RC'!BL$48:BL$179,MATCH(A106,'RC'!BI$48:BI$179,0))))","v":0},{"$f":"IF(B106=\"\",0,IF(B106=0,0,INDEX('RC'!BM$48:BM$179,MATCH(A106,'RC'!BI$48:BI$179,0))))","v":0},0,{"$f":"IF(ISERROR(INDEX('RC'!BP$48:BP$179,MATCH(A106,'RC'!BI$48:BI$179,0))),0,(INDEX('RC'!BP$48:BP$179,MATCH(A106,'RC'!BI$48:BI$179,0))))","v":0},{"$f":"IF(B106=\"\",0,IF(B106=0,0,INDEX('RC'!BQ$48:BQ$179,MATCH(A106,'RC'!BI$48:BI$179,0))))","v":0},{"$f":"IF(B106=\"\",0,IF(B106=0,0,INDEX('RC'!BR$48:BR$179,MATCH(A106,'RC'!BI$48:BI$179,0))))","v":0},{"$f":"IF(B106=\"\",0,IF(B106=0,0,INDEX('RC'!BS$48:BS$179,MATCH(A106,'RC'!BI$48:BI$179,0))))","v":0},0,0,0,0,0,0,{"$f":"IF(ISERROR(INDEX('RC'!DG$48:DG$179,MATCH(A106,'RC'!BI$48:BI$179,0))),0,(INDEX('RC'!DG$48:DG$179,MATCH(A106,'RC'!BI$48:BI$179,0))))","v":0},{"$f":"IF(ISERROR(INDEX('RC'!DH$48:DH$179,MATCH(A106,'RC'!BI$48:BI$179,0))),0,(INDEX('RC'!DH$48:DH$179,MATCH(A106,'RC'!BI$48:BI$179,0))))","v":0},0,{"$f":"IF(Entry!B$28=\"Y\",0,IF(ISERROR(INDEX('RC'!CV$48:CV$179,MATCH(A106,'RC'!BI$48:BI$179,0))),0,(INDEX('RC'!CV$48:CV$179,MATCH(A106,'RC'!BI$48:BI$179,0)))))","v":0},{"$f":"IF(Entry!B$28=\"Y\",0,IF(ISERROR(INDEX('RC'!CW$48:CW$179,MATCH(A106,'RC'!BI$48:BI$179,0))),0,(INDEX('RC'!CW$48:CW$179,MATCH(A106,'RC'!BI$48:BI$179,0)))))","v":0},0,{"$f":"IF(ISERROR(INDEX('RC'!CY$48:CY$179,MATCH(A106,'RC'!BI$48:BI$179,0))),0,(INDEX('RC'!CY$48:CY$179,MATCH(A106,'RC'!BI$48:BI$179,0))))","v":0},{"$f":"IF(ISERROR(INDEX('RC'!CZ$48:CZ$179,MATCH(A106,'RC'!BI$48:BI$179,0))),0,(INDEX('RC'!CZ$48:CZ$179,MATCH(A106,'RC'!BI$48:BI$179,0))))","v":0},0,{"$f":"IF(A106>='RC'!BM$29,0,IF(ISERROR(INDEX('RC'!CF$48:CF$179,MATCH(A106,'RC'!BI$48:BI$179,0))),0,(INDEX('RC'!CF$48:CF$179,MATCH(A106,'RC'!BI$48:BI$179,0)))))","v":0},0,0,null,null,null,null,null,null,null,0,0,"",""]
["2023-04-01",{"$f":"IF(ISERROR(INDEX('RC'!BJ$48:BJ$179,MATCH(A107,'RC'!BI$48:BI$179,0))),0,(INDEX('RC'!BJ$48:BJ$179,MATCH(A107,'RC'!BI$48:BI$179,0))))","v":0},{"$f":"IF(B107=\"\",0,IF(B107=0,0,INDEX('RC'!BK$48:BK$179,MATCH(A107,'RC'!BI$48:BI$179,0))))","v":0},{"$f":"IF(B107=\"\",0,IF(B107=0,0,INDEX('RC'!BL$48:BL$179,MATCH(A107,'RC'!BI$48:BI$179,0))))","v":0},{"$f":"IF(B107=\"\",0,IF(B107=0,0,INDEX('RC'!BM$48:BM$179,MATCH(A107,'RC'!BI$48:BI$179,0))))","v":0},0,{"$f":"IF(ISERROR(INDEX('RC'!BP$48:BP$179,MATCH(A107,'RC'!BI$48:BI$179,0))),0,(INDEX('RC'!BP$48:BP$179,MATCH(A107,'RC'!BI$48:BI$179,0))))","v":0},{"$f":"IF(B107=\"\",0,IF(B107=0,0,INDEX('RC'!BQ$48:BQ$179,MATCH(A107,'RC'!BI$48:BI$179,0))))","v":0},{"$f":"IF(B107=\"\",0,IF(B107=0,0,INDEX('RC'!BR$48:BR$179,MATCH(A107,'RC'!BI$48:BI$179,0))))","v":0},{"$f":"IF(B107=\"\",0,IF(B107=0,0,INDEX('RC'!BS$48:BS$179,MATCH(A107,'RC'!BI$48:BI$179,0))))","v":0},0,0,0,0,0,0,{"$f":"IF(ISERROR(INDEX('RC'!DG$48:DG$179,MATCH(A107,'RC'!BI$48:BI$179,0))),0,(INDEX('RC'!DG$48:DG$179,MATCH(A107,'RC'!BI$48:BI$179,0))))","v":0},{"$f":"IF(ISERROR(INDEX('RC'!DH$48:DH$179,MATCH(A107,'RC'!BI$48:BI$179,0))),0,(INDEX('RC'!DH$48:DH$179,MATCH(A107,'RC'!BI$48:BI$179,0))))","v":0},0,{"$f":"IF(Entry!B$28=\"Y\",0,IF(ISERROR(INDEX('RC'!CV$48:CV$179,MATCH(A107,'RC'!BI$48:BI$179,0))),0,(INDEX('RC'!CV$48:CV$179,MATCH(A107,'RC'!BI$48:BI$179,0)))))","v":0},{"$f":"IF(Entry!B$28=\"Y\",0,IF(ISERROR(INDEX('RC'!CW$48:CW$179,MATCH(A107,'RC'!BI$48:BI$179,0))),0,(INDEX('RC'!CW$48:CW$179,MATCH(A107,'RC'!BI$48:BI$179,0)))))","v":0},0,{"$f":"IF(ISERROR(INDEX('RC'!CY$48:CY$179,MATCH(A107,'RC'!BI$48:BI$179,0))),0,(INDEX('RC'!CY$48:CY$179,MATCH(A107,'RC'!BI$48:BI$179,0))))","v":0},{"$f":"IF(ISERROR(INDEX('RC'!CZ$48:CZ$179,MATCH(A107,'RC'!BI$48:BI$179,0))),0,(INDEX('RC'!CZ$48:CZ$179,MATCH(A107,'RC'!BI$48:BI$179,0))))","v":0},0,{"$f":"IF(A107>='RC'!BM$29,0,IF(ISERROR(INDEX('RC'!CF$48:CF$179,MATCH(A107,'RC'!BI$48:BI$179,0))),0,(INDEX('RC'!CF$48:CF$179,MATCH(A107,'RC'!BI$48:BI$179,0)))))","v":0},0,0,null,null,null,null,null,null,null,0,0,"",""]
["2023-05-01",{"$f":"IF(ISERROR(INDEX('RC'!BJ$48:BJ$179,MATCH(A108,'RC'!BI$48:BI$179,0))),0,(INDEX('RC'!BJ$48:BJ$179,MATCH(A108,'RC'!BI$48:BI$179,0))))","v":0},{"$f":"IF(B108=\"\",0,IF(B108=0,0,INDEX('RC'!BK$48:BK$179,MATCH(A108,'RC'!BI$48:BI$179,0))))","v":0},{"$f":"IF(B108=\"\",0,IF(B108=0,0,INDEX('RC'!BL$48:BL$179,MATCH(A108,'RC'!BI$48:BI$179,0))))","v":0},{"$f":"IF(B108=\"\",0,IF(B108=0,0,INDEX('RC'!BM$48:BM$179,MATCH(A108,'RC'!BI$48:BI$179,0))))","v":0},0,{"$f":"IF(ISERROR(INDEX('RC'!BP$48:BP$179,MATCH(A108,'RC'!BI$48:BI$179,0))),0,(INDEX('RC'!BP$48:BP$179,MATCH(A108,'RC'!BI$48:BI$179,0))))","v":0},{"$f":"IF(B108=\"\",0,IF(B108=0,0,INDEX('RC'!BQ$48:BQ$179,MATCH(A108,'RC'!BI$48:BI$179,0))))","v":0},{"$f":"IF(B108=\"\",0,IF(B108=0,0,INDEX('RC'!BR$48:BR$179,MATCH(A108,'RC'!BI$48:BI$179,0))))","v":0},{"$f":"IF(B108=\"\",0,IF(B108=0,0,INDEX('RC'!BS$48:BS$179,MATCH(A108,'RC'!BI$48:BI$179,0))))","v":0},0,0,0,0,{"$f":"E108-J108","v":0},{"$f":"SUM(L108:O108)","v":0},{"$f":"IF(ISERROR(INDEX('RC'!DG$48:DG$179,MATCH(A108,'RC'!BI$48:BI$179,0))),0,(INDEX('RC'!DG$48:DG$179,MATCH(A108,'RC'!BI$48:BI$179,0))))","v":0},{"$f":"IF(ISERROR(INDEX('RC'!DH$48:DH$179,MATCH(A108,'RC'!BI$48:BI$179,0))),0,(INDEX('RC'!DH$48:DH$179,MATCH(A108,'RC'!BI$48:BI$179,0))))","v":0},0,{"$f":"IF(Entry!B$28=\"Y\",0,IF(ISERROR(INDEX('RC'!CV$48:CV$179,MATCH(A108,'RC'!BI$48:BI$179,0))),0,(INDEX('RC'!CV$48:CV$179,MATCH(A108,'RC'!BI$48:BI$179,0)))))","v":0},{"$f":"IF(Entry!B$28=\"Y\",0,IF(ISERROR(INDEX('RC'!CW$48:CW$179,MATCH(A108,'RC'!BI$48:BI$179,0))),0,(INDEX('RC'!CW$48:CW$179,MATCH(A108,'RC'!BI$48:BI$179,0)))))","v":0},0,{"$f":"IF(ISERROR(INDEX('RC'!CY$48:CY$179,MATCH(A108,'RC'!BI$48:BI$179,0))),0,(INDEX('RC'!CY$48:CY$179,MATCH(A108,'RC'!BI$48:BI$179,0))))","v":0},{"$f":"IF(ISERROR(INDEX('RC'!CZ$48:CZ$179,MATCH(A108,'RC'!BI$48:BI$179,0))),0,(INDEX('RC'!CZ$48:CZ$179,MATCH(A108,'RC'!BI$48:BI$179,0))))","v":0},0,{"$f":"IF(A108>='RC'!BM$29,0,IF(ISERROR(INDEX('RC'!CF$48:CF$179,MATCH(A108,'RC'!BI$48:BI$179,0))),0,(INDEX('RC'!CF$48:CF$179,MATCH(A108,'RC'!BI$48:BI$179,0)))))","v":0},0,0,null,null,null,null,null,null,null,0,0,"",""]
["2023-06-01",{"$f":"IF(ISERROR(INDEX('RC'!BJ$48:BJ$179,MATCH(A109,'RC'!BI$48:BI$179,0))),0,(INDEX('RC'!BJ$48:BJ$179,MATCH(A109,'RC'!BI$48:BI$179,0))))","v":0},{"$f":"IF(B109=\"\",0,IF(B109=0,0,INDEX('RC'!BK$48:BK$179,MATCH(A109,'RC'!BI$48:BI$179,0))))","v":0},{"$f":"IF(B109=\"\",0,IF(B109=0,0,INDEX('RC'!BL$48:BL$179,MATCH(A109,'RC'!BI$48:BI$179,0))))","v":0},{"$f":"IF(B109=\"\",0,IF(B109=0,0,INDEX('RC'!BM$48:BM$179,MATCH(A109,'RC'!BI$48:BI$179,0))))","v":0},0,{"$f":"IF(ISERROR(INDEX('RC'!BP$48:BP$179,MATCH(A109,'RC'!BI$48:BI$179,0))),0,(INDEX('RC'!BP$48:BP$179,MATCH(A109,'RC'!BI$48:BI$179,0))))","v":0},{"$f":"IF(B109=\"\",0,IF(B109=0,0,INDEX('RC'!BQ$48:BQ$179,MATCH(A109,'RC'!BI$48:BI$179,0))))","v":0},{"$f":"IF(B109=\"\",0,IF(B109=0,0,INDEX('RC'!BR$48:BR$179,MATCH(A109,'RC'!BI$48:BI$179,0))))","v":0},{"$f":"IF(B109=\"\",0,IF(B109=0,0,INDEX('RC'!BS$48:BS$179,MATCH(A109,'RC'!BI$48:BI$179,0))))","v":0},0,0,0,0,0,0,{"$f":"IF(ISERROR(INDEX('RC'!DG$48:DG$179,MATCH(A109,'RC'!BI$48:BI$179,0))),0,(INDEX('RC'!DG$48:DG$179,MATCH(A109,'RC'!BI$48:BI$179,0))))","v":0},{"$f":"IF(ISERROR(INDEX('RC'!DH$48:DH$179,MATCH(A109,'RC'!BI$48:BI$179,0))),0,(INDEX('RC'!DH$48:DH$179,MATCH(A109,'RC'!BI$48:BI$179,0))))","v":0},0,{"$f":"IF(Entry!B$28=\"Y\",0,IF(ISERROR(INDEX('RC'!CV$48:CV$179,MATCH(A109,'RC'!BI$48:BI$179,0))),0,(INDEX('RC'!CV$48:CV$179,MATCH(A109,'RC'!BI$48:BI$179,0)))))","v":0},{"$f":"IF(Entry!B$28=\"Y\",0,IF(ISERROR(INDEX('RC'!CW$48:CW$179,MATCH(A109,'RC'!BI$48:BI$179,0))),0,(INDEX('RC'!CW$48:CW$179,MATCH(A109,'RC'!BI$48:BI$179,0)))))","v":0},0,{"$f":"IF(ISERROR(INDEX('RC'!CY$48:CY$179,MATCH(A109,'RC'!BI$48:BI$179,0))),0,(INDEX('RC'!CY$48:CY$179,MATCH(A109,'RC'!BI$48:BI$179,0))))","v":0},{"$f":"IF(ISERROR(INDEX('RC'!CZ$48:CZ$179,MATCH(A109,'RC'!BI$48:BI$179,0))),0,(INDEX('RC'!CZ$48:CZ$179,MATCH(A109,'RC'!BI$48:BI$179,0))))","v":0},0,{"$f":"IF(A109>='RC'!BM$29,0,IF(ISERROR(INDEX('RC'!CF$48:CF$179,MATCH(A109,'RC'!BI$48:BI$179,0))),0,(INDEX('RC'!CF$48:CF$179,MATCH(A109,'RC'!BI$48:BI$179,0)))))","v":0},0,0,null,null,null,null,null,null,null,0,0,"",""]
[{"$f":"EDATE(A109,1)","v":"2023-07-01"},{"$f":"IF(ISERROR(INDEX('RC'!BJ$48:BJ$179,MATCH(A110,'RC'!BI$48:BI$179,0))),0,(INDEX('RC'!BJ$48:BJ$179,MATCH(A110,'RC'!BI$48:BI$179,0))))","v":0},{"$f":"IF(B110=\"\",0,IF(B110=0,0,INDEX('RC'!BK$48:BK$179,MATCH(A110,'RC'!BI$48:BI$179,0))))","v":0},{"$f":"IF(B110=\"\",0,IF(B110=0,0,INDEX('RC'!BL$48:BL$179,MATCH(A110,'RC'!BI$48:BI$179,0))))","v":0},{"$f":"IF(B110=\"\",0,IF(B110=0,0,INDEX('RC'!BM$48:BM$179,MATCH(A110,'RC'!BI$48:BI$179,0))))","v":0},0,{"$f":"IF(ISERROR(INDEX('RC'!BP$48:BP$179,MATCH(A110,'RC'!BI$48:BI$179,0))),0,(INDEX('RC'!BP$48:BP$179,MATCH(A110,'RC'!BI$48:BI$179,0))))","v":0},{"$f":"IF(B110=\"\",0,IF(B110=0,0,INDEX('RC'!BQ$48:BQ$179,MATCH(A110,'RC'!BI$48:BI$179,0))))","v":0},{"$f":"IF(B110=\"\",0,IF(B110=0,0,INDEX('RC'!BR$48:BR$179,MATCH(A110,'RC'!BI$48:BI$179,0))))","v":0},{"$f":"IF(B110=\"\",0,IF(B110=0,0,INDEX('RC'!BS$48:BS$179,MATCH(A110,'RC'!BI$48:BI$179,0))))","v":0},0,0,0,0,0,0,{"$f":"IF(ISERROR(INDEX('RC'!DG$48:DG$179,MATCH(A110,'RC'!BI$48:BI$179,0))),0,(INDEX('RC'!DG$48:DG$179,MATCH(A110,'RC'!BI$48:BI$179,0))))","v":0},{"$f":"IF(ISERROR(INDEX('RC'!DH$48:DH$179,MATCH(A110,'RC'!BI$48:BI$179,0))),0,(INDEX('RC'!DH$48:DH$179,MATCH(A110,'RC'!BI$48:BI$179,0))))","v":0},0,{"$f":"IF(Entry!B$28=\"Y\",0,IF(ISERROR(INDEX('RC'!CV$48:CV$179,MATCH(A110,'RC'!BI$48:BI$179,0))),0,(INDEX('RC'!CV$48:CV$179,MATCH(A110,'RC'!BI$48:BI$179,0)))))","v":0},{"$f":"IF(Entry!B$28=\"Y\",0,IF(ISERROR(INDEX('RC'!CW$48:CW$179,MATCH(A110,'RC'!BI$48:BI$179,0))),0,(INDEX('RC'!CW$48:CW$179,MATCH(A110,'RC'!BI$48:BI$179,0)))))","v":0},0,{"$f":"IF(ISERROR(INDEX('RC'!CY$48:CY$179,MATCH(A110,'RC'!BI$48:BI$179,0))),0,(INDEX('RC'!CY$48:CY$179,MATCH(A110,'RC'!BI$48:BI$179,0))))","v":0},{"$f":"IF(ISERROR(INDEX('RC'!CZ$48:CZ$179,MATCH(A110,'RC'!BI$48:BI$179,0))),0,(INDEX('RC'!CZ$48:CZ$179,MATCH(A110,'RC'!BI$48:BI$179,0))))","v":0},0,{"$f":"IF(A110>='RC'!BM$29,0,IF(ISERROR(INDEX('RC'!CF$48:CF$179,MATCH(A110,'RC'!BI$48:BI$179,0))),0,(INDEX('RC'!CF$48:CF$179,MATCH(A110,'RC'!BI$48:BI$179,0)))))","v":0},0,0,null,null,null,null,null,null,null,0,0,"",""]
["2023-08-01",{"$f":"IF(ISERROR(INDEX('RC'!BJ$48:BJ$179,MATCH(A111,'RC'!BI$48:BI$179,0))),0,(INDEX('RC'!BJ$48:BJ$179,MATCH(A111,'RC'!BI$48:BI$179,0))))","v":0},{"$f":"IF(B111=\"\",0,IF(B111=0,0,INDEX('RC'!BK$48:BK$179,MATCH(A111,'RC'!BI$48:BI$179,0))))","v":0},{"$f":"IF(B111=\"\",0,IF(B111=0,0,INDEX('RC'!BL$48:BL$179,MATCH(A111,'RC'!BI$48:BI$179,0))))","v":0},{"$f":"IF(B111=\"\",0,IF(B111=0,0,INDEX('RC'!BM$48:BM$179,MATCH(A111,'RC'!BI$48:BI$179,0))))","v":0},0,{"$f":"IF(ISERROR(INDEX('RC'!BP$48:BP$179,MATCH(A111,'RC'!BI$48:BI$179,0))),0,(INDEX('RC'!BP$48:BP$179,MATCH(A111,'RC'!BI$48:BI$179,0))))","v":0},{"$f":"IF(B111=\"\",0,IF(B111=0,0,INDEX('RC'!BQ$48:BQ$179,MATCH(A111,'RC'!BI$48:BI$179,0))))","v":0},{"$f":"IF(B111=\"\",0,IF(B111=0,0,INDEX('RC'!BR$48:BR$179,MATCH(A111,'RC'!BI$48:BI$179,0))))","v":0},{"$f":"IF(B111=\"\",0,IF(B111=0,0,INDEX('RC'!BS$48:BS$179,MATCH(A111,'RC'!BI$48:BI$179,0))))","v":0},0,0,0,0,0,0,{"$f":"IF(ISERROR(INDEX('RC'!DG$48:DG$179,MATCH(A111,'RC'!BI$48:BI$179,0))),0,(INDEX('RC'!DG$48:DG$179,MATCH(A111,'RC'!BI$48:BI$179,0))))","v":0},{"$f":"IF(ISERROR(INDEX('RC'!DH$48:DH$179,MATCH(A111,'RC'!BI$48:BI$179,0))),0,(INDEX('RC'!DH$48:DH$179,MATCH(A111,'RC'!BI$48:BI$179,0))))","v":0},0,{"$f":"IF(Entry!B$28=\"Y\",0,IF(ISERROR(INDEX('RC'!CV$48:CV$179,MATCH(A111,'RC'!BI$48:BI$179,0))),0,(INDEX('RC'!CV$48:CV$179,MATCH(A111,'RC'!BI$48:BI$179,0)))))","v":0},{"$f":"IF(Entry!B$28=\"Y\",0,IF(ISERROR(INDEX('RC'!CW$48:CW$179,MATCH(A111,'RC'!BI$48:BI$179,0))),0,(INDEX('RC'!CW$48:CW$179,MATCH(A111,'RC'!BI$48:BI$179,0)))))","v":0},0,{"$f":"IF(ISERROR(INDEX('RC'!CY$48:CY$179,MATCH(A111,'RC'!BI$48:BI$179,0))),0,(INDEX('RC'!CY$48:CY$179,MATCH(A111,'RC'!BI$48:BI$179,0))))","v":0},{"$f":"IF(ISERROR(INDEX('RC'!CZ$48:CZ$179,MATCH(A111,'RC'!BI$48:BI$179,0))),0,(INDEX('RC'!CZ$48:CZ$179,MATCH(A111,'RC'!BI$48:BI$179,0))))","v":0},0,{"$f":"IF(A111>='RC'!BM$29,0,IF(ISERROR(INDEX('RC'!CF$48:CF$179,MATCH(A111,'RC'!BI$48:BI$179,0))),0,(INDEX('RC'!CF$48:CF$179,MATCH(A111,'RC'!BI$48:BI$179,0)))))","v":0},0,0,null,null,null,null,null,null,null,0,0,"",""]
["2023-09-01",{"$f":"IF(ISERROR(INDEX('RC'!BJ$48:BJ$179,MATCH(A112,'RC'!BI$48:BI$179,0))),0,(INDEX('RC'!BJ$48:BJ$179,MATCH(A112,'RC'!BI$48:BI$179,0))))","v":0},{"$f":"IF(B112=\"\",0,IF(B112=0,0,INDEX('RC'!BK$48:BK$179,MATCH(A112,'RC'!BI$48:BI$179,0))))","v":0},{"$f":"IF(B112=\"\",0,IF(B112=0,0,INDEX('RC'!BL$48:BL$179,MATCH(A112,'RC'!BI$48:BI$179,0))))","v":0},{"$f":"IF(B112=\"\",0,IF(B112=0,0,INDEX('RC'!BM$48:BM$179,MATCH(A112,'RC'!BI$48:BI$179,0))))","v":0},0,{"$f":"IF(ISERROR(INDEX('RC'!BP$48:BP$179,MATCH(A112,'RC'!BI$48:BI$179,0))),0,(INDEX('RC'!BP$48:BP$179,MATCH(A112,'RC'!BI$48:BI$179,0))))","v":0},{"$f":"IF(B112=\"\",0,IF(B112=0,0,INDEX('RC'!BQ$48:BQ$179,MATCH(A112,'RC'!BI$48:BI$179,0))))","v":0},{"$f":"IF(B112=\"\",0,IF(B112=0,0,INDEX('RC'!BR$48:BR$179,MATCH(A112,'RC'!BI$48:BI$179,0))))","v":0},{"$f":"IF(B112=\"\",0,IF(B112=0,0,INDEX('RC'!BS$48:BS$179,MATCH(A112,'RC'!BI$48:BI$179,0))))","v":0},{"$f":"SUM(G112:J112)","v":0},{"$f":"B112-G112","v":0},{"$f":"C112-H112","v":0},{"$f":"D112-I112","v":0},0,0,{"$f":"IF(ISERROR(INDEX('RC'!DG$48:DG$179,MATCH(A112,'RC'!BI$48:BI$179,0))),0,(INDEX('RC'!DG$48:DG$179,MATCH(A112,'RC'!BI$48:BI$179,0))))","v":0},{"$f":"IF(ISERROR(INDEX('RC'!DH$48:DH$179,MATCH(A112,'RC'!BI$48:BI$179,0))),0,(INDEX('RC'!DH$48:DH$179,MATCH(A112,'RC'!BI$48:BI$179,0))))","v":0},0,{"$f":"IF(Entry!B$28=\"Y\",0,IF(ISERROR(INDEX('RC'!CV$48:CV$179,MATCH(A112,'RC'!BI$48:BI$179,0))),0,(INDEX('RC'!CV$48:CV$179,MATCH(A112,'RC'!BI$48:BI$179,0)))))","v":0},{"$f":"IF(Entry!B$28=\"Y\",0,IF(ISERROR(INDEX('RC'!CW$48:CW$179,MATCH(A112,'RC'!BI$48:BI$179,0))),0,(INDEX('RC'!CW$48:CW$179,MATCH(A112,'RC'!BI$48:BI$179,0)))))","v":0},0,{"$f":"IF(ISERROR(INDEX('RC'!CY$48:CY$179,MATCH(A112,'RC'!BI$48:BI$179,0))),0,(INDEX('RC'!CY$48:CY$179,MATCH(A112,'RC'!BI$48:BI$179,0))))","v":0},{"$f":"IF(ISERROR(INDEX('RC'!CZ$48:CZ$179,MATCH(A112,'RC'!BI$48:BI$179,0))),0,(INDEX('RC'!CZ$48:CZ$179,MATCH(A112,'RC'!BI$48:BI$179,0))))","v":0},0,{"$f":"IF(A112>='RC'!BM$29,0,IF(ISERROR(INDEX('RC'!CF$48:CF$179,MATCH(A112,'RC'!BI$48:BI$179,0))),0,(INDEX('RC'!CF$48:CF$179,MATCH(A112,'RC'!BI$48:BI$179,0)))))","v":0},0,0,null,null,null,null,null,null,null,0,0,"",""]
["2023-10-01",{"$f":"IF(ISERROR(INDEX('RC'!BJ$48:BJ$179,MATCH(A113,'RC'!BI$48:BI$179,0))),0,(INDEX('RC'!BJ$48:BJ$179,MATCH(A113,'RC'!BI$48:BI$179,0))))","v":0},{"$f":"IF(B113=\"\",0,IF(B113=0,0,INDEX('RC'!BK$48:BK$179,MATCH(A113,'RC'!BI$48:BI$179,0))))","v":0},{"$f":"IF(B113=\"\",0,IF(B113=0,0,INDEX('RC'!BL$48:BL$179,MATCH(A113,'RC'!BI$48:BI$179,0))))","v":0},{"$f":"IF(B113=\"\",0,IF(B113=0,0,INDEX('RC'!BM$48:BM$179,MATCH(A113,'RC'!BI$48:BI$179,0))))","v":0},0,{"$f":"IF(ISERROR(INDEX('RC'!BP$48:BP$179,MATCH(A113,'RC'!BI$48:BI$179,0))),0,(INDEX('RC'!BP$48:BP$179,MATCH(A113,'RC'!BI$48:BI$179,0))))","v":0},{"$f":"IF(B113=\"\",0,IF(B113=0,0,INDEX('RC'!BQ$48:BQ$179,MATCH(A113,'RC'!BI$48:BI$179,0))))","v":0},{"$f":"IF(B113=\"\",0,IF(B113=0,0,INDEX('RC'!BR$48:BR$179,MATCH(A113,'RC'!BI$48:BI$179,0))))","v":0},{"$f":"IF(B113=\"\",0,IF(B113=0,0,INDEX('RC'!BS$48:BS$179,MATCH(A113,'RC'!BI$48:BI$179,0))))","v":0},0,0,0,0,0,0,{"$f":"IF(ISERROR(INDEX('RC'!DG$48:DG$179,MATCH(A113,'RC'!BI$48:BI$179,0))),0,(INDEX('RC'!DG$48:DG$179,MATCH(A113,'RC'!BI$48:BI$179,0))))","v":0},{"$f":"IF(ISERROR(INDEX('RC'!DH$48:DH$179,MATCH(A113,'RC'!BI$48:BI$179,0))),0,(INDEX('RC'!DH$48:DH$179,MATCH(A113,'RC'!BI$48:BI$179,0))))","v":0},0,{"$f":"IF(Entry!B$28=\"Y\",0,IF(ISERROR(INDEX('RC'!CV$48:CV$179,MATCH(A113,'RC'!BI$48:BI$179,0))),0,(INDEX('RC'!CV$48:CV$179,MATCH(A113,'RC'!BI$48:BI$179,0)))))","v":0},{"$f":"IF(Entry!B$28=\"Y\",0,IF(ISERROR(INDEX('RC'!CW$48:CW$179,MATCH(A113,'RC'!BI$48:BI$179,0))),0,(INDEX('RC'!CW$48:CW$179,MATCH(A113,'RC'!BI$48:BI$179,0)))))","v":0},0,{"$f":"IF(ISERROR(INDEX('RC'!CY$48:CY$179,MATCH(A113,'RC'!BI$48:BI$179,0))),0,(INDEX('RC'!CY$48:CY$179,MATCH(A113,'RC'!BI$48:BI$179,0))))","v":0},{"$f":"IF(ISERROR(INDEX('RC'!CZ$48:CZ$179,MATCH(A113,'RC'!BI$48:BI$179,0))),0,(INDEX('RC'!CZ$48:CZ$179,MATCH(A113,'RC'!BI$48:BI$179,0))))","v":0},0,{"$f":"IF(A113>='RC'!BM$29,0,IF(ISERROR(INDEX('RC'!CF$48:CF$179,MATCH(A113,'RC'!BI$48:BI$179,0))),0,(INDEX('RC'!CF$48:CF$179,MATCH(A113,'RC'!BI$48:BI$179,0)))))","v":0},0,0,null,null,null,null,null,null,null,0,0,"",""]
["2023-11-01",{"$f":"IF(ISERROR(INDEX('RC'!BJ$48:BJ$179,MATCH(A114,'RC'!BI$48:BI$179,0))),0,(INDEX('RC'!BJ$48:BJ$179,MATCH(A114,'RC'!BI$48:BI$179,0))))","v":0},{"$f":"IF(B114=\"\",0,IF(B114=0,0,INDEX('RC'!BK$48:BK$179,MATCH(A114,'RC'!BI$48:BI$179,0))))","v":0},{"$f":"IF(B114=\"\",0,IF(B114=0,0,INDEX('RC'!BL$48:BL$179,MATCH(A114,'RC'!BI$48:BI$179,0))))","v":0},{"$f":"IF(B114=\"\",0,IF(B114=0,0,INDEX('RC'!BM$48:BM$179,MATCH(A114,'RC'!BI$48:BI$179,0))))","v":0},0,{"$f":"IF(ISERROR(INDEX('RC'!BP$48:BP$179,MATCH(A114,'RC'!BI$48:BI$179,0))),0,(INDEX('RC'!BP$48:BP$179,MATCH(A114,'RC'!BI$48:BI$179,0))))","v":0},{"$f":"IF(B114=\"\",0,IF(B114=0,0,INDEX('RC'!BQ$48:BQ$179,MATCH(A114,'RC'!BI$48:BI$179,0))))","v":0},{"$f":"IF(B114=\"\",0,IF(B114=0,0,INDEX('RC'!BR$48:BR$179,MATCH(A114,'RC'!BI$48:BI$179,0))))","v":0},{"$f":"IF(B114=\"\",0,IF(B114=0,0,INDEX('RC'!BS$48:BS$179,MATCH(A114,'RC'!BI$48:BI$179,0))))","v":0},0,0,0,0,0,0,{"$f":"IF(ISERROR(INDEX('RC'!DG$48:DG$179,MATCH(A114,'RC'!BI$48:BI$179,0))),0,(INDEX('RC'!DG$48:DG$179,MATCH(A114,'RC'!BI$48:BI$179,0))))","v":0},{"$f":"IF(ISERROR(INDEX('RC'!DH$48:DH$179,MATCH(A114,'RC'!BI$48:BI$179,0))),0,(INDEX('RC'!DH$48:DH$179,MATCH(A114,'RC'!BI$48:BI$179,0))))","v":0},0,{"$f":"IF(Entry!B$28=\"Y\",0,IF(ISERROR(INDEX('RC'!CV$48:CV$179,MATCH(A114,'RC'!BI$48:BI$179,0))),0,(INDEX('RC'!CV$48:CV$179,MATCH(A114,'RC'!BI$48:BI$179,0)))))","v":0},{"$f":"IF(Entry!B$28=\"Y\",0,IF(ISERROR(INDEX('RC'!CW$48:CW$179,MATCH(A114,'RC'!BI$48:BI$179,0))),0,(INDEX('RC'!CW$48:CW$179,MATCH(A114,'RC'!BI$48:BI$179,0)))))","v":0},0,{"$f":"IF(ISERROR(INDEX('RC'!CY$48:CY$179,MATCH(A114,'RC'!BI$48:BI$179,0))),0,(INDEX('RC'!CY$48:CY$179,MATCH(A114,'RC'!BI$48:BI$179,0))))","v":0},{"$f":"IF(ISERROR(INDEX('RC'!CZ$48:CZ$179,MATCH(A114,'RC'!BI$48:BI$179,0))),0,(INDEX('RC'!CZ$48:CZ$179,MATCH(A114,'RC'!BI$48:BI$179,0))))","v":0},0,{"$f":"IF(A114>='RC'!BM$29,0,IF(ISERROR(INDEX('RC'!CF$48:CF$179,MATCH(A114,'RC'!BI$48:BI$179,0))),0,(INDEX('RC'!CF$48:CF$179,MATCH(A114,'RC'!BI$48:BI$179,0)))))","v":0},0,0,null,null,null,null,null,null,null,0,0,"",""]
["2023-12-01",{"$f":"IF(ISERROR(INDEX('RC'!BJ$48:BJ$179,MATCH(A115,'RC'!BI$48:BI$179,0))),0,(INDEX('RC'!BJ$48:BJ$179,MATCH(A115,'RC'!BI$48:BI$179,0))))","v":0},{"$f":"IF(B115=\"\",0,IF(B115=0,0,INDEX('RC'!BK$48:BK$179,MATCH(A115,'RC'!BI$48:BI$179,0))))","v":0},{"$f":"IF(B115=\"\",0,IF(B115=0,0,INDEX('RC'!BL$48:BL$179,MATCH(A115,'RC'!BI$48:BI$179,0))))","v":0},{"$f":"IF(B115=\"\",0,IF(B115=0,0,INDEX('RC'!BM$48:BM$179,MATCH(A115,'RC'!BI$48:BI$179,0))))","v":0},0,{"$f":"IF(ISERROR(INDEX('RC'!BP$48:BP$179,MATCH(A115,'RC'!BI$48:BI$179,0))),0,(INDEX('RC'!BP$48:BP$179,MATCH(A115,'RC'!BI$48:BI$179,0))))","v":0},{"$f":"IF(B115=\"\",0,IF(B115=0,0,INDEX('RC'!BQ$48:BQ$179,MATCH(A115,'RC'!BI$48:BI$179,0))))","v":0},{"$f":"IF(B115=\"\",0,IF(B115=0,0,INDEX('RC'!BR$48:BR$179,MATCH(A115,'RC'!BI$48:BI$179,0))))","v":0},{"$f":"IF(B115=\"\",0,IF(B115=0,0,INDEX('RC'!BS$48:BS$179,MATCH(A115,'RC'!BI$48:BI$179,0))))","v":0},0,0,0,0,0,0,{"$f":"IF(ISERROR(INDEX('RC'!DG$48:DG$179,MATCH(A115,'RC'!BI$48:BI$179,0))),0,(INDEX('RC'!DG$48:DG$179,MATCH(A115,'RC'!BI$48:BI$179,0))))","v":0},{"$f":"IF(ISERROR(INDEX('RC'!DH$48:DH$179,MATCH(A115,'RC'!BI$48:BI$179,0))),0,(INDEX('RC'!DH$48:DH$179,MATCH(A115,'RC'!BI$48:BI$179,0))))","v":0},0,{"$f":"IF(Entry!B$28=\"Y\",0,IF(ISERROR(INDEX('RC'!CV$48:CV$179,MATCH(A115,'RC'!BI$48:BI$179,0))),0,(INDEX('RC'!CV$48:CV$179,MATCH(A115,'RC'!BI$48:BI$179,0)))))","v":0},{"$f":"IF(Entry!B$28=\"Y\",0,IF(ISERROR(INDEX('RC'!CW$48:CW$179,MATCH(A115,'RC'!BI$48:BI$179,0))),0,(INDEX('RC'!CW$48:CW$179,MATCH(A115,'RC'!BI$48:BI$179,0)))))","v":0},0,{"$f":"IF(ISERROR(INDEX('RC'!CY$48:CY$179,MATCH(A115,'RC'!BI$48:BI$179,0))),0,(INDEX('RC'!CY$48:CY$179,MATCH(A115,'RC'!BI$48:BI$179,0))))","v":0},{"$f":"IF(ISERROR(INDEX('RC'!CZ$48:CZ$179,MATCH(A115,'RC'!BI$48:BI$179,0))),0,(INDEX('RC'!CZ$48:CZ$179,MATCH(A115,'RC'!BI$48:BI$179,0))))","v":0},0,{"$f":"IF(A115>='RC'!BM$29,0,IF(ISERROR(INDEX('RC'!CF$48:CF$179,MATCH(A115,'RC'!BI$48:BI$179,0))),0,(INDEX('RC'!CF$48:CF$179,MATCH(A115,'RC'!BI$48:BI$179,0)))))","v":0},0,0,null,null,null,null,null,null,null,0,0,"",""]
["2024-01-01",{"$f":"IF(ISERROR(INDEX('RC'!BJ$48:BJ$179,MATCH(A116,'RC'!BI$48:BI$179,0))),0,(INDEX('RC'!BJ$48:BJ$179,MATCH(A116,'RC'!BI$48:BI$179,0))))","v":0},{"$f":"IF(B116=\"\",0,IF(B116=0,0,INDEX('RC'!BK$48:BK$179,MATCH(A116,'RC'!BI$48:BI$179,0))))","v":0},{"$f":"IF(B116=\"\",0,IF(B116=0,0,INDEX('RC'!BL$48:BL$179,MATCH(A116,'RC'!BI$48:BI$179,0))))","v":0},{"$f":"IF(B116=\"\",0,IF(B116=0,0,INDEX('RC'!BM$48:BM$179,MATCH(A116,'RC'!BI$48:BI$179,0))))","v":0},0,{"$f":"IF(ISERROR(INDEX('RC'!BP$48:BP$179,MATCH(A116,'RC'!BI$48:BI$179,0))),0,(INDEX('RC'!BP$48:BP$179,MATCH(A116,'RC'!BI$48:BI$179,0))))","v":0},{"$f":"IF(B116=\"\",0,IF(B116=0,0,INDEX('RC'!BQ$48:BQ$179,MATCH(A116,'RC'!BI$48:BI$179,0))))","v":0},{"$f":"IF(B116=\"\",0,IF(B116=0,0,INDEX('RC'!BR$48:BR$179,MATCH(A116,'RC'!BI$48:BI$179,0))))","v":0},{"$f":"IF(B116=\"\",0,IF(B116=0,0,INDEX('RC'!BS$48:BS$179,MATCH(A116,'RC'!BI$48:BI$179,0))))","v":0},0,0,0,0,0,0,{"$f":"IF(ISERROR(INDEX('RC'!DG$48:DG$179,MATCH(A116,'RC'!BI$48:BI$179,0))),0,(INDEX('RC'!DG$48:DG$179,MATCH(A116,'RC'!BI$48:BI$179,0))))","v":0},{"$f":"IF(ISERROR(INDEX('RC'!DH$48:DH$179,MATCH(A116,'RC'!BI$48:BI$179,0))),0,(INDEX('RC'!DH$48:DH$179,MATCH(A116,'RC'!BI$48:BI$179,0))))","v":0},0,{"$f":"IF(Entry!B$28=\"Y\",0,IF(ISERROR(INDEX('RC'!CV$48:CV$179,MATCH(A116,'RC'!BI$48:BI$179,0))),0,(INDEX('RC'!CV$48:CV$179,MATCH(A116,'RC'!BI$48:BI$179,0)))))","v":0},{"$f":"IF(Entry!B$28=\"Y\",0,IF(ISERROR(INDEX('RC'!CW$48:CW$179,MATCH(A116,'RC'!BI$48:BI$179,0))),0,(INDEX('RC'!CW$48:CW$179,MATCH(A116,'RC'!BI$48:BI$179,0)))))","v":0},0,{"$f":"IF(ISERROR(INDEX('RC'!CY$48:CY$179,MATCH(A116,'RC'!BI$48:BI$179,0))),0,(INDEX('RC'!CY$48:CY$179,MATCH(A116,'RC'!BI$48:BI$179,0))))","v":0},{"$f":"IF(ISERROR(INDEX('RC'!CZ$48:CZ$179,MATCH(A116,'RC'!BI$48:BI$179,0))),0,(INDEX('RC'!CZ$48:CZ$179,MATCH(A116,'RC'!BI$48:BI$179,0))))","v":0},0,{"$f":"IF(A116>='RC'!BM$29,0,IF(ISERROR(INDEX('RC'!CF$48:CF$179,MATCH(A116,'RC'!BI$48:BI$179,0))),0,(INDEX('RC'!CF$48:CF$179,MATCH(A116,'RC'!BI$48:BI$179,0)))))","v":0},0,0,null,null,null,null,null,null,null,0,0,"",""]
["2024-02-01",{"$f":"IF(ISERROR(INDEX('RC'!BJ$48:BJ$179,MATCH(A117,'RC'!BI$48:BI$179,0))),0,(INDEX('RC'!BJ$48:BJ$179,MATCH(A117,'RC'!BI$48:BI$179,0))))","v":0},{"$f":"IF(B117=\"\",0,IF(B117=0,0,INDEX('RC'!BK$48:BK$179,MATCH(A117,'RC'!BI$48:BI$179,0))))","v":0},{"$f":"IF(B117=\"\",0,IF(B117=0,0,INDEX('RC'!BL$48:BL$179,MATCH(A117,'RC'!BI$48:BI$179,0))))","v":0},{"$f":"IF(B117=\"\",0,IF(B117=0,0,INDEX('RC'!BM$48:BM$179,MATCH(A117,'RC'!BI$48:BI$179,0))))","v":0},0,{"$f":"IF(ISERROR(INDEX('RC'!BP$48:BP$179,MATCH(A117,'RC'!BI$48:BI$179,0))),0,(INDEX('RC'!BP$48:BP$179,MATCH(A117,'RC'!BI$48:BI$179,0))))","v":0},{"$f":"IF(B117=\"\",0,IF(B117=0,0,INDEX('RC'!BQ$48:BQ$179,MATCH(A117,'RC'!BI$48:BI$179,0))))","v":0},{"$f":"IF(B117=\"\",0,IF(B117=0,0,INDEX('RC'!BR$48:BR$179,MATCH(A117,'RC'!BI$48:BI$179,0))))","v":0},{"$f":"IF(B117=\"\",0,IF(B117=0,0,INDEX('RC'!BS$48:BS$179,MATCH(A117,'RC'!BI$48:BI$179,0))))","v":0},0,0,0,0,0,0,{"$f":"IF(ISERROR(INDEX('RC'!DG$48:DG$179,MATCH(A117,'RC'!BI$48:BI$179,0))),0,(INDEX('RC'!DG$48:DG$179,MATCH(A117,'RC'!BI$48:BI$179,0))))","v":0},{"$f":"IF(ISERROR(INDEX('RC'!DH$48:DH$179,MATCH(A117,'RC'!BI$48:BI$179,0))),0,(INDEX('RC'!DH$48:DH$179,MATCH(A117,'RC'!BI$48:BI$179,0))))","v":0},0,{"$f":"IF(Entry!B$28=\"Y\",0,IF(ISERROR(INDEX('RC'!CV$48:CV$179,MATCH(A117,'RC'!BI$48:BI$179,0))),0,(INDEX('RC'!CV$48:CV$179,MATCH(A117,'RC'!BI$48:BI$179,0)))))","v":0},{"$f":"IF(Entry!B$28=\"Y\",0,IF(ISERROR(INDEX('RC'!CW$48:CW$179,MATCH(A117,'RC'!BI$48:BI$179,0))),0,(INDEX('RC'!CW$48:CW$179,MATCH(A117,'RC'!BI$48:BI$179,0)))))","v":0},0,{"$f":"IF(ISERROR(INDEX('RC'!CY$48:CY$179,MATCH(A117,'RC'!BI$48:BI$179,0))),0,(INDEX('RC'!CY$48:CY$179,MATCH(A117,'RC'!BI$48:BI$179,0))))","v":0},{"$f":"IF(ISERROR(INDEX('RC'!CZ$48:CZ$179,MATCH(A117,'RC'!BI$48:BI$179,0))),0,(INDEX('RC'!CZ$48:CZ$179,MATCH(A117,'RC'!BI$48:BI$179,0))))","v":0},0,{"$f":"IF(A117>='RC'!BM$29,0,IF(ISERROR(INDEX('RC'!CF$48:CF$179,MATCH(A117,'RC'!BI$48:BI$179,0))),0,(INDEX('RC'!CF$48:CF$179,MATCH(A117,'RC'!BI$48:BI$179,0)))))","v":0},0,0,null,null,null,null,null,null,null,0,0,"",""]
["2024-03-01",{"$f":"IF(ISERROR(INDEX('RC'!BJ$48:BJ$179,MATCH(A118,'RC'!BI$48:BI$179,0))),0,(INDEX('RC'!BJ$48:BJ$179,MATCH(A118,'RC'!BI$48:BI$179,0))))","v":0},{"$f":"IF(B118=\"\",0,IF(B118=0,0,INDEX('RC'!BK$48:BK$179,MATCH(A118,'RC'!BI$48:BI$179,0))))","v":0},{"$f":"IF(B118=\"\",0,IF(B118=0,0,INDEX('RC'!BL$48:BL$179,MATCH(A118,'RC'!BI$48:BI$179,0))))","v":0},{"$f":"IF(B118=\"\",0,IF(B118=0,0,INDEX('RC'!BM$48:BM$179,MATCH(A118,'RC'!BI$48:BI$179,0))))","v":0},0,{"$f":"IF(ISERROR(INDEX('RC'!BP$48:BP$179,MATCH(A118,'RC'!BI$48:BI$179,0))),0,(INDEX('RC'!BP$48:BP$179,MATCH(A118,'RC'!BI$48:BI$179,0))))","v":0},{"$f":"IF(B118=\"\",0,IF(B118=0,0,INDEX('RC'!BQ$48:BQ$179,MATCH(A118,'RC'!BI$48:BI$179,0))))","v":0},{"$f":"IF(B118=\"\",0,IF(B118=0,0,INDEX('RC'!BR$48:BR$179,MATCH(A118,'RC'!BI$48:BI$179,0))))","v":0},{"$f":"IF(B118=\"\",0,IF(B118=0,0,INDEX('RC'!BS$48:BS$179,MATCH(A118,'RC'!BI$48:BI$179,0))))","v":0},0,0,0,0,0,0,{"$f":"IF(ISERROR(INDEX('RC'!DG$48:DG$179,MATCH(A118,'RC'!BI$48:BI$179,0))),0,(INDEX('RC'!DG$48:DG$179,MATCH(A118,'RC'!BI$48:BI$179,0))))","v":0},{"$f":"IF(ISERROR(INDEX('RC'!DH$48:DH$179,MATCH(A118,'RC'!BI$48:BI$179,0))),0,(INDEX('RC'!DH$48:DH$179,MATCH(A118,'RC'!BI$48:BI$179,0))))","v":0},0,{"$f":"IF(Entry!B$28=\"Y\",0,IF(ISERROR(INDEX('RC'!CV$48:CV$179,MATCH(A118,'RC'!BI$48:BI$179,0))),0,(INDEX('RC'!CV$48:CV$179,MATCH(A118,'RC'!BI$48:BI$179,0)))))","v":0},{"$f":"IF(Entry!B$28=\"Y\",0,IF(ISERROR(INDEX('RC'!CW$48:CW$179,MATCH(A118,'RC'!BI$48:BI$179,0))),0,(INDEX('RC'!CW$48:CW$179,MATCH(A118,'RC'!BI$48:BI$179,0)))))","v":0},0,{"$f":"IF(ISERROR(INDEX('RC'!CY$48:CY$179,MATCH(A118,'RC'!BI$48:BI$179,0))),0,(INDEX('RC'!CY$48:CY$179,MATCH(A118,'RC'!BI$48:BI$179,0))))","v":0},{"$f":"IF(ISERROR(INDEX('RC'!CZ$48:CZ$179,MATCH(A118,'RC'!BI$48:BI$179,0))),0,(INDEX('RC'!CZ$48:CZ$179,MATCH(A118,'RC'!BI$48:BI$179,0))))","v":0},0,{"$f":"IF(A118>='RC'!BM$29,0,IF(ISERROR(INDEX('RC'!CF$48:CF$179,MATCH(A118,'RC'!BI$48:BI$179,0))),0,(INDEX('RC'!CF$48:CF$179,MATCH(A118,'RC'!BI$48:BI$179,0)))))","v":0},0,0,null,null,null,null,null,null,null,0,0,"",""]
["2024-04-01",{"$f":"IF(ISERROR(INDEX('RC'!BJ$48:BJ$179,MATCH(A119,'RC'!BI$48:BI$179,0))),0,(INDEX('RC'!BJ$48:BJ$179,MATCH(A119,'RC'!BI$48:BI$179,0))))","v":0},{"$f":"IF(B119=\"\",0,IF(B119=0,0,INDEX('RC'!BK$48:BK$179,MATCH(A119,'RC'!BI$48:BI$179,0))))","v":0},{"$f":"IF(B119=\"\",0,IF(B119=0,0,INDEX('RC'!BL$48:BL$179,MATCH(A119,'RC'!BI$48:BI$179,0))))","v":0},{"$f":"IF(B119=\"\",0,IF(B119=0,0,INDEX('RC'!BM$48:BM$179,MATCH(A119,'RC'!BI$48:BI$179,0))))","v":0},0,{"$f":"IF(ISERROR(INDEX('RC'!BP$48:BP$179,MATCH(A119,'RC'!BI$48:BI$179,0))),0,(INDEX('RC'!BP$48:BP$179,MATCH(A119,'RC'!BI$48:BI$179,0))))","v":0},{"$f":"IF(B119=\"\",0,IF(B119=0,0,INDEX('RC'!BQ$48:BQ$179,MATCH(A119,'RC'!BI$48:BI$179,0))))","v":0},{"$f":"IF(B119=\"\",0,IF(B119=0,0,INDEX('RC'!BR$48:BR$179,MATCH(A119,'RC'!BI$48:BI$179,0))))","v":0},{"$f":"IF(B119=\"\",0,IF(B119=0,0,INDEX('RC'!BS$48:BS$179,MATCH(A119,'RC'!BI$48:BI$179,0))))","v":0},0,0,0,0,0,0,{"$f":"IF(ISERROR(INDEX('RC'!DG$48:DG$179,MATCH(A119,'RC'!BI$48:BI$179,0))),0,(INDEX('RC'!DG$48:DG$179,MATCH(A119,'RC'!BI$48:BI$179,0))))","v":0},{"$f":"IF(ISERROR(INDEX('RC'!DH$48:DH$179,MATCH(A119,'RC'!BI$48:BI$179,0))),0,(INDEX('RC'!DH$48:DH$179,MATCH(A119,'RC'!BI$48:BI$179,0))))","v":0},0,{"$f":"IF(Entry!B$28=\"Y\",0,IF(ISERROR(INDEX('RC'!CV$48:CV$179,MATCH(A119,'RC'!BI$48:BI$179,0))),0,(INDEX('RC'!CV$48:CV$179,MATCH(A119,'RC'!BI$48:BI$179,0)))))","v":0},{"$f":"IF(Entry!B$28=\"Y\",0,IF(ISERROR(INDEX('RC'!CW$48:CW$179,MATCH(A119,'RC'!BI$48:BI$179,0))),0,(INDEX('RC'!CW$48:CW$179,MATCH(A119,'RC'!BI$48:BI$179,0)))))","v":0},0,{"$f":"IF(ISERROR(INDEX('RC'!CY$48:CY$179,MATCH(A119,'RC'!BI$48:BI$179,0))),0,(INDEX('RC'!CY$48:CY$179,MATCH(A119,'RC'!BI$48:BI$179,0))))","v":0},{"$f":"IF(ISERROR(INDEX('RC'!CZ$48:CZ$179,MATCH(A119,'RC'!BI$48:BI$179,0))),0,(INDEX('RC'!CZ$48:CZ$179,MATCH(A119,'RC'!BI$48:BI$179,0))))","v":0},0,{"$f":"IF(A119>='RC'!BM$29,0,IF(ISERROR(INDEX('RC'!CF$48:CF$179,MATCH(A119,'RC'!BI$48:BI$179,0))),0,(INDEX('RC'!CF$48:CF$179,MATCH(A119,'RC'!BI$48:BI$179,0)))))","v":0},0,0,null,null,null,null,null,null,null,0,0,"",""]
["2024-05-01",{"$f":"IF(ISERROR(INDEX('RC'!BJ$48:BJ$179,MATCH(A120,'RC'!BI$48:BI$179,0))),0,(INDEX('RC'!BJ$48:BJ$179,MATCH(A120,'RC'!BI$48:BI$179,0))))","v":0},{"$f":"IF(B120=\"\",0,IF(B120=0,0,INDEX('RC'!BK$48:BK$179,MATCH(A120,'RC'!BI$48:BI$179,0))))","v":0},{"$f":"IF(B120=\"\",0,IF(B120=0,0,INDEX('RC'!BL$48:BL$179,MATCH(A120,'RC'!BI$48:BI$179,0))))","v":0},{"$f":"IF(B120=\"\",0,IF(B120=0,0,INDEX('RC'!BM$48:BM$179,MATCH(A120,'RC'!BI$48:BI$179,0))))","v":0},0,{"$f":"IF(ISERROR(INDEX('RC'!BP$48:BP$179,MATCH(A120,'RC'!BI$48:BI$179,0))),0,(INDEX('RC'!BP$48:BP$179,MATCH(A120,'RC'!BI$48:BI$179,0))))","v":0},{"$f":"IF(B120=\"\",0,IF(B120=0,0,INDEX('RC'!BQ$48:BQ$179,MATCH(A120,'RC'!BI$48:BI$179,0))))","v":0},{"$f":"IF(B120=\"\",0,IF(B120=0,0,INDEX('RC'!BR$48:BR$179,MATCH(A120,'RC'!BI$48:BI$179,0))))","v":0},{"$f":"IF(B120=\"\",0,IF(B120=0,0,INDEX('RC'!BS$48:BS$179,MATCH(A120,'RC'!BI$48:BI$179,0))))","v":0},0,0,0,0,0,0,{"$f":"IF(ISERROR(INDEX('RC'!DG$48:DG$179,MATCH(A120,'RC'!BI$48:BI$179,0))),0,(INDEX('RC'!DG$48:DG$179,MATCH(A120,'RC'!BI$48:BI$179,0))))","v":0},{"$f":"IF(ISERROR(INDEX('RC'!DH$48:DH$179,MATCH(A120,'RC'!BI$48:BI$179,0))),0,(INDEX('RC'!DH$48:DH$179,MATCH(A120,'RC'!BI$48:BI$179,0))))","v":0},0,{"$f":"IF(Entry!B$28=\"Y\",0,IF(ISERROR(INDEX('RC'!CV$48:CV$179,MATCH(A120,'RC'!BI$48:BI$179,0))),0,(INDEX('RC'!CV$48:CV$179,MATCH(A120,'RC'!BI$48:BI$179,0)))))","v":0},{"$f":"IF(Entry!B$28=\"Y\",0,IF(ISERROR(INDEX('RC'!CW$48:CW$179,MATCH(A120,'RC'!BI$48:BI$179,0))),0,(INDEX('RC'!CW$48:CW$179,MATCH(A120,'RC'!BI$48:BI$179,0)))))","v":0},0,{"$f":"IF(ISERROR(INDEX('RC'!CY$48:CY$179,MATCH(A120,'RC'!BI$48:BI$179,0))),0,(INDEX('RC'!CY$48:CY$179,MATCH(A120,'RC'!BI$48:BI$179,0))))","v":0},{"$f":"IF(ISERROR(INDEX('RC'!CZ$48:CZ$179,MATCH(A120,'RC'!BI$48:BI$179,0))),0,(INDEX('RC'!CZ$48:CZ$179,MATCH(A120,'RC'!BI$48:BI$179,0))))","v":0},0,{"$f":"IF(A120>='RC'!BM$29,0,IF(ISERROR(INDEX('RC'!CF$48:CF$179,MATCH(A120,'RC'!BI$48:BI$179,0))),0,(INDEX('RC'!CF$48:CF$179,MATCH(A120,'RC'!BI$48:BI$179,0)))))","v":0},0,0,null,null,null,null,null,null,null,0,0,"",""]
["2024-06-01",{"$f":"IF(ISERROR(INDEX('RC'!BJ$48:BJ$179,MATCH(A121,'RC'!BI$48:BI$179,0))),0,(INDEX('RC'!BJ$48:BJ$179,MATCH(A121,'RC'!BI$48:BI$179,0))))","v":0},{"$f":"IF(B121=\"\",0,IF(B121=0,0,INDEX('RC'!BK$48:BK$179,MATCH(A121,'RC'!BI$48:BI$179,0))))","v":0},{"$f":"IF(B121=\"\",0,IF(B121=0,0,INDEX('RC'!BL$48:BL$179,MATCH(A121,'RC'!BI$48:BI$179,0))))","v":0},{"$f":"IF(B121=\"\",0,IF(B121=0,0,INDEX('RC'!BM$48:BM$179,MATCH(A121,'RC'!BI$48:BI$179,0))))","v":0},0,{"$f":"IF(ISERROR(INDEX('RC'!BP$48:BP$179,MATCH(A121,'RC'!BI$48:BI$179,0))),0,(INDEX('RC'!BP$48:BP$179,MATCH(A121,'RC'!BI$48:BI$179,0))))","v":0},{"$f":"IF(B121=\"\",0,IF(B121=0,0,INDEX('RC'!BQ$48:BQ$179,MATCH(A121,'RC'!BI$48:BI$179,0))))","v":0},{"$f":"IF(B121=\"\",0,IF(B121=0,0,INDEX('RC'!BR$48:BR$179,MATCH(A121,'RC'!BI$48:BI$179,0))))","v":0},{"$f":"IF(B121=\"\",0,IF(B121=0,0,INDEX('RC'!BS$48:BS$179,MATCH(A121,'RC'!BI$48:BI$179,0))))","v":0},0,0,0,0,0,0,{"$f":"IF(ISERROR(INDEX('RC'!DG$48:DG$179,MATCH(A121,'RC'!BI$48:BI$179,0))),0,(INDEX('RC'!DG$48:DG$179,MATCH(A121,'RC'!BI$48:BI$179,0))))","v":0},{"$f":"IF(ISERROR(INDEX('RC'!DH$48:DH$179,MATCH(A121,'RC'!BI$48:BI$179,0))),0,(INDEX('RC'!DH$48:DH$179,MATCH(A121,'RC'!BI$48:BI$179,0))))","v":0},0,{"$f":"IF(Entry!B$28=\"Y\",0,IF(ISERROR(INDEX('RC'!CV$48:CV$179,MATCH(A121,'RC'!BI$48:BI$179,0))),0,(INDEX('RC'!CV$48:CV$179,MATCH(A121,'RC'!BI$48:BI$179,0)))))","v":0},{"$f":"IF(Entry!B$28=\"Y\",0,IF(ISERROR(INDEX('RC'!CW$48:CW$179,MATCH(A121,'RC'!BI$48:BI$179,0))),0,(INDEX('RC'!CW$48:CW$179,MATCH(A121,'RC'!BI$48:BI$179,0)))))","v":0},0,{"$f":"IF(ISERROR(INDEX('RC'!CY$48:CY$179,MATCH(A121,'RC'!BI$48:BI$179,0))),0,(INDEX('RC'!CY$48:CY$179,MATCH(A121,'RC'!BI$48:BI$179,0))))","v":0},{"$f":"IF(ISERROR(INDEX('RC'!CZ$48:CZ$179,MATCH(A121,'RC'!BI$48:BI$179,0))),0,(INDEX('RC'!CZ$48:CZ$179,MATCH(A121,'RC'!BI$48:BI$179,0))))","v":0},0,{"$f":"IF(A121>='RC'!BM$29,0,IF(ISERROR(INDEX('RC'!CF$48:CF$179,MATCH(A121,'RC'!BI$48:BI$179,0))),0,(INDEX('RC'!CF$48:CF$179,MATCH(A121,'RC'!BI$48:BI$179,0)))))","v":0},0,0,null,null,null,null,null,null,null,0,0,"",""]
["2024-07-01",{"$f":"IF(ISERROR(INDEX('RC'!BJ$48:BJ$179,MATCH(A122,'RC'!BI$48:BI$179,0))),0,(INDEX('RC'!BJ$48:BJ$179,MATCH(A122,'RC'!BI$48:BI$179,0))))","v":0},{"$f":"IF(B122=\"\",0,IF(B122=0,0,INDEX('RC'!BK$48:BK$179,MATCH(A122,'RC'!BI$48:BI$179,0))))","v":0},{"$f":"IF(B122=\"\",0,IF(B122=0,0,INDEX('RC'!BL$48:BL$179,MATCH(A122,'RC'!BI$48:BI$179,0))))","v":0},{"$f":"IF(B122=\"\",0,IF(B122=0,0,INDEX('RC'!BM$48:BM$179,MATCH(A122,'RC'!BI$48:BI$179,0))))","v":0},0,{"$f":"IF(ISERROR(INDEX('RC'!BP$48:BP$179,MATCH(A122,'RC'!BI$48:BI$179,0))),0,(INDEX('RC'!BP$48:BP$179,MATCH(A122,'RC'!BI$48:BI$179,0))))","v":0},{"$f":"IF(B122=\"\",0,IF(B122=0,0,INDEX('RC'!BQ$48:BQ$179,MATCH(A122,'RC'!BI$48:BI$179,0))))","v":0},{"$f":"IF(B122=\"\",0,IF(B122=0,0,INDEX('RC'!BR$48:BR$179,MATCH(A122,'RC'!BI$48:BI$179,0))))","v":0},{"$f":"IF(B122=\"\",0,IF(B122=0,0,INDEX('RC'!BS$48:BS$179,MATCH(A122,'RC'!BI$48:BI$179,0))))","v":0},0,0,0,0,0,0,{"$f":"IF(ISERROR(INDEX('RC'!DG$48:DG$179,MATCH(A122,'RC'!BI$48:BI$179,0))),0,(INDEX('RC'!DG$48:DG$179,MATCH(A122,'RC'!BI$48:BI$179,0))))","v":0},{"$f":"IF(ISERROR(INDEX('RC'!DH$48:DH$179,MATCH(A122,'RC'!BI$48:BI$179,0))),0,(INDEX('RC'!DH$48:DH$179,MATCH(A122,'RC'!BI$48:BI$179,0))))","v":0},0,{"$f":"IF(Entry!B$28=\"Y\",0,IF(ISERROR(INDEX('RC'!CV$48:CV$179,MATCH(A122,'RC'!BI$48:BI$179,0))),0,(INDEX('RC'!CV$48:CV$179,MATCH(A122,'RC'!BI$48:BI$179,0)))))","v":0},{"$f":"IF(Entry!B$28=\"Y\",0,IF(ISERROR(INDEX('RC'!CW$48:CW$179,MATCH(A122,'RC'!BI$48:BI$179,0))),0,(INDEX('RC'!CW$48:CW$179,MATCH(A122,'RC'!BI$48:BI$179,0)))))","v":0},0,{"$f":"IF(ISERROR(INDEX('RC'!CY$48:CY$179,MATCH(A122,'RC'!BI$48:BI$179,0))),0,(INDEX('RC'!CY$48:CY$179,MATCH(A122,'RC'!BI$48:BI$179,0))))","v":0},{"$f":"IF(ISERROR(INDEX('RC'!CZ$48:CZ$179,MATCH(A122,'RC'!BI$48:BI$179,0))),0,(INDEX('RC'!CZ$48:CZ$179,MATCH(A122,'RC'!BI$48:BI$179,0))))","v":0},0,{"$f":"IF(A122>='RC'!BM$29,0,IF(ISERROR(INDEX('RC'!CF$48:CF$179,MATCH(A122,'RC'!BI$48:BI$179,0))),0,(INDEX('RC'!CF$48:CF$179,MATCH(A122,'RC'!BI$48:BI$179,0)))))","v":0},0,0,null,null,null,null,null,null,null,0,0,"",""]
["2024-08-01",{"$f":"IF(ISERROR(INDEX('RC'!BJ$48:BJ$179,MATCH(A123,'RC'!BI$48:BI$179,0))),0,(INDEX('RC'!BJ$48:BJ$179,MATCH(A123,'RC'!BI$48:BI$179,0))))","v":0},{"$f":"IF(B123=\"\",0,IF(B123=0,0,INDEX('RC'!BK$48:BK$179,MATCH(A123,'RC'!BI$48:BI$179,0))))","v":0},{"$f":"IF(B123=\"\",0,IF(B123=0,0,INDEX('RC'!BL$48:BL$179,MATCH(A123,'RC'!BI$48:BI$179,0))))","v":0},{"$f":"IF(B123=\"\",0,IF(B123=0,0,INDEX('RC'!BM$48:BM$179,MATCH(A123,'RC'!BI$48:BI$179,0))))","v":0},0,{"$f":"IF(ISERROR(INDEX('RC'!BP$48:BP$179,MATCH(A123,'RC'!BI$48:BI$179,0))),0,(INDEX('RC'!BP$48:BP$179,MATCH(A123,'RC'!BI$48:BI$179,0))))","v":0},{"$f":"IF(B123=\"\",0,IF(B123=0,0,INDEX('RC'!BQ$48:BQ$179,MATCH(A123,'RC'!BI$48:BI$179,0))))","v":0},{"$f":"IF(B123=\"\",0,IF(B123=0,0,INDEX('RC'!BR$48:BR$179,MATCH(A123,'RC'!BI$48:BI$179,0))))","v":0},{"$f":"IF(B123=\"\",0,IF(B123=0,0,INDEX('RC'!BS$48:BS$179,MATCH(A123,'RC'!BI$48:BI$179,0))))","v":0},0,0,0,0,0,0,{"$f":"IF(ISERROR(INDEX('RC'!DG$48:DG$179,MATCH(A123,'RC'!BI$48:BI$179,0))),0,(INDEX('RC'!DG$48:DG$179,MATCH(A123,'RC'!BI$48:BI$179,0))))","v":0},{"$f":"IF(ISERROR(INDEX('RC'!DH$48:DH$179,MATCH(A123,'RC'!BI$48:BI$179,0))),0,(INDEX('RC'!DH$48:DH$179,MATCH(A123,'RC'!BI$48:BI$179,0))))","v":0},0,{"$f":"IF(Entry!B$28=\"Y\",0,IF(ISERROR(INDEX('RC'!CV$48:CV$179,MATCH(A123,'RC'!BI$48:BI$179,0))),0,(INDEX('RC'!CV$48:CV$179,MATCH(A123,'RC'!BI$48:BI$179,0)))))","v":0},{"$f":"IF(Entry!B$28=\"Y\",0,IF(ISERROR(INDEX('RC'!CW$48:CW$179,MATCH(A123,'RC'!BI$48:BI$179,0))),0,(INDEX('RC'!CW$48:CW$179,MATCH(A123,'RC'!BI$48:BI$179,0)))))","v":0},0,{"$f":"IF(ISERROR(INDEX('RC'!CY$48:CY$179,MATCH(A123,'RC'!BI$48:BI$179,0))),0,(INDEX('RC'!CY$48:CY$179,MATCH(A123,'RC'!BI$48:BI$179,0))))","v":0},{"$f":"IF(ISERROR(INDEX('RC'!CZ$48:CZ$179,MATCH(A123,'RC'!BI$48:BI$179,0))),0,(INDEX('RC'!CZ$48:CZ$179,MATCH(A123,'RC'!BI$48:BI$179,0))))","v":0},0,{"$f":"IF(A123>='RC'!BM$29,0,IF(ISERROR(INDEX('RC'!CF$48:CF$179,MATCH(A123,'RC'!BI$48:BI$179,0))),0,(INDEX('RC'!CF$48:CF$179,MATCH(A123,'RC'!BI$48:BI$179,0)))))","v":0},0,0,null,null,null,null,null,null,null,0,{"$f":"AJ123","v":0},{"$f":"IF(AK123=0,\"\",AK123)","v":""},{"$f":"IF(AL123=0,\"\",AL123)","v":""}]
["2024-09-01",{"$f":"IF(ISERROR(INDEX('RC'!BJ$48:BJ$179,MATCH(A124,'RC'!BI$48:BI$179,0))),0,(INDEX('RC'!BJ$48:BJ$179,MATCH(A124,'RC'!BI$48:BI$179,0))))","v":0},{"$f":"IF(B124=\"\",0,IF(B124=0,0,INDEX('RC'!BK$48:BK$179,MATCH(A124,'RC'!BI$48:BI$179,0))))","v":0},{"$f":"IF(B124=\"\",0,IF(B124=0,0,INDEX('RC'!BL$48:BL$179,MATCH(A124,'RC'!BI$48:BI$179,0))))","v":0},{"$f":"IF(B124=\"\",0,IF(B124=0,0,INDEX('RC'!BM$48:BM$179,MATCH(A124,'RC'!BI$48:BI$179,0))))","v":0},0,{"$f":"IF(ISERROR(INDEX('RC'!BP$48:BP$179,MATCH(A124,'RC'!BI$48:BI$179,0))),0,(INDEX('RC'!BP$48:BP$179,MATCH(A124,'RC'!BI$48:BI$179,0))))","v":0},{"$f":"IF(B124=\"\",0,IF(B124=0,0,INDEX('RC'!BQ$48:BQ$179,MATCH(A124,'RC'!BI$48:BI$179,0))))","v":0},{"$f":"IF(B124=\"\",0,IF(B124=0,0,INDEX('RC'!BR$48:BR$179,MATCH(A124,'RC'!BI$48:BI$179,0))))","v":0},{"$f":"IF(B124=\"\",0,IF(B124=0,0,INDEX('RC'!BS$48:BS$179,MATCH(A124,'RC'!BI$48:BI$179,0))))","v":0},0,0,0,0,0,0,{"$f":"IF(ISERROR(INDEX('RC'!DG$48:DG$179,MATCH(A124,'RC'!BI$48:BI$179,0))),0,(INDEX('RC'!DG$48:DG$179,MATCH(A124,'RC'!BI$48:BI$179,0))))","v":0},{"$f":"IF(ISERROR(INDEX('RC'!DH$48:DH$179,MATCH(A124,'RC'!BI$48:BI$179,0))),0,(INDEX('RC'!DH$48:DH$179,MATCH(A124,'RC'!BI$48:BI$179,0))))","v":0},0,{"$f":"IF(Entry!B$28=\"Y\",0,IF(ISERROR(INDEX('RC'!CV$48:CV$179,MATCH(A124,'RC'!BI$48:BI$179,0))),0,(INDEX('RC'!CV$48:CV$179,MATCH(A124,'RC'!BI$48:BI$179,0)))))","v":0},{"$f":"IF(Entry!B$28=\"Y\",0,IF(ISERROR(INDEX('RC'!CW$48:CW$179,MATCH(A124,'RC'!BI$48:BI$179,0))),0,(INDEX('RC'!CW$48:CW$179,MATCH(A124,'RC'!BI$48:BI$179,0)))))","v":0},0,{"$f":"IF(ISERROR(INDEX('RC'!CY$48:CY$179,MATCH(A124,'RC'!BI$48:BI$179,0))),0,(INDEX('RC'!CY$48:CY$179,MATCH(A124,'RC'!BI$48:BI$179,0))))","v":0},{"$f":"IF(ISERROR(INDEX('RC'!CZ$48:CZ$179,MATCH(A124,'RC'!BI$48:BI$179,0))),0,(INDEX('RC'!CZ$48:CZ$179,MATCH(A124,'RC'!BI$48:BI$179,0))))","v":0},0,{"$f":"IF(A124>='RC'!BM$29,0,IF(ISERROR(INDEX('RC'!CF$48:CF$179,MATCH(A124,'RC'!BI$48:BI$179,0))),0,(INDEX('RC'!CF$48:CF$179,MATCH(A124,'RC'!BI$48:BI$179,0)))))","v":0},0,0,null,null,null,null,null,null,null,0,0,"",{"$f":"IF(AL124=0,\"\",AL124)","v":""}]
["2024-10-01",{"$f":"IF(ISERROR(INDEX('RC'!BJ$48:BJ$179,MATCH(A125,'RC'!BI$48:BI$179,0))),0,(INDEX('RC'!BJ$48:BJ$179,MATCH(A125,'RC'!BI$48:BI$179,0))))","v":0},{"$f":"IF(B125=\"\",0,IF(B125=0,0,INDEX('RC'!BK$48:BK$179,MATCH(A125,'RC'!BI$48:BI$179,0))))","v":0},{"$f":"IF(B125=\"\",0,IF(B125=0,0,INDEX('RC'!BL$48:BL$179,MATCH(A125,'RC'!BI$48:BI$179,0))))","v":0},{"$f":"IF(B125=\"\",0,IF(B125=0,0,INDEX('RC'!BM$48:BM$179,MATCH(A125,'RC'!BI$48:BI$179,0))))","v":0},0,{"$f":"IF(ISERROR(INDEX('RC'!BP$48:BP$179,MATCH(A125,'RC'!BI$48:BI$179,0))),0,(INDEX('RC'!BP$48:BP$179,MATCH(A125,'RC'!BI$48:BI$179,0))))","v":0},{"$f":"IF(B125=\"\",0,IF(B125=0,0,INDEX('RC'!BQ$48:BQ$179,MATCH(A125,'RC'!BI$48:BI$179,0))))","v":0},{"$f":"IF(B125=\"\",0,IF(B125=0,0,INDEX('RC'!BR$48:BR$179,MATCH(A125,'RC'!BI$48:BI$179,0))))","v":0},{"$f":"IF(B125=\"\",0,IF(B125=0,0,INDEX('RC'!BS$48:BS$179,MATCH(A125,'RC'!BI$48:BI$179,0))))","v":0},0,0,0,0,0,0,{"$f":"IF(ISERROR(INDEX('RC'!DG$48:DG$179,MATCH(A125,'RC'!BI$48:BI$179,0))),0,(INDEX('RC'!DG$48:DG$179,MATCH(A125,'RC'!BI$48:BI$179,0))))","v":0},{"$f":"IF(ISERROR(INDEX('RC'!DH$48:DH$179,MATCH(A125,'RC'!BI$48:BI$179,0))),0,(INDEX('RC'!DH$48:DH$179,MATCH(A125,'RC'!BI$48:BI$179,0))))","v":0},0,{"$f":"IF(Entry!B$28=\"Y\",0,IF(ISERROR(INDEX('RC'!CV$48:CV$179,MATCH(A125,'RC'!BI$48:BI$179,0))),0,(INDEX('RC'!CV$48:CV$179,MATCH(A125,'RC'!BI$48:BI$179,0)))))","v":0},{"$f":"IF(Entry!B$28=\"Y\",0,IF(ISERROR(INDEX('RC'!CW$48:CW$179,MATCH(A125,'RC'!BI$48:BI$179,0))),0,(INDEX('RC'!CW$48:CW$179,MATCH(A125,'RC'!BI$48:BI$179,0)))))","v":0},0,{"$f":"IF(ISERROR(INDEX('RC'!CY$48:CY$179,MATCH(A125,'RC'!BI$48:BI$179,0))),0,(INDEX('RC'!CY$48:CY$179,MATCH(A125,'RC'!BI$48:BI$179,0))))","v":0},{"$f":"IF(ISERROR(INDEX('RC'!CZ$48:CZ$179,MATCH(A125,'RC'!BI$48:BI$179,0))),0,(INDEX('RC'!CZ$48:CZ$179,MATCH(A125,'RC'!BI$48:BI$179,0))))","v":0},0,{"$f":"IF(A125>='RC'!BM$29,0,IF(ISERROR(INDEX('RC'!CF$48:CF$179,MATCH(A125,'RC'!BI$48:BI$179,0))),0,(INDEX('RC'!CF$48:CF$179,MATCH(A125,'RC'!BI$48:BI$179,0)))))","v":0},0,0,null,null,null,null,null,null,null,0,0,"",""]
["2024-11-01",{"$f":"IF(ISERROR(INDEX('RC'!BJ$48:BJ$179,MATCH(A126,'RC'!BI$48:BI$179,0))),0,(INDEX('RC'!BJ$48:BJ$179,MATCH(A126,'RC'!BI$48:BI$179,0))))","v":0},{"$f":"IF(B126=\"\",0,IF(B126=0,0,INDEX('RC'!BK$48:BK$179,MATCH(A126,'RC'!BI$48:BI$179,0))))","v":0},{"$f":"IF(B126=\"\",0,IF(B126=0,0,INDEX('RC'!BL$48:BL$179,MATCH(A126,'RC'!BI$48:BI$179,0))))","v":0},{"$f":"IF(B126=\"\",0,IF(B126=0,0,INDEX('RC'!BM$48:BM$179,MATCH(A126,'RC'!BI$48:BI$179,0))))","v":0},0,{"$f":"IF(ISERROR(INDEX('RC'!BP$48:BP$179,MATCH(A126,'RC'!BI$48:BI$179,0))),0,(INDEX('RC'!BP$48:BP$179,MATCH(A126,'RC'!BI$48:BI$179,0))))","v":0},{"$f":"IF(B126=\"\",0,IF(B126=0,0,INDEX('RC'!BQ$48:BQ$179,MATCH(A126,'RC'!BI$48:BI$179,0))))","v":0},{"$f":"IF(B126=\"\",0,IF(B126=0,0,INDEX('RC'!BR$48:BR$179,MATCH(A126,'RC'!BI$48:BI$179,0))))","v":0},{"$f":"IF(B126=\"\",0,IF(B126=0,0,INDEX('RC'!BS$48:BS$179,MATCH(A126,'RC'!BI$48:BI$179,0))))","v":0},0,0,0,0,0,0,{"$f":"IF(ISERROR(INDEX('RC'!DG$48:DG$179,MATCH(A126,'RC'!BI$48:BI$179,0))),0,(INDEX('RC'!DG$48:DG$179,MATCH(A126,'RC'!BI$48:BI$179,0))))","v":0},{"$f":"IF(ISERROR(INDEX('RC'!DH$48:DH$179,MATCH(A126,'RC'!BI$48:BI$179,0))),0,(INDEX('RC'!DH$48:DH$179,MATCH(A126,'RC'!BI$48:BI$179,0))))","v":0},0,{"$f":"IF(Entry!B$28=\"Y\",0,IF(ISERROR(INDEX('RC'!CV$48:CV$179,MATCH(A126,'RC'!BI$48:BI$179,0))),0,(INDEX('RC'!CV$48:CV$179,MATCH(A126,'RC'!BI$48:BI$179,0)))))","v":0},{"$f":"IF(Entry!B$28=\"Y\",0,IF(ISERROR(INDEX('RC'!CW$48:CW$179,MATCH(A126,'RC'!BI$48:BI$179,0))),0,(INDEX('RC'!CW$48:CW$179,MATCH(A126,'RC'!BI$48:BI$179,0)))))","v":0},0,{"$f":"IF(ISERROR(INDEX('RC'!CY$48:CY$179,MATCH(A126,'RC'!BI$48:BI$179,0))),0,(INDEX('RC'!CY$48:CY$179,MATCH(A126,'RC'!BI$48:BI$179,0))))","v":0},{"$f":"IF(ISERROR(INDEX('RC'!CZ$48:CZ$179,MATCH(A126,'RC'!BI$48:BI$179,0))),0,(INDEX('RC'!CZ$48:CZ$179,MATCH(A126,'RC'!BI$48:BI$179,0))))","v":0},0,{"$f":"IF(A126>='RC'!BM$29,0,IF(ISERROR(INDEX('RC'!CF$48:CF$179,MATCH(A126,'RC'!BI$48:BI$179,0))),0,(INDEX('RC'!CF$48:CF$179,MATCH(A126,'RC'!BI$48:BI$179,0)))))","v":0},0,0,null,null,null,null,null,null,null,0,0,"",""]
[{"$f":"EDATE(A126,1)","v":"2024-12-01"},{"$f":"IF(ISERROR(INDEX('RC'!BJ$48:BJ$179,MATCH(A127,'RC'!BI$48:BI$179,0))),0,(INDEX('RC'!BJ$48:BJ$179,MATCH(A127,'RC'!BI$48:BI$179,0))))","v":0},{"$f":"IF(B127=\"\",0,IF(B127=0,0,INDEX('RC'!BK$48:BK$179,MATCH(A127,'RC'!BI$48:BI$179,0))))","v":0},{"$f":"IF(B127=\"\",0,IF(B127=0,0,INDEX('RC'!BL$48:BL$179,MATCH(A127,'RC'!BI$48:BI$179,0))))","v":0},{"$f":"IF(B127=\"\",0,IF(B127=0,0,INDEX('RC'!BM$48:BM$179,MATCH(A127,'RC'!BI$48:BI$179,0))))","v":0},{"$f":"SUM(B127:E127)","v":0},{"$f":"IF(ISERROR(INDEX('RC'!BP$48:BP$179,MATCH(A127,'RC'!BI$48:BI$179,0))),0,(INDEX('RC'!BP$48:BP$179,MATCH(A127,'RC'!BI$48:BI$179,0))))","v":0},{"$f":"IF(B127=\"\",0,IF(B127=0,0,INDEX('RC'!BQ$48:BQ$179,MATCH(A127,'RC'!BI$48:BI$179,0))))","v":0},{"$f":"IF(B127=\"\",0,IF(B127=0,0,INDEX('RC'!BR$48:BR$179,MATCH(A127,'RC'!BI$48:BI$179,0))))","v":0},{"$f":"IF(B127=\"\",0,IF(B127=0,0,INDEX('RC'!BS$48:BS$179,MATCH(A127,'RC'!BI$48:BI$179,0))))","v":0},{"$f":"SUM(G127:J127)","v":0},{"$f":"B127-G127","v":0},{"$f":"C127-H127","v":0},{"$f":"D127-I127","v":0},0,0,{"$f":"IF(ISERROR(INDEX('RC'!DG$48:DG$179,MATCH(A127,'RC'!BI$48:BI$179,0))),0,(INDEX('RC'!DG$48:DG$179,MATCH(A127,'RC'!BI$48:BI$179,0))))","v":0},{"$f":"IF(ISERROR(INDEX('RC'!DH$48:DH$179,MATCH(A127,'RC'!BI$48:BI$179,0))),0,(INDEX('RC'!DH$48:DH$179,MATCH(A127,'RC'!BI$48:BI$179,0))))","v":0},0,{"$f":"IF(Entry!B$28=\"Y\",0,IF(ISERROR(INDEX('RC'!CV$48:CV$179,MATCH(A127,'RC'!BI$48:BI$179,0))),0,(INDEX('RC'!CV$48:CV$179,MATCH(A127,'RC'!BI$48:BI$179,0)))))","v":0},{"$f":"IF(Entry!B$28=\"Y\",0,IF(ISERROR(INDEX('RC'!CW$48:CW$179,MATCH(A127,'RC'!BI$48:BI$179,0))),0,(INDEX('RC'!CW$48:CW$179,MATCH(A127,'RC'!BI$48:BI$179,0)))))","v":0},0,{"$f":"IF(ISERROR(INDEX('RC'!CY$48:CY$179,MATCH(A127,'RC'!BI$48:BI$179,0))),0,(INDEX('RC'!CY$48:CY$179,MATCH(A127,'RC'!BI$48:BI$179,0))))","v":0},{"$f":"IF(ISERROR(INDEX('RC'!CZ$48:CZ$179,MATCH(A127,'RC'!BI$48:BI$179,0))),0,(INDEX('RC'!CZ$48:CZ$179,MATCH(A127,'RC'!BI$48:BI$179,0))))","v":0},0,{"$f":"IF(A127>='RC'!BM$29,0,IF(ISERROR(INDEX('RC'!CF$48:CF$179,MATCH(A127,'RC'!BI$48:BI$179,0))),0,(INDEX('RC'!CF$48:CF$179,MATCH(A127,'RC'!BI$48:BI$179,0)))))","v":0},0,0,null,null,null,null,null,null,null,{"$f":"IF(B127<1,0,1)","v":0},0,"",""]
["2025-01-01",{"$f":"IF(ISERROR(INDEX('RC'!BJ$48:BJ$179,MATCH(A128,'RC'!BI$48:BI$179,0))),0,(INDEX('RC'!BJ$48:BJ$179,MATCH(A128,'RC'!BI$48:BI$179,0))))","v":0},{"$f":"IF(B128=\"\",0,IF(B128=0,0,INDEX('RC'!BK$48:BK$179,MATCH(A128,'RC'!BI$48:BI$179,0))))","v":0},{"$f":"IF(B128=\"\",0,IF(B128=0,0,INDEX('RC'!BL$48:BL$179,MATCH(A128,'RC'!BI$48:BI$179,0))))","v":0},{"$f":"IF(B128=\"\",0,IF(B128=0,0,INDEX('RC'!BM$48:BM$179,MATCH(A128,'RC'!BI$48:BI$179,0))))","v":0},{"$f":"SUM(B128:E128)","v":0},{"$f":"IF(ISERROR(INDEX('RC'!BP$48:BP$179,MATCH(A128,'RC'!BI$48:BI$179,0))),0,(INDEX('RC'!BP$48:BP$179,MATCH(A128,'RC'!BI$48:BI$179,0))))","v":0},{"$f":"IF(B128=\"\",0,IF(B128=0,0,INDEX('RC'!BQ$48:BQ$179,MATCH(A128,'RC'!BI$48:BI$179,0))))","v":0},{"$f":"IF(B128=\"\",0,IF(B128=0,0,INDEX('RC'!BR$48:BR$179,MATCH(A128,'RC'!BI$48:BI$179,0))))","v":0},{"$f":"IF(B128=\"\",0,IF(B128=0,0,INDEX('RC'!BS$48:BS$179,MATCH(A128,'RC'!BI$48:BI$179,0))))","v":0},0,{"$f":"B128-G128","v":0},{"$f":"C128-H128","v":0},{"$f":"D128-I128","v":0},0,0,{"$f":"IF(ISERROR(INDEX('RC'!DG$48:DG$179,MATCH(A128,'RC'!BI$48:BI$179,0))),0,(INDEX('RC'!DG$48:DG$179,MATCH(A128,'RC'!BI$48:BI$179,0))))","v":0},{"$f":"IF(ISERROR(INDEX('RC'!DH$48:DH$179,MATCH(A128,'RC'!BI$48:BI$179,0))),0,(INDEX('RC'!DH$48:DH$179,MATCH(A128,'RC'!BI$48:BI$179,0))))","v":0},0,{"$f":"IF(Entry!B$28=\"Y\",0,IF(ISERROR(INDEX('RC'!CV$48:CV$179,MATCH(A128,'RC'!BI$48:BI$179,0))),0,(INDEX('RC'!CV$48:CV$179,MATCH(A128,'RC'!BI$48:BI$179,0)))))","v":0},{"$f":"IF(Entry!B$28=\"Y\",0,IF(ISERROR(INDEX('RC'!CW$48:CW$179,MATCH(A128,'RC'!BI$48:BI$179,0))),0,(INDEX('RC'!CW$48:CW$179,MATCH(A128,'RC'!BI$48:BI$179,0)))))","v":0},0,{"$f":"IF(ISERROR(INDEX('RC'!CY$48:CY$179,MATCH(A128,'RC'!BI$48:BI$179,0))),0,(INDEX('RC'!CY$48:CY$179,MATCH(A128,'RC'!BI$48:BI$179,0))))","v":0},{"$f":"IF(ISERROR(INDEX('RC'!CZ$48:CZ$179,MATCH(A128,'RC'!BI$48:BI$179,0))),0,(INDEX('RC'!CZ$48:CZ$179,MATCH(A128,'RC'!BI$48:BI$179,0))))","v":0},0,{"$f":"IF(A128>='RC'!BM$29,0,IF(ISERROR(INDEX('RC'!CF$48:CF$179,MATCH(A128,'RC'!BI$48:BI$179,0))),0,(INDEX('RC'!CF$48:CF$179,MATCH(A128,'RC'!BI$48:BI$179,0)))))","v":0},0,0,null,null,null,null,null,null,null,0,0,"",""]
["2025-02-01",{"$f":"IF(ISERROR(INDEX('RC'!BJ$48:BJ$179,MATCH(A129,'RC'!BI$48:BI$179,0))),0,(INDEX('RC'!BJ$48:BJ$179,MATCH(A129,'RC'!BI$48:BI$179,0))))","v":0},{"$f":"IF(B129=\"\",0,IF(B129=0,0,INDEX('RC'!BK$48:BK$179,MATCH(A129,'RC'!BI$48:BI$179,0))))","v":0},{"$f":"IF(B129=\"\",0,IF(B129=0,0,INDEX('RC'!BL$48:BL$179,MATCH(A129,'RC'!BI$48:BI$179,0))))","v":0},{"$f":"IF(B129=\"\",0,IF(B129=0,0,INDEX('RC'!BM$48:BM$179,MATCH(A129,'RC'!BI$48:BI$179,0))))","v":0},0,{"$f":"IF(ISERROR(INDEX('RC'!BP$48:BP$179,MATCH(A129,'RC'!BI$48:BI$179,0))),0,(INDEX('RC'!BP$48:BP$179,MATCH(A129,'RC'!BI$48:BI$179,0))))","v":0},{"$f":"IF(B129=\"\",0,IF(B129=0,0,INDEX('RC'!BQ$48:BQ$179,MATCH(A129,'RC'!BI$48:BI$179,0))))","v":0},{"$f":"IF(B129=\"\",0,IF(B129=0,0,INDEX('RC'!BR$48:BR$179,MATCH(A129,'RC'!BI$48:BI$179,0))))","v":0},{"$f":"IF(B129=\"\",0,IF(B129=0,0,INDEX('RC'!BS$48:BS$179,MATCH(A129,'RC'!BI$48:BI$179,0))))","v":0},0,0,0,0,0,0,{"$f":"IF(ISERROR(INDEX('RC'!DG$48:DG$179,MATCH(A129,'RC'!BI$48:BI$179,0))),0,(INDEX('RC'!DG$48:DG$179,MATCH(A129,'RC'!BI$48:BI$179,0))))","v":0},{"$f":"IF(ISERROR(INDEX('RC'!DH$48:DH$179,MATCH(A129,'RC'!BI$48:BI$179,0))),0,(INDEX('RC'!DH$48:DH$179,MATCH(A129,'RC'!BI$48:BI$179,0))))","v":0},0,{"$f":"IF(Entry!B$28=\"Y\",0,IF(ISERROR(INDEX('RC'!CV$48:CV$179,MATCH(A129,'RC'!BI$48:BI$179,0))),0,(INDEX('RC'!CV$48:CV$179,MATCH(A129,'RC'!BI$48:BI$179,0)))))","v":0},{"$f":"IF(Entry!B$28=\"Y\",0,IF(ISERROR(INDEX('RC'!CW$48:CW$179,MATCH(A129,'RC'!BI$48:BI$179,0))),0,(INDEX('RC'!CW$48:CW$179,MATCH(A129,'RC'!BI$48:BI$179,0)))))","v":0},0,{"$f":"IF(ISERROR(INDEX('RC'!CY$48:CY$179,MATCH(A129,'RC'!BI$48:BI$179,0))),0,(INDEX('RC'!CY$48:CY$179,MATCH(A129,'RC'!BI$48:BI$179,0))))","v":0},{"$f":"IF(ISERROR(INDEX('RC'!CZ$48:CZ$179,MATCH(A129,'RC'!BI$48:BI$179,0))),0,(INDEX('RC'!CZ$48:CZ$179,MATCH(A129,'RC'!BI$48:BI$179,0))))","v":0},0,{"$f":"IF(A129>='RC'!BM$29,0,IF(ISERROR(INDEX('RC'!CF$48:CF$179,MATCH(A129,'RC'!BI$48:BI$179,0))),0,(INDEX('RC'!CF$48:CF$179,MATCH(A129,'RC'!BI$48:BI$179,0)))))","v":0},0,0,null,null,null,null,null,null,null,0,0,"",""]
["2025-03-01",{"$f":"IF(ISERROR(INDEX('RC'!BJ$48:BJ$179,MATCH(A130,'RC'!BI$48:BI$179,0))),0,(INDEX('RC'!BJ$48:BJ$179,MATCH(A130,'RC'!BI$48:BI$179,0))))","v":0},{"$f":"IF(B130=\"\",0,IF(B130=0,0,INDEX('RC'!BK$48:BK$179,MATCH(A130,'RC'!BI$48:BI$179,0))))","v":0},{"$f":"IF(B130=\"\",0,IF(B130=0,0,INDEX('RC'!BL$48:BL$179,MATCH(A130,'RC'!BI$48:BI$179,0))))","v":0},{"$f":"IF(B130=\"\",0,IF(B130=0,0,INDEX('RC'!BM$48:BM$179,MATCH(A130,'RC'!BI$48:BI$179,0))))","v":0},0,{"$f":"IF(ISERROR(INDEX('RC'!BP$48:BP$179,MATCH(A130,'RC'!BI$48:BI$179,0))),0,(INDEX('RC'!BP$48:BP$179,MATCH(A130,'RC'!BI$48:BI$179,0))))","v":0},{"$f":"IF(B130=\"\",0,IF(B130=0,0,INDEX('RC'!BQ$48:BQ$179,MATCH(A130,'RC'!BI$48:BI$179,0))))","v":0},{"$f":"IF(B130=\"\",0,IF(B130=0,0,INDEX('RC'!BR$48:BR$179,MATCH(A130,'RC'!BI$48:BI$179,0))))","v":0},{"$f":"IF(B130=\"\",0,IF(B130=0,0,INDEX('RC'!BS$48:BS$179,MATCH(A130,'RC'!BI$48:BI$179,0))))","v":0},0,0,0,0,0,0,{"$f":"IF(ISERROR(INDEX('RC'!DG$48:DG$179,MATCH(A130,'RC'!BI$48:BI$179,0))),0,(INDEX('RC'!DG$48:DG$179,MATCH(A130,'RC'!BI$48:BI$179,0))))","v":0},{"$f":"IF(ISERROR(INDEX('RC'!DH$48:DH$179,MATCH(A130,'RC'!BI$48:BI$179,0))),0,(INDEX('RC'!DH$48:DH$179,MATCH(A130,'RC'!BI$48:BI$179,0))))","v":0},0,{"$f":"IF(Entry!B$28=\"Y\",0,IF(ISERROR(INDEX('RC'!CV$48:CV$179,MATCH(A130,'RC'!BI$48:BI$179,0))),0,(INDEX('RC'!CV$48:CV$179,MATCH(A130,'RC'!BI$48:BI$179,0)))))","v":0},{"$f":"IF(Entry!B$28=\"Y\",0,IF(ISERROR(INDEX('RC'!CW$48:CW$179,MATCH(A130,'RC'!BI$48:BI$179,0))),0,(INDEX('RC'!CW$48:CW$179,MATCH(A130,'RC'!BI$48:BI$179,0)))))","v":0},0,{"$f":"IF(ISERROR(INDEX('RC'!CY$48:CY$179,MATCH(A130,'RC'!BI$48:BI$179,0))),0,(INDEX('RC'!CY$48:CY$179,MATCH(A130,'RC'!BI$48:BI$179,0))))","v":0},{"$f":"IF(ISERROR(INDEX('RC'!CZ$48:CZ$179,MATCH(A130,'RC'!BI$48:BI$179,0))),0,(INDEX('RC'!CZ$48:CZ$179,MATCH(A130,'RC'!BI$48:BI$179,0))))","v":0},0,{"$f":"IF(A130>='RC'!BM$29,0,IF(ISERROR(INDEX('RC'!CF$48:CF$179,MATCH(A130,'RC'!BI$48:BI$179,0))),0,(INDEX('RC'!CF$48:CF$179,MATCH(A130,'RC'!BI$48:BI$179,0)))))","v":0},0,{"$f":"P130-AA130","v":0},null,null,null,null,null,null,null,0,0,"",""]
["Totalc/f",{"$f":"SUM(B89:B130)","v":47709},{"$f":"SUM(C89:C130)","v":56774},0,4771,109254,45201,53789,0,4520,103510,{"$f":"SUM(L89:L130)","v":2508},{"$f":"SUM(M89:M130)","v":2985},0,251,5744,6600,4200,2400,1160,{"$f":"IF(Entry!B$28=\"Y\",0,IF(ISERROR(INDEX('RC'!CW$48:CW$179,MATCH(A131,'RC'!BI$48:BI$179,0))),0,(INDEX('RC'!CW$48:CW$179,MATCH(A131,'RC'!BI$48:BI$179,0)))))","v":0},{"$f":"SUM(V89:V130)","v":0},2600,2600,0,0,{"$f":"SUM(AA89:AA130)","v":2400},3344,null,null,null,null,null,null,null,{"$f":"IF(B130=0,0,IF(B133=0,0,1))","v":0},{"$f":"AJ131","v":0},{"$f":"IF(AK131=0,\"\",AK131)","v":""},{"$f":"IF(AL131=0,\"\",AL131)","v":""}]
["TotalB/f",{"$f":"B131","v":47709},{"$f":"C131","v":56774},0,4771,109254,45201,53789,0,4520,103510,{"$f":"L131","v":2508},{"$f":"M131","v":2985},0,251,5744,6600,4200,2400,1160,{"$f":"IF(Entry!B$28=\"Y\",0,IF(ISERROR(INDEX('RC'!CW$48:CW$179,MATCH(A132,'RC'!BI$48:BI$179,0))),0,(INDEX('RC'!CW$48:CW$179,MATCH(A132,'RC'!BI$48:BI$179,0)))))","v":0},{"$f":"V131","v":0},2600,2600,0,0,{"$f":"AA131","v":2400},3344,null,null,null,null,null,null,null,{"$f":"IF(B130=0,0,IF(B133=0,0,1))","v":0},{"$f":"AJ132","v":0},{"$f":"IF(AK132=0,\"\",AK132)","v":""},{"$f":"IF(AL132=0,\"\",AL132)","v":""}]
[{"$f":"EDATE(A130,1)","v":"2025-04-01"},{"$f":"IF(ISERROR(INDEX('RC'!BJ$48:BJ$179,MATCH(A133,'RC'!BI$48:BI$179,0))),0,(INDEX('RC'!BJ$48:BJ$179,MATCH(A133,'RC'!BI$48:BI$179,0))))","v":0},{"$f":"IF(B133=\"\",0,IF(B133=0,0,INDEX('RC'!BK$48:BK$179,MATCH(A133,'RC'!BI$48:BI$179,0))))","v":0},{"$f":"IF(B133=\"\",0,IF(B133=0,0,INDEX('RC'!BL$48:BL$179,MATCH(A133,'RC'!BI$48:BI$179,0))))","v":0},{"$f":"IF(B133=\"\",0,IF(B133=0,0,INDEX('RC'!BM$48:BM$179,MATCH(A133,'RC'!BI$48:BI$179,0))))","v":0},0,{"$f":"IF(ISERROR(INDEX('RC'!BP$48:BP$179,MATCH(A133,'RC'!BI$48:BI$179,0))),0,(INDEX('RC'!BP$48:BP$179,MATCH(A133,'RC'!BI$48:BI$179,0))))","v":0},{"$f":"IF(B133=\"\",0,IF(B133=0,0,INDEX('RC'!BQ$48:BQ$179,MATCH(A133,'RC'!BI$48:BI$179,0))))","v":0},{"$f":"IF(B133=\"\",0,IF(B133=0,0,INDEX('RC'!BR$48:BR$179,MATCH(A133,'RC'!BI$48:BI$179,0))))","v":0},{"$f":"IF(B133=\"\",0,IF(B133=0,0,INDEX('RC'!BS$48:BS$179,MATCH(A133,'RC'!BI$48:BI$179,0))))","v":0},0,0,0,0,{"$f":"E133-J133","v":0},{"$f":"SUM(L133:O133)","v":0},{"$f":"IF(ISERROR(INDEX('RC'!DG$48:DG$179,MATCH(A133,'RC'!BI$48:BI$179,0))),0,(INDEX('RC'!DG$48:DG$179,MATCH(A133,'RC'!BI$48:BI$179,0))))","v":0},{"$f":"IF(ISERROR(INDEX('RC'!DH$48:DH$179,MATCH(A133,'RC'!BI$48:BI$179,0))),0,(INDEX('RC'!DH$48:DH$179,MATCH(A133,'RC'!BI$48:BI$179,0))))","v":0},0,{"$f":"IF(Entry!B$28=\"Y\",0,IF(ISERROR(INDEX('RC'!CV$48:CV$179,MATCH(A133,'RC'!BI$48:BI$179,0))),0,(INDEX('RC'!CV$48:CV$179,MATCH(A133,'RC'!BI$48:BI$179,0)))))","v":0},{"$f":"IF(Entry!B$28=\"Y\",0,IF(ISERROR(INDEX('RC'!CW$48:CW$179,MATCH(A133,'RC'!BI$48:BI$179,0))),0,(INDEX('RC'!CW$48:CW$179,MATCH(A133,'RC'!BI$48:BI$179,0)))))","v":0},0,{"$f":"IF(ISERROR(INDEX('RC'!CY$48:CY$179,MATCH(A133,'RC'!BI$48:BI$179,0))),0,(INDEX('RC'!CY$48:CY$179,MATCH(A133,'RC'!BI$48:BI$179,0))))","v":0},{"$f":"IF(ISERROR(INDEX('RC'!CZ$48:CZ$179,MATCH(A133,'RC'!BI$48:BI$179,0))),0,(INDEX('RC'!CZ$48:CZ$179,MATCH(A133,'RC'!BI$48:BI$179,0))))","v":0},0,{"$f":"IF(A133>='RC'!BM$29,0,IF(ISERROR(INDEX('RC'!CF$48:CF$179,MATCH(A133,'RC'!BI$48:BI$179,0))),0,(INDEX('RC'!CF$48:CF$179,MATCH(A133,'RC'!BI$48:BI$179,0)))))","v":0},{"$f":"S133+V133+Y133+Z133","v":0},{"$f":"P133-AA133","v":0},null,null,null,null,null,null,null,0,0,"",""]
["2025-05-01",{"$f":"IF(ISERROR(INDEX('RC'!BJ$48:BJ$179,MATCH(A134,'RC'!BI$48:BI$179,0))),0,(INDEX('RC'!BJ$48:BJ$179,MATCH(A134,'RC'!BI$48:BI$179,0))))","v":0},{"$f":"IF(B134=\"\",0,IF(B134=0,0,INDEX('RC'!BK$48:BK$179,MATCH(A134,'RC'!BI$48:BI$179,0))))","v":0},{"$f":"IF(B134=\"\",0,IF(B134=0,0,INDEX('RC'!BL$48:BL$179,MATCH(A134,'RC'!BI$48:BI$179,0))))","v":0},{"$f":"IF(B134=\"\",0,IF(B134=0,0,INDEX('RC'!BM$48:BM$179,MATCH(A134,'RC'!BI$48:BI$179,0))))","v":0},0,{"$f":"IF(ISERROR(INDEX('RC'!BP$48:BP$179,MATCH(A134,'RC'!BI$48:BI$179,0))),0,(INDEX('RC'!BP$48:BP$179,MATCH(A134,'RC'!BI$48:BI$179,0))))","v":0},{"$f":"IF(B134=\"\",0,IF(B134=0,0,INDEX('RC'!BQ$48:BQ$179,MATCH(A134,'RC'!BI$48:BI$179,0))))","v":0},{"$f":"IF(B134=\"\",0,IF(B134=0,0,INDEX('RC'!BR$48:BR$179,MATCH(A134,'RC'!BI$48:BI$179,0))))","v":0},{"$f":"IF(B134=\"\",0,IF(B134=0,0,INDEX('RC'!BS$48:BS$179,MATCH(A134,'RC'!BI$48:BI$179,0))))","v":0},0,0,0,0,{"$f":"E134-J134","v":0},{"$f":"SUM(L134:O134)","v":0},{"$f":"IF(ISERROR(INDEX('RC'!DG$48:DG$179,MATCH(A134,'RC'!BI$48:BI$179,0))),0,(INDEX('RC'!DG$48:DG$179,MATCH(A134,'RC'!BI$48:BI$179,0))))","v":0},{"$f":"IF(ISERROR(INDEX('RC'!DH$48:DH$179,MATCH(A134,'RC'!BI$48:BI$179,0))),0,(INDEX('RC'!DH$48:DH$179,MATCH(A134,'RC'!BI$48:BI$179,0))))","v":0},0,{"$f":"IF(Entry!B$28=\"Y\",0,IF(ISERROR(INDEX('RC'!CV$48:CV$179,MATCH(A134,'RC'!BI$48:BI$179,0))),0,(INDEX('RC'!CV$48:CV$179,MATCH(A134,'RC'!BI$48:BI$179,0)))))","v":0},{"$f":"IF(Entry!B$28=\"Y\",0,IF(ISERROR(INDEX('RC'!CW$48:CW$179,MATCH(A134,'RC'!BI$48:BI$179,0))),0,(INDEX('RC'!CW$48:CW$179,MATCH(A134,'RC'!BI$48:BI$179,0)))))","v":0},0,{"$f":"IF(ISERROR(INDEX('RC'!CY$48:CY$179,MATCH(A134,'RC'!BI$48:BI$179,0))),0,(INDEX('RC'!CY$48:CY$179,MATCH(A134,'RC'!BI$48:BI$179,0))))","v":0},{"$f":"IF(ISERROR(INDEX('RC'!CZ$48:CZ$179,MATCH(A134,'RC'!BI$48:BI$179,0))),0,(INDEX('RC'!CZ$48:CZ$179,MATCH(A134,'RC'!BI$48:BI$179,0))))","v":0},0,{"$f":"IF(A134>='RC'!BM$29,0,IF(ISERROR(INDEX('RC'!CF$48:CF$179,MATCH(A134,'RC'!BI$48:BI$179,0))),0,(INDEX('RC'!CF$48:CF$179,MATCH(A134,'RC'!BI$48:BI$179,0)))))","v":0},0,0,null,null,null,null,null,null,null,0,0,"",""]
["2025-06-01",{"$f":"IF(ISERROR(INDEX('RC'!BJ$48:BJ$179,MATCH(A135,'RC'!BI$48:BI$179,0))),0,(INDEX('RC'!BJ$48:BJ$179,MATCH(A135,'RC'!BI$48:BI$179,0))))","v":0},{"$f":"IF(B135=\"\",0,IF(B135=0,0,INDEX('RC'!BK$48:BK$179,MATCH(A135,'RC'!BI$48:BI$179,0))))","v":0},{"$f":"IF(B135=\"\",0,IF(B135=0,0,INDEX('RC'!BL$48:BL$179,MATCH(A135,'RC'!BI$48:BI$179,0))))","v":0},{"$f":"IF(B135=\"\",0,IF(B135=0,0,INDEX('RC'!BM$48:BM$179,MATCH(A135,'RC'!BI$48:BI$179,0))))","v":0},0,{"$f":"IF(ISERROR(INDEX('RC'!BP$48:BP$179,MATCH(A135,'RC'!BI$48:BI$179,0))),0,(INDEX('RC'!BP$48:BP$179,MATCH(A135,'RC'!BI$48:BI$179,0))))","v":0},{"$f":"IF(B135=\"\",0,IF(B135=0,0,INDEX('RC'!BQ$48:BQ$179,MATCH(A135,'RC'!BI$48:BI$179,0))))","v":0},{"$f":"IF(B135=\"\",0,IF(B135=0,0,INDEX('RC'!BR$48:BR$179,MATCH(A135,'RC'!BI$48:BI$179,0))))","v":0},{"$f":"IF(B135=\"\",0,IF(B135=0,0,INDEX('RC'!BS$48:BS$179,MATCH(A135,'RC'!BI$48:BI$179,0))))","v":0},0,0,0,0,0,0,{"$f":"IF(ISERROR(INDEX('RC'!DG$48:DG$179,MATCH(A135,'RC'!BI$48:BI$179,0))),0,(INDEX('RC'!DG$48:DG$179,MATCH(A135,'RC'!BI$48:BI$179,0))))","v":0},{"$f":"IF(ISERROR(INDEX('RC'!DH$48:DH$179,MATCH(A135,'RC'!BI$48:BI$179,0))),0,(INDEX('RC'!DH$48:DH$179,MATCH(A135,'RC'!BI$48:BI$179,0))))","v":0},0,{"$f":"IF(Entry!B$28=\"Y\",0,IF(ISERROR(INDEX('RC'!CV$48:CV$179,MATCH(A135,'RC'!BI$48:BI$179,0))),0,(INDEX('RC'!CV$48:CV$179,MATCH(A135,'RC'!BI$48:BI$179,0)))))","v":0},{"$f":"IF(Entry!B$28=\"Y\",0,IF(ISERROR(INDEX('RC'!CW$48:CW$179,MATCH(A135,'RC'!BI$48:BI$179,0))),0,(INDEX('RC'!CW$48:CW$179,MATCH(A135,'RC'!BI$48:BI$179,0)))))","v":0},0,{"$f":"IF(ISERROR(INDEX('RC'!CY$48:CY$179,MATCH(A135,'RC'!BI$48:BI$179,0))),0,(INDEX('RC'!CY$48:CY$179,MATCH(A135,'RC'!BI$48:BI$179,0))))","v":0},{"$f":"IF(ISERROR(INDEX('RC'!CZ$48:CZ$179,MATCH(A135,'RC'!BI$48:BI$179,0))),0,(INDEX('RC'!CZ$48:CZ$179,MATCH(A135,'RC'!BI$48:BI$179,0))))","v":0},0,{"$f":"IF(A135>='RC'!BM$29,0,IF(ISERROR(INDEX('RC'!CF$48:CF$179,MATCH(A135,'RC'!BI$48:BI$179,0))),0,(INDEX('RC'!CF$48:CF$179,MATCH(A135,'RC'!BI$48:BI$179,0)))))","v":0},0,0,null,null,null,null,null,null,null,0,0,"",""]
["2025-07-01",{"$f":"IF(ISERROR(INDEX('RC'!BJ$48:BJ$179,MATCH(A136,'RC'!BI$48:BI$179,0))),0,(INDEX('RC'!BJ$48:BJ$179,MATCH(A136,'RC'!BI$48:BI$179,0))))","v":0},{"$f":"IF(B136=\"\",0,IF(B136=0,0,INDEX('RC'!BK$48:BK$179,MATCH(A136,'RC'!BI$48:BI$179,0))))","v":0},{"$f":"IF(B136=\"\",0,IF(B136=0,0,INDEX('RC'!BL$48:BL$179,MATCH(A136,'RC'!BI$48:BI$179,0))))","v":0},{"$f":"IF(B136=\"\",0,IF(B136=0,0,INDEX('RC'!BM$48:BM$179,MATCH(A136,'RC'!BI$48:BI$179,0))))","v":0},0,{"$f":"IF(ISERROR(INDEX('RC'!BP$48:BP$179,MATCH(A136,'RC'!BI$48:BI$179,0))),0,(INDEX('RC'!BP$48:BP$179,MATCH(A136,'RC'!BI$48:BI$179,0))))","v":0},{"$f":"IF(B136=\"\",0,IF(B136=0,0,INDEX('RC'!BQ$48:BQ$179,MATCH(A136,'RC'!BI$48:BI$179,0))))","v":0},{"$f":"IF(B136=\"\",0,IF(B136=0,0,INDEX('RC'!BR$48:BR$179,MATCH(A136,'RC'!BI$48:BI$179,0))))","v":0},{"$f":"IF(B136=\"\",0,IF(B136=0,0,INDEX('RC'!BS$48:BS$179,MATCH(A136,'RC'!BI$48:BI$179,0))))","v":0},0,0,0,0,0,0,{"$f":"IF(ISERROR(INDEX('RC'!DG$48:DG$179,MATCH(A136,'RC'!BI$48:BI$179,0))),0,(INDEX('RC'!DG$48:DG$179,MATCH(A136,'RC'!BI$48:BI$179,0))))","v":0},{"$f":"IF(ISERROR(INDEX('RC'!DH$48:DH$179,MATCH(A136,'RC'!BI$48:BI$179,0))),0,(INDEX('RC'!DH$48:DH$179,MATCH(A136,'RC'!BI$48:BI$179,0))))","v":0},0,{"$f":"IF(Entry!B$28=\"Y\",0,IF(ISERROR(INDEX('RC'!CV$48:CV$179,MATCH(A136,'RC'!BI$48:BI$179,0))),0,(INDEX('RC'!CV$48:CV$179,MATCH(A136,'RC'!BI$48:BI$179,0)))))","v":0},{"$f":"IF(Entry!B$28=\"Y\",0,IF(ISERROR(INDEX('RC'!CW$48:CW$179,MATCH(A136,'RC'!BI$48:BI$179,0))),0,(INDEX('RC'!CW$48:CW$179,MATCH(A136,'RC'!BI$48:BI$179,0)))))","v":0},0,{"$f":"IF(ISERROR(INDEX('RC'!CY$48:CY$179,MATCH(A136,'RC'!BI$48:BI$179,0))),0,(INDEX('RC'!CY$48:CY$179,MATCH(A136,'RC'!BI$48:BI$179,0))))","v":0},{"$f":"IF(ISERROR(INDEX('RC'!CZ$48:CZ$179,MATCH(A136,'RC'!BI$48:BI$179,0))),0,(INDEX('RC'!CZ$48:CZ$179,MATCH(A136,'RC'!BI$48:BI$179,0))))","v":0},0,{"$f":"IF(A136>='RC'!BM$29,0,IF(ISERROR(INDEX('RC'!CF$48:CF$179,MATCH(A136,'RC'!BI$48:BI$179,0))),0,(INDEX('RC'!CF$48:CF$179,MATCH(A136,'RC'!BI$48:BI$179,0)))))","v":0},0,0,null,null,null,null,null,null,null,0,0,"",""]
["2025-08-01",{"$f":"IF(ISERROR(INDEX('RC'!BJ$48:BJ$179,MATCH(A137,'RC'!BI$48:BI$179,0))),0,(INDEX('RC'!BJ$48:BJ$179,MATCH(A137,'RC'!BI$48:BI$179,0))))","v":0},{"$f":"IF(B137=\"\",0,IF(B137=0,0,INDEX('RC'!BK$48:BK$179,MATCH(A137,'RC'!BI$48:BI$179,0))))","v":0},{"$f":"IF(B137=\"\",0,IF(B137=0,0,INDEX('RC'!BL$48:BL$179,MATCH(A137,'RC'!BI$48:BI$179,0))))","v":0},{"$f":"IF(B137=\"\",0,IF(B137=0,0,INDEX('RC'!BM$48:BM$179,MATCH(A137,'RC'!BI$48:BI$179,0))))","v":0},0,{"$f":"IF(ISERROR(INDEX('RC'!BP$48:BP$179,MATCH(A137,'RC'!BI$48:BI$179,0))),0,(INDEX('RC'!BP$48:BP$179,MATCH(A137,'RC'!BI$48:BI$179,0))))","v":0},{"$f":"IF(B137=\"\",0,IF(B137=0,0,INDEX('RC'!BQ$48:BQ$179,MATCH(A137,'RC'!BI$48:BI$179,0))))","v":0},{"$f":"IF(B137=\"\",0,IF(B137=0,0,INDEX('RC'!BR$48:BR$179,MATCH(A137,'RC'!BI$48:BI$179,0))))","v":0},{"$f":"IF(B137=\"\",0,IF(B137=0,0,INDEX('RC'!BS$48:BS$179,MATCH(A137,'RC'!BI$48:BI$179,0))))","v":0},0,0,0,0,0,0,{"$f":"IF(ISERROR(INDEX('RC'!DG$48:DG$179,MATCH(A137,'RC'!BI$48:BI$179,0))),0,(INDEX('RC'!DG$48:DG$179,MATCH(A137,'RC'!BI$48:BI$179,0))))","v":0},{"$f":"IF(ISERROR(INDEX('RC'!DH$48:DH$179,MATCH(A137,'RC'!BI$48:BI$179,0))),0,(INDEX('RC'!DH$48:DH$179,MATCH(A137,'RC'!BI$48:BI$179,0))))","v":0},0,{"$f":"IF(Entry!B$28=\"Y\",0,IF(ISERROR(INDEX('RC'!CV$48:CV$179,MATCH(A137,'RC'!BI$48:BI$179,0))),0,(INDEX('RC'!CV$48:CV$179,MATCH(A137,'RC'!BI$48:BI$179,0)))))","v":0},{"$f":"IF(Entry!B$28=\"Y\",0,IF(ISERROR(INDEX('RC'!CW$48:CW$179,MATCH(A137,'RC'!BI$48:BI$179,0))),0,(INDEX('RC'!CW$48:CW$179,MATCH(A137,'RC'!BI$48:BI$179,0)))))","v":0},0,{"$f":"IF(ISERROR(INDEX('RC'!CY$48:CY$179,MATCH(A137,'RC'!BI$48:BI$179,0))),0,(INDEX('RC'!CY$48:CY$179,MATCH(A137,'RC'!BI$48:BI$179,0))))","v":0},{"$f":"IF(ISERROR(INDEX('RC'!CZ$48:CZ$179,MATCH(A137,'RC'!BI$48:BI$179,0))),0,(INDEX('RC'!CZ$48:CZ$179,MATCH(A137,'RC'!BI$48:BI$179,0))))","v":0},0,{"$f":"IF(A137>='RC'!BM$29,0,IF(ISERROR(INDEX('RC'!CF$48:CF$179,MATCH(A137,'RC'!BI$48:BI$179,0))),0,(INDEX('RC'!CF$48:CF$179,MATCH(A137,'RC'!BI$48:BI$179,0)))))","v":0},0,0,null,null,null,null,null,null,null,0,0,"",""]
["2025-09-01",{"$f":"IF(ISERROR(INDEX('RC'!BJ$48:BJ$179,MATCH(A138,'RC'!BI$48:BI$179,0))),0,(INDEX('RC'!BJ$48:BJ$179,MATCH(A138,'RC'!BI$48:BI$179,0))))","v":0},{"$f":"IF(B138=\"\",0,IF(B138=0,0,INDEX('RC'!BK$48:BK$179,MATCH(A138,'RC'!BI$48:BI$179,0))))","v":0},{"$f":"IF(B138=\"\",0,IF(B138=0,0,INDEX('RC'!BL$48:BL$179,MATCH(A138,'RC'!BI$48:BI$179,0))))","v":0},{"$f":"IF(B138=\"\",0,IF(B138=0,0,INDEX('RC'!BM$48:BM$179,MATCH(A138,'RC'!BI$48:BI$179,0))))","v":0},{"$f":"SUM(B138:E138)","v":0},{"$f":"IF(ISERROR(INDEX('RC'!BP$48:BP$179,MATCH(A138,'RC'!BI$48:BI$179,0))),0,(INDEX('RC'!BP$48:BP$179,MATCH(A138,'RC'!BI$48:BI$179,0))))","v":0},{"$f":"IF(B138=\"\",0,IF(B138=0,0,INDEX('RC'!BQ$48:BQ$179,MATCH(A138,'RC'!BI$48:BI$179,0))))","v":0},{"$f":"IF(B138=\"\",0,IF(B138=0,0,INDEX('RC'!BR$48:BR$179,MATCH(A138,'RC'!BI$48:BI$179,0))))","v":0},{"$f":"IF(B138=\"\",0,IF(B138=0,0,INDEX('RC'!BS$48:BS$179,MATCH(A138,'RC'!BI$48:BI$179,0))))","v":0},{"$f":"SUM(G138:J138)","v":0},{"$f":"B138-G138","v":0},{"$f":"C138-H138","v":0},{"$f":"D138-I138","v":0},0,0,{"$f":"IF(ISERROR(INDEX('RC'!DG$48:DG$179,MATCH(A138,'RC'!BI$48:BI$179,0))),0,(INDEX('RC'!DG$48:DG$179,MATCH(A138,'RC'!BI$48:BI$179,0))))","v":0},{"$f":"IF(ISERROR(INDEX('RC'!DH$48:DH$179,MATCH(A138,'RC'!BI$48:BI$179,0))),0,(INDEX('RC'!DH$48:DH$179,MATCH(A138,'RC'!BI$48:BI$179,0))))","v":0},0,{"$f":"IF(Entry!B$28=\"Y\",0,IF(ISERROR(INDEX('RC'!CV$48:CV$179,MATCH(A138,'RC'!BI$48:BI$179,0))),0,(INDEX('RC'!CV$48:CV$179,MATCH(A138,'RC'!BI$48:BI$179,0)))))","v":0},{"$f":"IF(Entry!B$28=\"Y\",0,IF(ISERROR(INDEX('RC'!CW$48:CW$179,MATCH(A138,'RC'!BI$48:BI$179,0))),0,(INDEX('RC'!CW$48:CW$179,MATCH(A138,'RC'!BI$48:BI$179,0)))))","v":0},0,{"$f":"IF(ISERROR(INDEX('RC'!CY$48:CY$179,MATCH(A138,'RC'!BI$48:BI$179,0))),0,(INDEX('RC'!CY$48:CY$179,MATCH(A138,'RC'!BI$48:BI$179,0))))","v":0},{"$f":"IF(ISERROR(INDEX('RC'!CZ$48:CZ$179,MATCH(A138,'RC'!BI$48:BI$179,0))),0,(INDEX('RC'!CZ$48:CZ$179,MATCH(A138,'RC'!BI$48:BI$179,0))))","v":0},0,{"$f":"IF(A138>='RC'!BM$29,0,IF(ISERROR(INDEX('RC'!CF$48:CF$179,MATCH(A138,'RC'!BI$48:BI$179,0))),0,(INDEX('RC'!CF$48:CF$179,MATCH(A138,'RC'!BI$48:BI$179,0)))))","v":0},0,0,null,null,null,null,null,null,null,{"$f":"IF(B138<1,0,1)","v":0},{"$f":"AJ138","v":0},{"$f":"IF(AK138=0,\"\",AK138)","v":""},{"$f":"IF(AL138=0,\"\",AL138)","v":""}]
["2025-10-01",{"$f":"IF(ISERROR(INDEX('RC'!BJ$48:BJ$179,MATCH(A139,'RC'!BI$48:BI$179,0))),0,(INDEX('RC'!BJ$48:BJ$179,MATCH(A139,'RC'!BI$48:BI$179,0))))","v":0},{"$f":"IF(B139=\"\",0,IF(B139=0,0,INDEX('RC'!BK$48:BK$179,MATCH(A139,'RC'!BI$48:BI$179,0))))","v":0},{"$f":"IF(B139=\"\",0,IF(B139=0,0,INDEX('RC'!BL$48:BL$179,MATCH(A139,'RC'!BI$48:BI$179,0))))","v":0},{"$f":"IF(B139=\"\",0,IF(B139=0,0,INDEX('RC'!BM$48:BM$179,MATCH(A139,'RC'!BI$48:BI$179,0))))","v":0},0,{"$f":"IF(ISERROR(INDEX('RC'!BP$48:BP$179,MATCH(A139,'RC'!BI$48:BI$179,0))),0,(INDEX('RC'!BP$48:BP$179,MATCH(A139,'RC'!BI$48:BI$179,0))))","v":0},{"$f":"IF(B139=\"\",0,IF(B139=0,0,INDEX('RC'!BQ$48:BQ$179,MATCH(A139,'RC'!BI$48:BI$179,0))))","v":0},{"$f":"IF(B139=\"\",0,IF(B139=0,0,INDEX('RC'!BR$48:BR$179,MATCH(A139,'RC'!BI$48:BI$179,0))))","v":0},{"$f":"IF(B139=\"\",0,IF(B139=0,0,INDEX('RC'!BS$48:BS$179,MATCH(A139,'RC'!BI$48:BI$179,0))))","v":0},0,0,0,0,0,0,{"$f":"IF(ISERROR(INDEX('RC'!DG$48:DG$179,MATCH(A139,'RC'!BI$48:BI$179,0))),0,(INDEX('RC'!DG$48:DG$179,MATCH(A139,'RC'!BI$48:BI$179,0))))","v":0},{"$f":"IF(ISERROR(INDEX('RC'!DH$48:DH$179,MATCH(A139,'RC'!BI$48:BI$179,0))),0,(INDEX('RC'!DH$48:DH$179,MATCH(A139,'RC'!BI$48:BI$179,0))))","v":0},0,{"$f":"IF(Entry!B$28=\"Y\",0,IF(ISERROR(INDEX('RC'!CV$48:CV$179,MATCH(A139,'RC'!BI$48:BI$179,0))),0,(INDEX('RC'!CV$48:CV$179,MATCH(A139,'RC'!BI$48:BI$179,0)))))","v":0},{"$f":"IF(Entry!B$28=\"Y\",0,IF(ISERROR(INDEX('RC'!CW$48:CW$179,MATCH(A139,'RC'!BI$48:BI$179,0))),0,(INDEX('RC'!CW$48:CW$179,MATCH(A139,'RC'!BI$48:BI$179,0)))))","v":0},0,{"$f":"IF(ISERROR(INDEX('RC'!CY$48:CY$179,MATCH(A139,'RC'!BI$48:BI$179,0))),0,(INDEX('RC'!CY$48:CY$179,MATCH(A139,'RC'!BI$48:BI$179,0))))","v":0},{"$f":"IF(ISERROR(INDEX('RC'!CZ$48:CZ$179,MATCH(A139,'RC'!BI$48:BI$179,0))),0,(INDEX('RC'!CZ$48:CZ$179,MATCH(A139,'RC'!BI$48:BI$179,0))))","v":0},0,{"$f":"IF(A139>='RC'!BM$29,0,IF(ISERROR(INDEX('RC'!CF$48:CF$179,MATCH(A139,'RC'!BI$48:BI$179,0))),0,(INDEX('RC'!CF$48:CF$179,MATCH(A139,'RC'!BI$48:BI$179,0)))))","v":0},0,0,null,null,null,null,null,null,null,0,0,"",""]
["2025-11-01",{"$f":"IF(ISERROR(INDEX('RC'!BJ$48:BJ$179,MATCH(A140,'RC'!BI$48:BI$179,0))),0,(INDEX('RC'!BJ$48:BJ$179,MATCH(A140,'RC'!BI$48:BI$179,0))))","v":0},{"$f":"IF(B140=\"\",0,IF(B140=0,0,INDEX('RC'!BK$48:BK$179,MATCH(A140,'RC'!BI$48:BI$179,0))))","v":0},{"$f":"IF(B140=\"\",0,IF(B140=0,0,INDEX('RC'!BL$48:BL$179,MATCH(A140,'RC'!BI$48:BI$179,0))))","v":0},{"$f":"IF(B140=\"\",0,IF(B140=0,0,INDEX('RC'!BM$48:BM$179,MATCH(A140,'RC'!BI$48:BI$179,0))))","v":0},0,{"$f":"IF(ISERROR(INDEX('RC'!BP$48:BP$179,MATCH(A140,'RC'!BI$48:BI$179,0))),0,(INDEX('RC'!BP$48:BP$179,MATCH(A140,'RC'!BI$48:BI$179,0))))","v":0},{"$f":"IF(B140=\"\",0,IF(B140=0,0,INDEX('RC'!BQ$48:BQ$179,MATCH(A140,'RC'!BI$48:BI$179,0))))","v":0},{"$f":"IF(B140=\"\",0,IF(B140=0,0,INDEX('RC'!BR$48:BR$179,MATCH(A140,'RC'!BI$48:BI$179,0))))","v":0},{"$f":"IF(B140=\"\",0,IF(B140=0,0,INDEX('RC'!BS$48:BS$179,MATCH(A140,'RC'!BI$48:BI$179,0))))","v":0},0,0,0,0,0,0,{"$f":"IF(ISERROR(INDEX('RC'!DG$48:DG$179,MATCH(A140,'RC'!BI$48:BI$179,0))),0,(INDEX('RC'!DG$48:DG$179,MATCH(A140,'RC'!BI$48:BI$179,0))))","v":0},{"$f":"IF(ISERROR(INDEX('RC'!DH$48:DH$179,MATCH(A140,'RC'!BI$48:BI$179,0))),0,(INDEX('RC'!DH$48:DH$179,MATCH(A140,'RC'!BI$48:BI$179,0))))","v":0},0,{"$f":"IF(Entry!B$28=\"Y\",0,IF(ISERROR(INDEX('RC'!CV$48:CV$179,MATCH(A140,'RC'!BI$48:BI$179,0))),0,(INDEX('RC'!CV$48:CV$179,MATCH(A140,'RC'!BI$48:BI$179,0)))))","v":0},{"$f":"IF(Entry!B$28=\"Y\",0,IF(ISERROR(INDEX('RC'!CW$48:CW$179,MATCH(A140,'RC'!BI$48:BI$179,0))),0,(INDEX('RC'!CW$48:CW$179,MATCH(A140,'RC'!BI$48:BI$179,0)))))","v":0},0,{"$f":"IF(ISERROR(INDEX('RC'!CY$48:CY$179,MATCH(A140,'RC'!BI$48:BI$179,0))),0,(INDEX('RC'!CY$48:CY$179,MATCH(A140,'RC'!BI$48:BI$179,0))))","v":0},{"$f":"IF(ISERROR(INDEX('RC'!CZ$48:CZ$179,MATCH(A140,'RC'!BI$48:BI$179,0))),0,(INDEX('RC'!CZ$48:CZ$179,MATCH(A140,'RC'!BI$48:BI$179,0))))","v":0},0,{"$f":"IF(A140>='RC'!BM$29,0,IF(ISERROR(INDEX('RC'!CF$48:CF$179,MATCH(A140,'RC'!BI$48:BI$179,0))),0,(INDEX('RC'!CF$48:CF$179,MATCH(A140,'RC'!BI$48:BI$179,0)))))","v":0},0,0,null,null,null,null,null,null,null,0,0,"",""]
["2025-12-01",{"$f":"IF(ISERROR(INDEX('RC'!BJ$48:BJ$179,MATCH(A141,'RC'!BI$48:BI$179,0))),0,(INDEX('RC'!BJ$48:BJ$179,MATCH(A141,'RC'!BI$48:BI$179,0))))","v":0},{"$f":"IF(B141=\"\",0,IF(B141=0,0,INDEX('RC'!BK$48:BK$179,MATCH(A141,'RC'!BI$48:BI$179,0))))","v":0},{"$f":"IF(B141=\"\",0,IF(B141=0,0,INDEX('RC'!BL$48:BL$179,MATCH(A141,'RC'!BI$48:BI$179,0))))","v":0},{"$f":"IF(B141=\"\",0,IF(B141=0,0,INDEX('RC'!BM$48:BM$179,MATCH(A141,'RC'!BI$48:BI$179,0))))","v":0},0,{"$f":"IF(ISERROR(INDEX('RC'!BP$48:BP$179,MATCH(A141,'RC'!BI$48:BI$179,0))),0,(INDEX('RC'!BP$48:BP$179,MATCH(A141,'RC'!BI$48:BI$179,0))))","v":0},{"$f":"IF(B141=\"\",0,IF(B141=0,0,INDEX('RC'!BQ$48:BQ$179,MATCH(A141,'RC'!BI$48:BI$179,0))))","v":0},{"$f":"IF(B141=\"\",0,IF(B141=0,0,INDEX('RC'!BR$48:BR$179,MATCH(A141,'RC'!BI$48:BI$179,0))))","v":0},{"$f":"IF(B141=\"\",0,IF(B141=0,0,INDEX('RC'!BS$48:BS$179,MATCH(A141,'RC'!BI$48:BI$179,0))))","v":0},0,0,0,0,0,0,{"$f":"IF(ISERROR(INDEX('RC'!DG$48:DG$179,MATCH(A141,'RC'!BI$48:BI$179,0))),0,(INDEX('RC'!DG$48:DG$179,MATCH(A141,'RC'!BI$48:BI$179,0))))","v":0},{"$f":"IF(ISERROR(INDEX('RC'!DH$48:DH$179,MATCH(A141,'RC'!BI$48:BI$179,0))),0,(INDEX('RC'!DH$48:DH$179,MATCH(A141,'RC'!BI$48:BI$179,0))))","v":0},{"$f":"Q141-R141","v":0},{"$f":"IF(Entry!B$28=\"Y\",0,IF(ISERROR(INDEX('RC'!CV$48:CV$179,MATCH(A141,'RC'!BI$48:BI$179,0))),0,(INDEX('RC'!CV$48:CV$179,MATCH(A141,'RC'!BI$48:BI$179,0)))))","v":0},{"$f":"IF(Entry!B$28=\"Y\",0,IF(ISERROR(INDEX('RC'!CW$48:CW$179,MATCH(A141,'RC'!BI$48:BI$179,0))),0,(INDEX('RC'!CW$48:CW$179,MATCH(A141,'RC'!BI$48:BI$179,0)))))","v":0},{"$f":"T141-U141","v":0},{"$f":"IF(ISERROR(INDEX('RC'!CY$48:CY$179,MATCH(A141,'RC'!BI$48:BI$179,0))),0,(INDEX('RC'!CY$48:CY$179,MATCH(A141,'RC'!BI$48:BI$179,0))))","v":0},{"$f":"IF(ISERROR(INDEX('RC'!CZ$48:CZ$179,MATCH(A141,'RC'!BI$48:BI$179,0))),0,(INDEX('RC'!CZ$48:CZ$179,MATCH(A141,'RC'!BI$48:BI$179,0))))","v":0},{"$f":"W141-X141","v":0},{"$f":"IF(A141>='RC'!BM$29,0,IF(ISERROR(INDEX('RC'!CF$48:CF$179,MATCH(A141,'RC'!BI$48:BI$179,0))),0,(INDEX('RC'!CF$48:CF$179,MATCH(A141,'RC'!BI$48:BI$179,0)))))","v":0},0,0,null,null,null,null,null,null,null,0,0,"",""]
["2026-01-01",{"$f":"IF(ISERROR(INDEX('RC'!BJ$48:BJ$179,MATCH(A142,'RC'!BI$48:BI$179,0))),0,(INDEX('RC'!BJ$48:BJ$179,MATCH(A142,'RC'!BI$48:BI$179,0))))","v":0},{"$f":"IF(B142=\"\",0,IF(B142=0,0,INDEX('RC'!BK$48:BK$179,MATCH(A142,'RC'!BI$48:BI$179,0))))","v":0},{"$f":"IF(B142=\"\",0,IF(B142=0,0,INDEX('RC'!BL$48:BL$179,MATCH(A142,'RC'!BI$48:BI$179,0))))","v":0},{"$f":"IF(B142=\"\",0,IF(B142=0,0,INDEX('RC'!BM$48:BM$179,MATCH(A142,'RC'!BI$48:BI$179,0))))","v":0},0,{"$f":"IF(ISERROR(INDEX('RC'!BP$48:BP$179,MATCH(A142,'RC'!BI$48:BI$179,0))),0,(INDEX('RC'!BP$48:BP$179,MATCH(A142,'RC'!BI$48:BI$179,0))))","v":0},{"$f":"IF(B142=\"\",0,IF(B142=0,0,INDEX('RC'!BQ$48:BQ$179,MATCH(A142,'RC'!BI$48:BI$179,0))))","v":0},{"$f":"IF(B142=\"\",0,IF(B142=0,0,INDEX('RC'!BR$48:BR$179,MATCH(A142,'RC'!BI$48:BI$179,0))))","v":0},{"$f":"IF(B142=\"\",0,IF(B142=0,0,INDEX('RC'!BS$48:BS$179,MATCH(A142,'RC'!BI$48:BI$179,0))))","v":0},0,0,0,0,0,0,{"$f":"IF(ISERROR(INDEX('RC'!DG$48:DG$179,MATCH(A142,'RC'!BI$48:BI$179,0))),0,(INDEX('RC'!DG$48:DG$179,MATCH(A142,'RC'!BI$48:BI$179,0))))","v":0},{"$f":"IF(ISERROR(INDEX('RC'!DH$48:DH$179,MATCH(A142,'RC'!BI$48:BI$179,0))),0,(INDEX('RC'!DH$48:DH$179,MATCH(A142,'RC'!BI$48:BI$179,0))))","v":0},0,{"$f":"IF(Entry!B$28=\"Y\",0,IF(ISERROR(INDEX('RC'!CV$48:CV$179,MATCH(A142,'RC'!BI$48:BI$179,0))),0,(INDEX('RC'!CV$48:CV$179,MATCH(A142,'RC'!BI$48:BI$179,0)))))","v":0},{"$f":"IF(Entry!B$28=\"Y\",0,IF(ISERROR(INDEX('RC'!CW$48:CW$179,MATCH(A142,'RC'!BI$48:BI$179,0))),0,(INDEX('RC'!CW$48:CW$179,MATCH(A142,'RC'!BI$48:BI$179,0)))))","v":0},0,{"$f":"IF(ISERROR(INDEX('RC'!CY$48:CY$179,MATCH(A142,'RC'!BI$48:BI$179,0))),0,(INDEX('RC'!CY$48:CY$179,MATCH(A142,'RC'!BI$48:BI$179,0))))","v":0},{"$f":"IF(ISERROR(INDEX('RC'!CZ$48:CZ$179,MATCH(A142,'RC'!BI$48:BI$179,0))),0,(INDEX('RC'!CZ$48:CZ$179,MATCH(A142,'RC'!BI$48:BI$179,0))))","v":0},0,{"$f":"IF(A142>='RC'!BM$29,0,IF(ISERROR(INDEX('RC'!CF$48:CF$179,MATCH(A142,'RC'!BI$48:BI$179,0))),0,(INDEX('RC'!CF$48:CF$179,MATCH(A142,'RC'!BI$48:BI$179,0)))))","v":0},0,0,null,null,null,null,null,null,null,0,0,"",""]
["2026-02-01",{"$f":"IF(ISERROR(INDEX('RC'!BJ$48:BJ$179,MATCH(A143,'RC'!BI$48:BI$179,0))),0,(INDEX('RC'!BJ$48:BJ$179,MATCH(A143,'RC'!BI$48:BI$179,0))))","v":0},{"$f":"IF(B143=\"\",0,IF(B143=0,0,INDEX('RC'!BK$48:BK$179,MATCH(A143,'RC'!BI$48:BI$179,0))))","v":0},{"$f":"IF(B143=\"\",0,IF(B143=0,0,INDEX('RC'!BL$48:BL$179,MATCH(A143,'RC'!BI$48:BI$179,0))))","v":0},{"$f":"IF(B143=\"\",0,IF(B143=0,0,INDEX('RC'!BM$48:BM$179,MATCH(A143,'RC'!BI$48:BI$179,0))))","v":0},0,{"$f":"IF(ISERROR(INDEX('RC'!BP$48:BP$179,MATCH(A143,'RC'!BI$48:BI$179,0))),0,(INDEX('RC'!BP$48:BP$179,MATCH(A143,'RC'!BI$48:BI$179,0))))","v":0},{"$f":"IF(B143=\"\",0,IF(B143=0,0,INDEX('RC'!BQ$48:BQ$179,MATCH(A143,'RC'!BI$48:BI$179,0))))","v":0},{"$f":"IF(B143=\"\",0,IF(B143=0,0,INDEX('RC'!BR$48:BR$179,MATCH(A143,'RC'!BI$48:BI$179,0))))","v":0},{"$f":"IF(B143=\"\",0,IF(B143=0,0,INDEX('RC'!BS$48:BS$179,MATCH(A143,'RC'!BI$48:BI$179,0))))","v":0},0,0,0,0,0,0,{"$f":"IF(ISERROR(INDEX('RC'!DG$48:DG$179,MATCH(A143,'RC'!BI$48:BI$179,0))),0,(INDEX('RC'!DG$48:DG$179,MATCH(A143,'RC'!BI$48:BI$179,0))))","v":0},{"$f":"IF(ISERROR(INDEX('RC'!DH$48:DH$179,MATCH(A143,'RC'!BI$48:BI$179,0))),0,(INDEX('RC'!DH$48:DH$179,MATCH(A143,'RC'!BI$48:BI$179,0))))","v":0},0,{"$f":"IF(Entry!B$28=\"Y\",0,IF(ISERROR(INDEX('RC'!CV$48:CV$179,MATCH(A143,'RC'!BI$48:BI$179,0))),0,(INDEX('RC'!CV$48:CV$179,MATCH(A143,'RC'!BI$48:BI$179,0)))))","v":0},{"$f":"IF(Entry!B$28=\"Y\",0,IF(ISERROR(INDEX('RC'!CW$48:CW$179,MATCH(A143,'RC'!BI$48:BI$179,0))),0,(INDEX('RC'!CW$48:CW$179,MATCH(A143,'RC'!BI$48:BI$179,0)))))","v":0},0,{"$f":"IF(ISERROR(INDEX('RC'!CY$48:CY$179,MATCH(A143,'RC'!BI$48:BI$179,0))),0,(INDEX('RC'!CY$48:CY$179,MATCH(A143,'RC'!BI$48:BI$179,0))))","v":0},{"$f":"IF(ISERROR(INDEX('RC'!CZ$48:CZ$179,MATCH(A143,'RC'!BI$48:BI$179,0))),0,(INDEX('RC'!CZ$48:CZ$179,MATCH(A143,'RC'!BI$48:BI$179,0))))","v":0},0,{"$f":"IF(A143>='RC'!BM$29,0,IF(ISERROR(INDEX('RC'!CF$48:CF$179,MATCH(A143,'RC'!BI$48:BI$179,0))),0,(INDEX('RC'!CF$48:CF$179,MATCH(A143,'RC'!BI$48:BI$179,0)))))","v":0},0,0,null,null,null,null,null,null,null,0,0,"",""]
["2026-03-01",{"$f":"IF(ISERROR(INDEX('RC'!BJ$48:BJ$179,MATCH(A144,'RC'!BI$48:BI$179,0))),0,(INDEX('RC'!BJ$48:BJ$179,MATCH(A144,'RC'!BI$48:BI$179,0))))","v":0},{"$f":"IF(B144=\"\",0,IF(B144=0,0,INDEX('RC'!BK$48:BK$179,MATCH(A144,'RC'!BI$48:BI$179,0))))","v":0},{"$f":"IF(B144=\"\",0,IF(B144=0,0,INDEX('RC'!BL$48:BL$179,MATCH(A144,'RC'!BI$48:BI$179,0))))","v":0},{"$f":"IF(B144=\"\",0,IF(B144=0,0,INDEX('RC'!BM$48:BM$179,MATCH(A144,'RC'!BI$48:BI$179,0))))","v":0},0,{"$f":"IF(ISERROR(INDEX('RC'!BP$48:BP$179,MATCH(A144,'RC'!BI$48:BI$179,0))),0,(INDEX('RC'!BP$48:BP$179,MATCH(A144,'RC'!BI$48:BI$179,0))))","v":0},{"$f":"IF(B144=\"\",0,IF(B144=0,0,INDEX('RC'!BQ$48:BQ$179,MATCH(A144,'RC'!BI$48:BI$179,0))))","v":0},{"$f":"IF(B144=\"\",0,IF(B144=0,0,INDEX('RC'!BR$48:BR$179,MATCH(A144,'RC'!BI$48:BI$179,0))))","v":0},{"$f":"IF(B144=\"\",0,IF(B144=0,0,INDEX('RC'!BS$48:BS$179,MATCH(A144,'RC'!BI$48:BI$179,0))))","v":0},0,0,0,0,0,0,{"$f":"IF(ISERROR(INDEX('RC'!DG$48:DG$179,MATCH(A144,'RC'!BI$48:BI$179,0))),0,(INDEX('RC'!DG$48:DG$179,MATCH(A144,'RC'!BI$48:BI$179,0))))","v":0},{"$f":"IF(ISERROR(INDEX('RC'!DH$48:DH$179,MATCH(A144,'RC'!BI$48:BI$179,0))),0,(INDEX('RC'!DH$48:DH$179,MATCH(A144,'RC'!BI$48:BI$179,0))))","v":0},0,{"$f":"IF(Entry!B$28=\"Y\",0,IF(ISERROR(INDEX('RC'!CV$48:CV$179,MATCH(A144,'RC'!BI$48:BI$179,0))),0,(INDEX('RC'!CV$48:CV$179,MATCH(A144,'RC'!BI$48:BI$179,0)))))","v":0},{"$f":"IF(Entry!B$28=\"Y\",0,IF(ISERROR(INDEX('RC'!CW$48:CW$179,MATCH(A144,'RC'!BI$48:BI$179,0))),0,(INDEX('RC'!CW$48:CW$179,MATCH(A144,'RC'!BI$48:BI$179,0)))))","v":0},0,{"$f":"IF(ISERROR(INDEX('RC'!CY$48:CY$179,MATCH(A144,'RC'!BI$48:BI$179,0))),0,(INDEX('RC'!CY$48:CY$179,MATCH(A144,'RC'!BI$48:BI$179,0))))","v":0},{"$f":"IF(ISERROR(INDEX('RC'!CZ$48:CZ$179,MATCH(A144,'RC'!BI$48:BI$179,0))),0,(INDEX('RC'!CZ$48:CZ$179,MATCH(A144,'RC'!BI$48:BI$179,0))))","v":0},0,{"$f":"IF(A144>='RC'!BM$29,0,IF(ISERROR(INDEX('RC'!CF$48:CF$179,MATCH(A144,'RC'!BI$48:BI$179,0))),0,(INDEX('RC'!CF$48:CF$179,MATCH(A144,'RC'!BI$48:BI$179,0)))))","v":0},0,0,null,null,null,null,null,null,null,0,0,"",""]
["2026-04-01",{"$f":"IF(ISERROR(INDEX('RC'!BJ$48:BJ$179,MATCH(A145,'RC'!BI$48:BI$179,0))),0,(INDEX('RC'!BJ$48:BJ$179,MATCH(A145,'RC'!BI$48:BI$179,0))))","v":0},{"$f":"IF(B145=\"\",0,IF(B145=0,0,INDEX('RC'!BK$48:BK$179,MATCH(A145,'RC'!BI$48:BI$179,0))))","v":0},{"$f":"IF(B145=\"\",0,IF(B145=0,0,INDEX('RC'!BL$48:BL$179,MATCH(A145,'RC'!BI$48:BI$179,0))))","v":0},{"$f":"IF(B145=\"\",0,IF(B145=0,0,INDEX('RC'!BM$48:BM$179,MATCH(A145,'RC'!BI$48:BI$179,0))))","v":0},0,{"$f":"IF(ISERROR(INDEX('RC'!BP$48:BP$179,MATCH(A145,'RC'!BI$48:BI$179,0))),0,(INDEX('RC'!BP$48:BP$179,MATCH(A145,'RC'!BI$48:BI$179,0))))","v":0},{"$f":"IF(B145=\"\",0,IF(B145=0,0,INDEX('RC'!BQ$48:BQ$179,MATCH(A145,'RC'!BI$48:BI$179,0))))","v":0},{"$f":"IF(B145=\"\",0,IF(B145=0,0,INDEX('RC'!BR$48:BR$179,MATCH(A145,'RC'!BI$48:BI$179,0))))","v":0},{"$f":"IF(B145=\"\",0,IF(B145=0,0,INDEX('RC'!BS$48:BS$179,MATCH(A145,'RC'!BI$48:BI$179,0))))","v":0},0,0,0,0,0,0,{"$f":"IF(ISERROR(INDEX('RC'!DG$48:DG$179,MATCH(A145,'RC'!BI$48:BI$179,0))),0,(INDEX('RC'!DG$48:DG$179,MATCH(A145,'RC'!BI$48:BI$179,0))))","v":0},{"$f":"IF(ISERROR(INDEX('RC'!DH$48:DH$179,MATCH(A145,'RC'!BI$48:BI$179,0))),0,(INDEX('RC'!DH$48:DH$179,MATCH(A145,'RC'!BI$48:BI$179,0))))","v":0},0,{"$f":"IF(Entry!B$28=\"Y\",0,IF(ISERROR(INDEX('RC'!CV$48:CV$179,MATCH(A145,'RC'!BI$48:BI$179,0))),0,(INDEX('RC'!CV$48:CV$179,MATCH(A145,'RC'!BI$48:BI$179,0)))))","v":0},{"$f":"IF(Entry!B$28=\"Y\",0,IF(ISERROR(INDEX('RC'!CW$48:CW$179,MATCH(A145,'RC'!BI$48:BI$179,0))),0,(INDEX('RC'!CW$48:CW$179,MATCH(A145,'RC'!BI$48:BI$179,0)))))","v":0},0,{"$f":"IF(ISERROR(INDEX('RC'!CY$48:CY$179,MATCH(A145,'RC'!BI$48:BI$179,0))),0,(INDEX('RC'!CY$48:CY$179,MATCH(A145,'RC'!BI$48:BI$179,0))))","v":0},{"$f":"IF(ISERROR(INDEX('RC'!CZ$48:CZ$179,MATCH(A145,'RC'!BI$48:BI$179,0))),0,(INDEX('RC'!CZ$48:CZ$179,MATCH(A145,'RC'!BI$48:BI$179,0))))","v":0},0,{"$f":"IF(A145>='RC'!BM$29,0,IF(ISERROR(INDEX('RC'!CF$48:CF$179,MATCH(A145,'RC'!BI$48:BI$179,0))),0,(INDEX('RC'!CF$48:CF$179,MATCH(A145,'RC'!BI$48:BI$179,0)))))","v":0},0,0,null,null,null,null,null,null,null,0,0,"",""]
["2026-05-01",{"$f":"IF(ISERROR(INDEX('RC'!BJ$48:BJ$179,MATCH(A146,'RC'!BI$48:BI$179,0))),0,(INDEX('RC'!BJ$48:BJ$179,MATCH(A146,'RC'!BI$48:BI$179,0))))","v":0},{"$f":"IF(B146=\"\",0,IF(B146=0,0,INDEX('RC'!BK$48:BK$179,MATCH(A146,'RC'!BI$48:BI$179,0))))","v":0},{"$f":"IF(B146=\"\",0,IF(B146=0,0,INDEX('RC'!BL$48:BL$179,MATCH(A146,'RC'!BI$48:BI$179,0))))","v":0},{"$f":"IF(B146=\"\",0,IF(B146=0,0,INDEX('RC'!BM$48:BM$179,MATCH(A146,'RC'!BI$48:BI$179,0))))","v":0},0,{"$f":"IF(ISERROR(INDEX('RC'!BP$48:BP$179,MATCH(A146,'RC'!BI$48:BI$179,0))),0,(INDEX('RC'!BP$48:BP$179,MATCH(A146,'RC'!BI$48:BI$179,0))))","v":0},{"$f":"IF(B146=\"\",0,IF(B146=0,0,INDEX('RC'!BQ$48:BQ$179,MATCH(A146,'RC'!BI$48:BI$179,0))))","v":0},{"$f":"IF(B146=\"\",0,IF(B146=0,0,INDEX('RC'!BR$48:BR$179,MATCH(A146,'RC'!BI$48:BI$179,0))))","v":0},{"$f":"IF(B146=\"\",0,IF(B146=0,0,INDEX('RC'!BS$48:BS$179,MATCH(A146,'RC'!BI$48:BI$179,0))))","v":0},0,0,0,0,0,0,{"$f":"IF(ISERROR(INDEX('RC'!DG$48:DG$179,MATCH(A146,'RC'!BI$48:BI$179,0))),0,(INDEX('RC'!DG$48:DG$179,MATCH(A146,'RC'!BI$48:BI$179,0))))","v":0},{"$f":"IF(ISERROR(INDEX('RC'!DH$48:DH$179,MATCH(A146,'RC'!BI$48:BI$179,0))),0,(INDEX('RC'!DH$48:DH$179,MATCH(A146,'RC'!BI$48:BI$179,0))))","v":0},0,{"$f":"IF(Entry!B$28=\"Y\",0,IF(ISERROR(INDEX('RC'!CV$48:CV$179,MATCH(A146,'RC'!BI$48:BI$179,0))),0,(INDEX('RC'!CV$48:CV$179,MATCH(A146,'RC'!BI$48:BI$179,0)))))","v":0},{"$f":"IF(Entry!B$28=\"Y\",0,IF(ISERROR(INDEX('RC'!CW$48:CW$179,MATCH(A146,'RC'!BI$48:BI$179,0))),0,(INDEX('RC'!CW$48:CW$179,MATCH(A146,'RC'!BI$48:BI$179,0)))))","v":0},0,{"$f":"IF(ISERROR(INDEX('RC'!CY$48:CY$179,MATCH(A146,'RC'!BI$48:BI$179,0))),0,(INDEX('RC'!CY$48:CY$179,MATCH(A146,'RC'!BI$48:BI$179,0))))","v":0},{"$f":"IF(ISERROR(INDEX('RC'!CZ$48:CZ$179,MATCH(A146,'RC'!BI$48:BI$179,0))),0,(INDEX('RC'!CZ$48:CZ$179,MATCH(A146,'RC'!BI$48:BI$179,0))))","v":0},0,{"$f":"IF(A146>='RC'!BM$29,0,IF(ISERROR(INDEX('RC'!CF$48:CF$179,MATCH(A146,'RC'!BI$48:BI$179,0))),0,(INDEX('RC'!CF$48:CF$179,MATCH(A146,'RC'!BI$48:BI$179,0)))))","v":0},0,0,null,null,null,null,null,null,null,0,0,"",""]
["2026-06-01",{"$f":"IF(ISERROR(INDEX('RC'!BJ$48:BJ$179,MATCH(A147,'RC'!BI$48:BI$179,0))),0,(INDEX('RC'!BJ$48:BJ$179,MATCH(A147,'RC'!BI$48:BI$179,0))))","v":0},{"$f":"IF(B147=\"\",0,IF(B147=0,0,INDEX('RC'!BK$48:BK$179,MATCH(A147,'RC'!BI$48:BI$179,0))))","v":0},{"$f":"IF(B147=\"\",0,IF(B147=0,0,INDEX('RC'!BL$48:BL$179,MATCH(A147,'RC'!BI$48:BI$179,0))))","v":0},{"$f":"IF(B147=\"\",0,IF(B147=0,0,INDEX('RC'!BM$48:BM$179,MATCH(A147,'RC'!BI$48:BI$179,0))))","v":0},0,{"$f":"IF(ISERROR(INDEX('RC'!BP$48:BP$179,MATCH(A147,'RC'!BI$48:BI$179,0))),0,(INDEX('RC'!BP$48:BP$179,MATCH(A147,'RC'!BI$48:BI$179,0))))","v":0},{"$f":"IF(B147=\"\",0,IF(B147=0,0,INDEX('RC'!BQ$48:BQ$179,MATCH(A147,'RC'!BI$48:BI$179,0))))","v":0},{"$f":"IF(B147=\"\",0,IF(B147=0,0,INDEX('RC'!BR$48:BR$179,MATCH(A147,'RC'!BI$48:BI$179,0))))","v":0},{"$f":"IF(B147=\"\",0,IF(B147=0,0,INDEX('RC'!BS$48:BS$179,MATCH(A147,'RC'!BI$48:BI$179,0))))","v":0},0,0,0,0,0,0,{"$f":"IF(ISERROR(INDEX('RC'!DG$48:DG$179,MATCH(A147,'RC'!BI$48:BI$179,0))),0,(INDEX('RC'!DG$48:DG$179,MATCH(A147,'RC'!BI$48:BI$179,0))))","v":0},{"$f":"IF(ISERROR(INDEX('RC'!DH$48:DH$179,MATCH(A147,'RC'!BI$48:BI$179,0))),0,(INDEX('RC'!DH$48:DH$179,MATCH(A147,'RC'!BI$48:BI$179,0))))","v":0},0,{"$f":"IF(Entry!B$28=\"Y\",0,IF(ISERROR(INDEX('RC'!CV$48:CV$179,MATCH(A147,'RC'!BI$48:BI$179,0))),0,(INDEX('RC'!CV$48:CV$179,MATCH(A147,'RC'!BI$48:BI$179,0)))))","v":0},{"$f":"IF(Entry!B$28=\"Y\",0,IF(ISERROR(INDEX('RC'!CW$48:CW$179,MATCH(A147,'RC'!BI$48:BI$179,0))),0,(INDEX('RC'!CW$48:CW$179,MATCH(A147,'RC'!BI$48:BI$179,0)))))","v":0},0,{"$f":"IF(ISERROR(INDEX('RC'!CY$48:CY$179,MATCH(A147,'RC'!BI$48:BI$179,0))),0,(INDEX('RC'!CY$48:CY$179,MATCH(A147,'RC'!BI$48:BI$179,0))))","v":0},{"$f":"IF(ISERROR(INDEX('RC'!CZ$48:CZ$179,MATCH(A147,'RC'!BI$48:BI$179,0))),0,(INDEX('RC'!CZ$48:CZ$179,MATCH(A147,'RC'!BI$48:BI$179,0))))","v":0},0,{"$f":"IF(A147>='RC'!BM$29,0,IF(ISERROR(INDEX('RC'!CF$48:CF$179,MATCH(A147,'RC'!BI$48:BI$179,0))),0,(INDEX('RC'!CF$48:CF$179,MATCH(A147,'RC'!BI$48:BI$179,0)))))","v":0},0,0,null,null,null,null,null,null,null,0,0,"",""]
["2026-07-01",{"$f":"IF(ISERROR(INDEX('RC'!BJ$48:BJ$179,MATCH(A148,'RC'!BI$48:BI$179,0))),0,(INDEX('RC'!BJ$48:BJ$179,MATCH(A148,'RC'!BI$48:BI$179,0))))","v":0},{"$f":"IF(B148=\"\",0,IF(B148=0,0,INDEX('RC'!BK$48:BK$179,MATCH(A148,'RC'!BI$48:BI$179,0))))","v":0},{"$f":"IF(B148=\"\",0,IF(B148=0,0,INDEX('RC'!BL$48:BL$179,MATCH(A148,'RC'!BI$48:BI$179,0))))","v":0},{"$f":"IF(B148=\"\",0,IF(B148=0,0,INDEX('RC'!BM$48:BM$179,MATCH(A148,'RC'!BI$48:BI$179,0))))","v":0},0,{"$f":"IF(ISERROR(INDEX('RC'!BP$48:BP$179,MATCH(A148,'RC'!BI$48:BI$179,0))),0,(INDEX('RC'!BP$48:BP$179,MATCH(A148,'RC'!BI$48:BI$179,0))))","v":0},{"$f":"IF(B148=\"\",0,IF(B148=0,0,INDEX('RC'!BQ$48:BQ$179,MATCH(A148,'RC'!BI$48:BI$179,0))))","v":0},{"$f":"IF(B148=\"\",0,IF(B148=0,0,INDEX('RC'!BR$48:BR$179,MATCH(A148,'RC'!BI$48:BI$179,0))))","v":0},{"$f":"IF(B148=\"\",0,IF(B148=0,0,INDEX('RC'!BS$48:BS$179,MATCH(A148,'RC'!BI$48:BI$179,0))))","v":0},0,0,0,0,0,0,{"$f":"IF(ISERROR(INDEX('RC'!DG$48:DG$179,MATCH(A148,'RC'!BI$48:BI$179,0))),0,(INDEX('RC'!DG$48:DG$179,MATCH(A148,'RC'!BI$48:BI$179,0))))","v":0},{"$f":"IF(ISERROR(INDEX('RC'!DH$48:DH$179,MATCH(A148,'RC'!BI$48:BI$179,0))),0,(INDEX('RC'!DH$48:DH$179,MATCH(A148,'RC'!BI$48:BI$179,0))))","v":0},0,{"$f":"IF(Entry!B$28=\"Y\",0,IF(ISERROR(INDEX('RC'!CV$48:CV$179,MATCH(A148,'RC'!BI$48:BI$179,0))),0,(INDEX('RC'!CV$48:CV$179,MATCH(A148,'RC'!BI$48:BI$179,0)))))","v":0},{"$f":"IF(Entry!B$28=\"Y\",0,IF(ISERROR(INDEX('RC'!CW$48:CW$179,MATCH(A148,'RC'!BI$48:BI$179,0))),0,(INDEX('RC'!CW$48:CW$179,MATCH(A148,'RC'!BI$48:BI$179,0)))))","v":0},0,{"$f":"IF(ISERROR(INDEX('RC'!CY$48:CY$179,MATCH(A148,'RC'!BI$48:BI$179,0))),0,(INDEX('RC'!CY$48:CY$179,MATCH(A148,'RC'!BI$48:BI$179,0))))","v":0},{"$f":"IF(ISERROR(INDEX('RC'!CZ$48:CZ$179,MATCH(A148,'RC'!BI$48:BI$179,0))),0,(INDEX('RC'!CZ$48:CZ$179,MATCH(A148,'RC'!BI$48:BI$179,0))))","v":0},0,{"$f":"IF(A148>='RC'!BM$29,0,IF(ISERROR(INDEX('RC'!CF$48:CF$179,MATCH(A148,'RC'!BI$48:BI$179,0))),0,(INDEX('RC'!CF$48:CF$179,MATCH(A148,'RC'!BI$48:BI$179,0)))))","v":0},0,0,null,null,null,null,null,null,null,0,0,"",""]
["2026-08-01",{"$f":"IF(ISERROR(INDEX('RC'!BJ$48:BJ$179,MATCH(A149,'RC'!BI$48:BI$179,0))),0,(INDEX('RC'!BJ$48:BJ$179,MATCH(A149,'RC'!BI$48:BI$179,0))))","v":0},{"$f":"IF(B149=\"\",0,IF(B149=0,0,INDEX('RC'!BK$48:BK$179,MATCH(A149,'RC'!BI$48:BI$179,0))))","v":0},{"$f":"IF(B149=\"\",0,IF(B149=0,0,INDEX('RC'!BL$48:BL$179,MATCH(A149,'RC'!BI$48:BI$179,0))))","v":0},{"$f":"IF(B149=\"\",0,IF(B149=0,0,INDEX('RC'!BM$48:BM$179,MATCH(A149,'RC'!BI$48:BI$179,0))))","v":0},0,{"$f":"IF(ISERROR(INDEX('RC'!BP$48:BP$179,MATCH(A149,'RC'!BI$48:BI$179,0))),0,(INDEX('RC'!BP$48:BP$179,MATCH(A149,'RC'!BI$48:BI$179,0))))","v":0},{"$f":"IF(B149=\"\",0,IF(B149=0,0,INDEX('RC'!BQ$48:BQ$179,MATCH(A149,'RC'!BI$48:BI$179,0))))","v":0},{"$f":"IF(B149=\"\",0,IF(B149=0,0,INDEX('RC'!BR$48:BR$179,MATCH(A149,'RC'!BI$48:BI$179,0))))","v":0},{"$f":"IF(B149=\"\",0,IF(B149=0,0,INDEX('RC'!BS$48:BS$179,MATCH(A149,'RC'!BI$48:BI$179,0))))","v":0},0,0,0,0,0,0,{"$f":"IF(ISERROR(INDEX('RC'!DG$48:DG$179,MATCH(A149,'RC'!BI$48:BI$179,0))),0,(INDEX('RC'!DG$48:DG$179,MATCH(A149,'RC'!BI$48:BI$179,0))))","v":0},{"$f":"IF(ISERROR(INDEX('RC'!DH$48:DH$179,MATCH(A149,'RC'!BI$48:BI$179,0))),0,(INDEX('RC'!DH$48:DH$179,MATCH(A149,'RC'!BI$48:BI$179,0))))","v":0},0,{"$f":"IF(Entry!B$28=\"Y\",0,IF(ISERROR(INDEX('RC'!CV$48:CV$179,MATCH(A149,'RC'!BI$48:BI$179,0))),0,(INDEX('RC'!CV$48:CV$179,MATCH(A149,'RC'!BI$48:BI$179,0)))))","v":0},{"$f":"IF(Entry!B$28=\"Y\",0,IF(ISERROR(INDEX('RC'!CW$48:CW$179,MATCH(A149,'RC'!BI$48:BI$179,0))),0,(INDEX('RC'!CW$48:CW$179,MATCH(A149,'RC'!BI$48:BI$179,0)))))","v":0},0,{"$f":"IF(ISERROR(INDEX('RC'!CY$48:CY$179,MATCH(A149,'RC'!BI$48:BI$179,0))),0,(INDEX('RC'!CY$48:CY$179,MATCH(A149,'RC'!BI$48:BI$179,0))))","v":0},{"$f":"IF(ISERROR(INDEX('RC'!CZ$48:CZ$179,MATCH(A149,'RC'!BI$48:BI$179,0))),0,(INDEX('RC'!CZ$48:CZ$179,MATCH(A149,'RC'!BI$48:BI$179,0))))","v":0},0,{"$f":"IF(A149>='RC'!BM$29,0,IF(ISERROR(INDEX('RC'!CF$48:CF$179,MATCH(A149,'RC'!BI$48:BI$179,0))),0,(INDEX('RC'!CF$48:CF$179,MATCH(A149,'RC'!BI$48:BI$179,0)))))","v":0},0,0,null,null,null,null,null,null,null,0,0,"",""]
["SurrenderDiff",null,null,null,null,null,null,null,null,null,null,null,null,null,null,null,null,null,null,null,null,null,null,null,null,null,null,null,null,null,null,null,null,null,null,{"$f":"IF($B$154>0,1,\"\")","v":""},1,1,1]
[{"$f":"'RC'!BI182","v":"2008-08-01"},{"$f":"'RC'!BJ182","v":0},{"$f":"'RC'!BK182","v":0},null,null,{"$f":"SUM(B151:E151)","v":0},{"$f":"'RC'!BP182","v":0},{"$f":"'RC'!BQ182","v":0},null,null,0,{"$f":"IF(ISERROR(B151-G151),\"\",(B151-G151))","v":0},{"$f":"IF(ISERROR(C151-H151),\"\",(C151-H151))","v":0},null,null,0,null,null,{"$f":"IF(A151>='RC'!BJ$6,0,(IF(ISNA(VLOOKUP(A151,'RC'!BI$48:CH$143,20,FALSE)),0,(VLOOKUP(A151,'RC'!BI$48:CH$143,20,FALSE)))))","v":0},null,null,0,null,null,null,null,0,0,null,null,null,null,null,null,null,{"$f":"IF(B151<1,0,1)","v":0},{"$f":"AJ151","v":0},{"$f":"IF(AK151=0,\"\",AK151)","v":""},""]
[{"$f":"'RC'!BI183","v":"2009-08-01"},{"$f":"'RC'!BJ183","v":0},{"$f":"'RC'!BK183","v":0},null,null,0,{"$f":"'RC'!BP183","v":0},{"$f":"'RC'!BQ183","v":0},null,null,0,{"$f":"IF(ISERROR(B152-G152),\"\",(B152-G152))","v":0},{"$f":"IF(ISERROR(C152-H152),\"\",(C152-H152))","v":0},null,null,0,null,null,{"$f":"IF(A152>='RC'!BJ$6,0,(IF(ISNA(VLOOKUP(A152,'RC'!BI$48:CH$143,20,FALSE)),0,(VLOOKUP(A152,'RC'!BI$48:CH$143,20,FALSE)))))","v":0},null,null,0,null,null,null,{"$f":"IF(A151=0,0,ROUND(P152*Entry!$B$30%,0))","v":0},0,0,null,null,null,null,null,null,null,{"$f":"IF(B152<1,0,1)","v":0},{"$f":"AJ152","v":0},"",""]
[{"$f":"'RC'!BI184","v":"2010-08-01"},{"$f":"'RC'!BJ184","v":0},{"$f":"'RC'!BK184","v":0},null,null,0,{"$f":"'RC'!BP184","v":0},{"$f":"'RC'!BQ184","v":0},null,null,0,0,0,null,null,0,null,null,{"$f":"IF(A153>='RC'!BJ$6,0,(IF(ISNA(VLOOKUP(A153,'RC'!BI$48:CH$143,20,FALSE)),0,(VLOOKUP(A153,'RC'!BI$48:CH$143,20,FALSE)))))","v":0},null,null,0,null,null,null,{"$f":"IF(A152=0,0,ROUND(P153*Entry!$B$30%,0))","v":0},0,0,null,null,null,null,null,null,null,{"$f":"IF(B153<1,0,1)","v":0},{"$f":"AJ153","v":0},"",""]
[{"$f":"'RC'!BI185","v":"2011-08-01"},{"$f":"'RC'!BJ185","v":0},{"$f":"'RC'!BK185","v":0},null,null,0,{"$f":"'RC'!BP185","v":0},{"$f":"'RC'!BQ185","v":0},null,null,0,0,0,null,null,0,null,null,{"$f":"IF(A154>='RC'!BJ$6,0,(IF(ISNA(VLOOKUP(A154,'RC'!BI$48:CH$143,20,FALSE)),0,(VLOOKUP(A154,'RC'!BI$48:CH$143,20,FALSE)))))","v":0},null,null,0,null,null,null,{"$f":"IF(A153=0,0,ROUND(P154*Entry!$B$30%,0))","v":0},0,0,null,null,null,null,null,null,null,{"$f":"IF(B154<1,0,1)","v":0},{"$f":"AJ154","v":0},{"$f":"IF(AK154=0,\"\",AK154)","v":""},{"$f":"IF(AL154=0,\"\",AL154)","v":""}]
[{"$f":"'RC'!BI186","v":"2012-08-01"},{"$f":"'RC'!BJ186","v":0},{"$f":"'RC'!BK186","v":0},null,null,0,{"$f":"'RC'!BP186","v":0},{"$f":"'RC'!BQ186","v":0},null,null,0,0,0,null,null,0,null,null,{"$f":"IF(A155>='RC'!BJ$6,0,(IF(ISNA(VLOOKUP(A155,'RC'!BI$48:CH$143,20,FALSE)),0,(VLOOKUP(A155,'RC'!BI$48:CH$143,20,FALSE)))))","v":0},null,null,0,null,null,null,{"$f":"IF(A154=0,0,ROUND(P155*Entry!$B$30%,0))","v":0},0,0,null,null,null,null,null,null,null,{"$f":"IF(B155<1,0,1)","v":0},0,"",""]
[{"$f":"'RC'!BI187","v":"2013-08-01"},{"$f":"'RC'!BJ187","v":0},{"$f":"'RC'!BK187","v":0},null,null,0,{"$f":"'RC'!BP187","v":0},{"$f":"'RC'!BQ187","v":0},null,null,0,0,0,null,null,0,null,null,{"$f":"IF(A156>='RC'!BJ$6,0,(IF(ISNA(VLOOKUP(A156,'RC'!BI$48:CH$143,20,FALSE)),0,(VLOOKUP(A156,'RC'!BI$48:CH$143,20,FALSE)))))","v":0},null,null,0,null,null,null,{"$f":"IF(A155=0,0,ROUND(P156*Entry!$B$30%,0))","v":0},0,0,null,null,null,null,null,null,null,0,{"$f":"AJ156","v":0},{"$f":"IF(AK156=0,\"\",AK156)","v":""},{"$f":"IF(AL156=0,\"\",AL156)","v":""}]
[{"$f":"'RC'!BI188","v":"2014-08-01"},{"$f":"'RC'!BJ188","v":0},{"$f":"'RC'!BK188","v":0},null,null,0,{"$f":"'RC'!BP188","v":0},{"$f":"'RC'!BQ188","v":0},null,null,0,0,0,null,null,0,null,null,{"$f":"IF(A157>='RC'!BJ$6,0,(IF(ISNA(VLOOKUP(A157,'RC'!BI$48:CH$143,20,FALSE)),0,(VLOOKUP(A157,'RC'!BI$48:CH$143,20,FALSE)))))","v":0},null,null,0,null,null,null,{"$f":"IF(A156=0,0,ROUND(P157*Entry!$B$30%,0))","v":0},0,0,null,null,null,null,null,null,null,0,0,"",""]
[{"$f":"'RC'!BI189","v":""},{"$f":"'RC'!BJ189","v":""},{"$f":"'RC'!BK189","v":""},null,null,0,{"$f":"'RC'!BP189","v":""},{"$f":"'RC'!BQ189","v":""},null,null,0,"","",null,null,0,null,null,{"$f":"IF(A158>='RC'!BJ$6,0,(IF(ISNA(VLOOKUP(A158,'RC'!BI$48:CH$143,20,FALSE)),0,(VLOOKUP(A158,'RC'!BI$48:CH$143,20,FALSE)))))","v":0},null,null,null,null,null,null,{"$f":"IF(A157=0,0,ROUND(P158*Entry!$B$30%,0))","v":0},{"$f":"SUM(S158:Z158)","v":0},{"$f":"P158-AA158","v":0},null,null,null,null,null,null,null,{"$f":"IF(B158=\"\",0,IF(B158<1,0,1))","v":0},0,"",{"$f":"IF(AL158=0,\"\",AL158)","v":""}]
[{"$f":"'RC'!BI190","v":""},{"$f":"'RC'!BJ190","v":""},{"$f":"'RC'!BK190","v":""},null,null,0,{"$f":"'RC'!BP190","v":""},{"$f":"'RC'!BQ190","v":""},null,null,0,"","",null,null,0,null,null,{"$f":"IF(A159>='RC'!BJ$6,0,(IF(ISNA(VLOOKUP(A159,'RC'!BI$48:CH$143,20,FALSE)),0,(VLOOKUP(A159,'RC'!BI$48:CH$143,20,FALSE)))))","v":0},null,null,null,null,null,null,{"$f":"IF(A158=0,0,ROUND(P159*Entry!$B$30%,0))","v":0},0,0,null,null,null,null,null,null,null,0,0,"",""]
["GTotal",{"$f":"SUM(B132:B159)","v":47709},{"$f":"SUM(C132:C159)","v":56774},0,4771,109254,45201,53789,0,4520,103510,2508,2985,0,251,5744,6600,4200,2400,1160,0,0,2600,2600,0,0,2400,3344,null,null,null,null,null,null,null,{"$f":"IF(B160<1,0,1)","v":1},{"$f":"AJ160","v":1},{"$f":"IF(AK160=0,\"\",AK160)","v":1},{"$f":"IF(AL160=0,\"\",AL160)","v":1}]
[]
[null,null,null,null,null,null,null,null,null,null,null,null,null,null,null,null,null,null,null,null,null,null,null,null,null,{"$f":"\"( Rs. \"&LOOKUP(IF(INT(RIGHT(AB160,7)/100000)>19,INT(RIGHT(AB160,7)/1000000),IF(INT(RIGHT(AB160,7)/100000)>=10,INT(RIGHT(AB160,7)/100000),0)),{0,1,2,3,4,5,6,7,8,9,10,11,12,13,14,15,16,17,18,19},{\"\",\" TEN \",\" TWENTY \",\" THIRTY \",\" FOURTY \",\" FIFTY \",\" SIXTY \",\" SEVENTY \",\" EIGHTY \",\" NINETY \",\" TEN \",\" ELEVEN \",\" TWELVE \",\" THIRTEEN \",\" FOURTEEN \",\" FIFTEEN \",\" SIXTEEN\",\" SEVENTEEN\",\" EIGHTEEN \",\" NINETEEN \"})&IF((IF(INT(RIGHT(AB160,7)/100000)>19,INT(RIGHT(AB160,7)/1000000),IF(INT(RIGHT(AB160,7)/100000)>=10,INT(RIGHT(AB160,7)/100000),0))+IF(INT(RIGHT(AB160,7)/100000)>19,INT(RIGHT(AB160,6)/100000),IF(INT(RIGHT(AB160,7)/100000)>10,0,INT(RIGHT(AB160,6)/100000))))>0,LOOKUP(IF(INT(RIGHT(AB160,7)/100000)>19,INT(RIGHT(AB160,6)/100000),IF(INT(RIGHT(AB160,7)/100000)>10,0,INT(RIGHT(AB160,6)/100000))),{0,1,2,3,4,5,6,7,8,9,10,11,12,13,14,15,16,17,18,19},{\"\",\" ONE \",\" TWO \",\" THREE \",\" FOUR \",\" FIVE \",\" SIX \",\" SEVEN \",\" EIGHT \",\" NINE \",\" TEN \",\" ELEVEN \",\" TWELVE \",\" THIRTEEN \",\" FOURTEEN \",\" FIFTEEN \",\" SIXTEEN\",\" SEVENTEEN\",\" EIGHTEEN \",\" NINETEEN \"})&\" Lac. \",\" \")&LOOKUP(IF(INT(RIGHT(AB160,5)/1000)>19,INT(RIGHT(AB160,5)/10000),IF(INT(RIGHT(AB160,5)/1000)>=10,INT(RIGHT(AB160,5)/1000),0)),{0,1,2,3,4,5,6,7,8,9,10,11,12,13,14,15,16,17,18,19},{\"\",\" TEN \",\" TWENTY \",\" THIRTY \",\" FOURTY \",\" FIFTY \",\" SIXTY \",\" SEVENTY \",\" EIGHTY \",\" NINETY \",\" TEN \",\" ELEVEN \",\" TWELVE \",\" THIRTEEN \",\" FOURTEEN \",\" FIFTEEN \",\" SIXTEEN\",\" SEVENTEEN\",\" EIGHTEEN \",\" NINETEEN \"})&IF((IF(INT(RIGHT(AB160,5)/1000)>19,INT(RIGHT(AB160,4)/1000),IF(INT(RIGHT(AB160,5)/1000)>10,0,INT(RIGHT(AB160,4)/1000)))+IF(INT(RIGHT(AB160,5)/1000)>19,INT(RIGHT(AB160,5)/10000),IF(INT(RIGHT(AB160,5)/1000)>=10,INT(RIGHT(AB160,5)/1000),0)))>0,LOOKUP(IF(INT(RIGHT(AB160,5)/1000)>19,INT(RIGHT(AB160,4)/1000),IF(INT(RIGHT(AB160,5)/1000)>10,0,INT(RIGHT(AB160,4)/1000))),{0,1,2,3,4,5,6,7,8,9,10,11,12,13,14,15,16,17,18,19},{\"\",\" ONE \",\" TWO \",\" THREE \",\" FOUR \",\" FIVE \",\" SIX \",\" SEVEN \",\" EIGHT \",\" NINE \",\" TEN \",\" ELEVEN \",\" TWELVE \",\" THIRTEEN \",\" FOURTEEN \",\" FIFTEEN \",\" SIXTEEN\",\" SEVENTEEN\",\" EIGHTEEN \",\" NINETEEN \"})&\" Thousand \",\" \")&IF((INT((RIGHT(AB160,3))/100))>0,LOOKUP(INT((RIGHT(AB160,3))/100),{0,1,2,3,4,5,6,7,8,9,10,11,12,13,14,15,16,17,18,19},{\"\",\" ONE \",\" TWO \",\" THREE \",\" FOUR \",\" FIVE \",\" SIX \",\" SEVEN \",\" EIGHT \",\" NINE \",\" TEN \",\" ELEVEN \",\" TWELVE \",\" THIRTEEN \",\" FOURTEEN \",\" FIFTEEN \",\" SIXTEEN\",\" SEVENTEEN\",\" EIGHTEEN \",\" NINETEEN \"})&\" Hundred \",\" \")&LOOKUP(IF(INT(RIGHT(AB160,2))>19,INT(RIGHT(AB160,2)/10),IF(INT(RIGHT(AB160,2))>=10,INT(RIGHT(AB160,2)),0)),{0,1,2,3,4,5,6,7,8,9,10,11,12,13,14,15,16,17,18,19},{\"\",\" TEN \",\" TWENTY \",\" THIRTY \",\" FOURTY \",\" FIFTY \",\" SIXTY \",\" SEVENTY \",\" EIGHTY \",\" NINETY \",\" TEN \",\" ELEVEN \",\" TWELVE \",\" THIRTEEN \",\" FOURTEEN \",\" FIFTEEN \",\" SIXTEEN\",\" SEVENTEEN\",\" EIGHTEEN \",\" NINETEEN \"})&LOOKUP(IF(INT(RIGHT(AB160,2))<10,INT(RIGHT(AB160,1)),IF(INT(RIGHT(AB160,2))<20,0,INT(RIGHT(AB160,1)))),{0,1,2,3,4,5,6,7,8,9,10,11,12,13,14,15,16,17,18,19},{\"\",\" ONE \",\" TWO \",\" THREE \",\" FOUR \",\" FIVE \",\" SIX \",\" SEVEN \",\" EIGHT \",\" NINE \",\" TEN \",\" ELEVEN \",\" TWELVE \",\" THIRTEEN \",\" FOURTEEN \",\" FIFTEEN \",\" SIXTEEN\",\" SEVENTEEN\",\" EIGHTEEN \",\" NINETEEN \"})&\" Only)\"","v":"( Rs.   THREE  Thousand  THREE  Hundred  FOURTY  FOUR  Only)"}]

{"sheet":"INNER","index":4,"n_rows":30,"n_cols":23,"rows_kept":30,"cut":false,"hidden":false,"merged":[[0,0,0,14],[2,3,5,6],[2,8,5,11],[29,10,29,13],[1,0,1,3]]}
["Appendix-iii(inner sheet)"]
[{"$f":"\"Office Name :\"&Entry!C15&\" (\"&Entry!H22&\")\"","v":"Office Name :PRINCIPAL GOVT SENIOR SEC.SCH.KANKROLI-RAJSAMAND (18273)"},null,null,null,{"$f":"\"Bill No.& Date : -\"&Entry!H23&\" -\"&TEXT(Entry!H24,\"dd/mm/yyyy\")","v":"Bill No.& Date : -16 -01/07/2013"},null,null,null,{"$f":"\"DDO Code :\"&Entry!H21","v":"DDO Code :70036"},null,null,"Month / Year :  ",null,{"$f":"OUTER!O2","v":"2013-07-01"}]
["SR","Gpf No","Name"," ----( Pay & Allowance ) ----",null,null,null,null," -----( Pay Deducation ) -----"]
["No","Belt No","Designation",null,null,null,null,"Gross",null,null,null,null,"Total"]
[null,"PayScale","Employee ID",null,null,null,null,"Amount",null,null,null,null,"Deducation","Net Total",null,null,null,null,{"$f":"IF(OR(W5=0,W5=\"\"),\"\",SUM(T$4:T5))","v":1},{"$f":"IF(W5>0,1,\"\")","v":1},"Basic Pay",100,{"$f":"ARREAR!L160","v":2508}]
[null,"DP","Bank Account No",null,null,null,null,null,null,null,null,null,null,null,null,null,null,null,{"$f":"IF(OR(W6=0,W6=\"\"),\"\",SUM(T$4:T6))","v":2},{"$f":"IF(W6>0,1,\"\")","v":1},"DA",104,{"$f":"ARREAR!M160","v":2985}]
[null,null,{"$f":"OUTER!B2","v":"ARREAR Bill Of   ACP  04/09/2015  To 31/10/2015"},null,null,null,null,null,null,null,null,null,null,null,null,null,null,null,{"$f":"IF(OR(W7=0,W7=\"\"),\"\",SUM(T$4:T7))","v":3},1,"HRA",107,{"$f":"ARREAR!O160","v":251}]
[1,{"$f":"IF(Entry!D18=\"\",0,Entry!D18)","v":815428},{"$f":"Entry!C6","v":"Jh egsUnz iky oekZ"},{"$f":"IF(ISNA(VLOOKUP(1,S5:U8,3,FALSE)),\"\",(VLOOKUP(1,S5:U8,3,FALSE)))","v":"Basic Pay"},{"$f":"IF(ISNA(VLOOKUP(1,S5:W8,5,FALSE)),\"\",(VLOOKUP(1,S5:W8,5,FALSE)))","v":2508},{"$f":"IF(ISNA(VLOOKUP(2,S5:W8,3,FALSE)),\"\",(VLOOKUP(2,S5:W8,3,FALSE)))","v":"DA"},{"$f":"IF(ISNA(VLOOKUP(2,S5:W8,5,FALSE)),\"\",(VLOOKUP(2,S5:W8,5,FALSE)))","v":2985},{"$f":"SUM(E8:E9,G8:G9)","v":5744},{"$f":"IF(ISNA(VLOOKUP(1,S10:W14,3,FALSE)),\"\",(VLOOKUP(1,S10:W14,3,FALSE)))","v":"GPF"},{"$f":"IF(ISNA(VLOOKUP(1,S10:W14,5,FALSE)),\"\",(VLOOKUP(1,S10:W14,5,FALSE)))","v":2400},{"$f":"IF(ISNA(VLOOKUP(2,S10:W14,3,FALSE)),\"\",(VLOOKUP(2,S10:W14,3,FALSE)))","v":""},{"$f":"IF(ISNA(VLOOKUP(2,S10:W14,5,FALSE)),\"\",(VLOOKUP(2,S10:W14,5,FALSE)))","v":""},{"$f":"SUM(J8:J11,L8:L11)","v":2400},{"$f":"H8-M8","v":3344},null,null,null,null,{"$f":"IF(OR(W8=0,W8=\"\"),\"\",SUM(T$4:T8))","v":""},"","CCA",108,{"$f":"ARREAR!N160","v":0}]
[null,null,{"$f":"Entry!C7","v":"o0v0"},{"$f":"IF(ISNA(VLOOKUP(3,S5:W8,3,FALSE)),\"\",(VLOOKUP(3,S5:W8,3,FALSE)))","v":"HRA"},{"$f":"IF(ISNA(VLOOKUP(3,S5:W8,5,FALSE)),\"\",(VLOOKUP(3,S5:W8,5,FALSE)))","v":251},{"$f":"IF(ISNA(VLOOKUP(4,S5:W8,3,FALSE)),\"\",(VLOOKUP(4,S5:W8,3,FALSE)))","v":""},{"$f":"IF(ISNA(VLOOKUP(4,S5:W8,5,FALSE)),\"\",(VLOOKUP(4,S5:W8,5,FALSE)))","v":""},null,{"$f":"IF(ISNA(VLOOKUP(3,S10:W14,3,FALSE)),\"\",(VLOOKUP(3,S10:W14,3,FALSE)))","v":""},{"$f":"IF(ISNA(VLOOKUP(3,S10:W14,5,FALSE)),\"\",(VLOOKUP(3,S10:W14,5,FALSE)))","v":""},{"$f":"IF(ISNA(VLOOKUP(4,S10:W14,3,FALSE)),\"\",(VLOOKUP(4,S10:W14,3,FALSE)))","v":""},{"$f":"IF(ISNA(VLOOKUP(4,S10:W14,5,FALSE)),\"\",(VLOOKUP(4,S10:W14,5,FALSE)))","v":""}]
[null,{"$f":"'RC'!BA32&\"(\"&'RC'!AX30&\")\"","v":"()"},{"$f":"Entry!D20","v":"RJRA199431000302"},null,null,null,null,null,"","",null,null,null,null,null,null,null,null,{"$f":"IF(OR(W10=0,W10=\"\"),\"\",SUM(T10:T$10))","v":1},1,{"$f":"ARREAR!S11","v":"GPF"},{"$f":"IF(U10=\"GPF\",215,261)","v":215},{"$f":"ARREAR!S160","v":2400}]
[null,null,{"$f":"Entry!D22","v":51060322803},null,null,null,null,null,null,null,null,null,null,null,null,null,null,null,{"$f":"IF(OR(W11=0,W11=\"\"),\"\",SUM(T$10:T11))","v":""},"","SIP",217,{"$f":"ARREAR!Y160","v":0}]
[null,null,{"$f":"Entry!D21","v":"SBBJ"},null,null,null,null,null,null,null,null,null,null,null,null,null,null,null,{"$f":"IF(OR(W12=0,W12=\"\"),\"\",SUM(T$10:T12))","v":""},"","SISTax",300,0]
[null,null,"Total :",null,null,null,null,{"$f":"SUM(H8:H12)","v":5744},null,null,null,null,{"$f":"SUM(M8:M12)","v":2400},{"$f":"SUM(N8:N12)","v":3344},null,null,null,null,{"$f":"IF(OR(W13=0,W13=\"\"),\"\",SUM(T$10:T13))","v":""},"","RPMF",209,{"$f":"ARREAR!V160","v":0}]
[null,null,null,null,null,null,null,null,null,null,null,null,null,null,null,null,null,null,{"$f":"IF(OR(W14=0,W14=\"\"),\"\",SUM(T$10:T14))","v":""},"","I.Tax",202,{"$f":"ARREAR!Z160","v":0}]
[null,null,null,null,null,null,null,null,null,null,null,{"$f":"\"( Rs. \"&LOOKUP(IF(INT(RIGHT(N13,7)/100000)>19,INT(RIGHT(N13,7)/1000000),IF(INT(RIGHT(N13,7)/100000)>=10,INT(RIGHT(N13,7)/100000),0)),{0,1,2,3,4,5,6,7,8,9,10,11,12,13,14,15,16,17,18,19},{\"\",\" TEN \",\" TWENTY \",\" THIRTY \",\" FOURTY \",\" FIFTY \",\" SIXTY \",\" SEVENTY \",\" EIGHTY \",\" NINETY \",\" TEN \",\" ELEVEN \",\" TWELVE \",\" THIRTEEN \",\" FOURTEEN \",\" FIFTEEN \",\" SIXTEEN\",\" SEVENTEEN\",\" EIGHTEEN \",\" NINETEEN \"})&IF((IF(INT(RIGHT(N13,7)/100000)>19,INT(RIGHT(N13,7)/1000000),IF(INT(RIGHT(N13,7)/100000)>=10,INT(RIGHT(N13,7)/100000),0))+IF(INT(RIGHT(N13,7)/100000)>19,INT(RIGHT(N13,6)/100000),IF(INT(RIGHT(N13,7)/100000)>10,0,INT(RIGHT(N13,6)/100000))))>0,LOOKUP(IF(INT(RIGHT(N13,7)/100000)>19,INT(RIGHT(N13,6)/100000),IF(INT(RIGHT(N13,7)/100000)>10,0,INT(RIGHT(N13,6)/100000))),{0,1,2,3,4,5,6,7,8,9,10,11,12,13,14,15,16,17,18,19},{\"\",\" ONE \",\" TWO \",\" THREE \",\" FOUR \",\" FIVE \",\" SIX \",\" SEVEN \",\" EIGHT \",\" NINE \",\" TEN \",\" ELEVEN \",\" TWELVE \",\" THIRTEEN \",\" FOURTEEN \",\" FIFTEEN \",\" SIXTEEN\",\" SEVENTEEN\",\" EIGHTEEN \",\" NINETEEN \"})&\" Lac. \",\" \")&LOOKUP(IF(INT(RIGHT(N13,5)/1000)>19,INT(RIGHT(N13,5)/10000),IF(INT(RIGHT(N13,5)/1000)>=10,INT(RIGHT(N13,5)/1000),0)),{0,1,2,3,4,5,6,7,8,9,10,11,12,13,14,15,16,17,18,19},{\"\",\" TEN \",\" TWENTY \",\" THIRTY \",\" FOURTY \",\" FIFTY \",\" SIXTY \",\" SEVENTY \",\" EIGHTY \",\" NINETY \",\" TEN \",\" ELEVEN \",\" TWELVE \",\" THIRTEEN \",\" FOURTEEN \",\" FIFTEEN \",\" SIXTEEN\",\" SEVENTEEN\",\" EIGHTEEN \",\" NINETEEN \"})&IF((IF(INT(RIGHT(N13,5)/1000)>19,INT(RIGHT(N13,4)/1000),IF(INT(RIGHT(N13,5)/1000)>10,0,INT(RIGHT(N13,4)/1000)))+IF(INT(RIGHT(N13,5)/1000)>19,INT(RIGHT(N13,5)/10000),IF(INT(RIGHT(N13,5)/1000)>=10,INT(RIGHT(N13,5)/1000),0)))>0,LOOKUP(IF(INT(RIGHT(N13,5)/1000)>19,INT(RIGHT(N13,4)/1000),IF(INT(RIGHT(N13,5)/1000)>10,0,INT(RIGHT(N13,4)/1000))),{0,1,2,3,4,5,6,7,8,9,10,11,12,13,14,15,16,17,18,19},{\"\",\" ONE \",\" TWO \",\" THREE \",\" FOUR \",\" FIVE \",\" SIX \",\" SEVEN \",\" EIGHT \",\" NINE \",\" TEN \",\" ELEVEN \",\" TWELVE \",\" THIRTEEN \",\" FOURTEEN \",\" FIFTEEN \",\" SIXTEEN\",\" SEVENTEEN\",\" EIGHTEEN \",\" NINETEEN \"})&\" Thousand \",\" \")&IF((INT((RIGHT(N13,3))/100))>0,LOOKUP(INT((RIGHT(N13,3))/100),{0,1,2,3,4,5,6,7,8,9,10,11,12,13,14,15,16,17,18,19},{\"\",\" ONE \",\" TWO \",\" THREE \",\" FOUR \",\" FIVE \",\" SIX \",\" SEVEN \",\" EIGHT \",\" NINE \",\" TEN \",\" ELEVEN \",\" TWELVE \",\" THIRTEEN \",\" FOURTEEN \",\" FIFTEEN \",\" SIXTEEN\",\" SEVENTEEN\",\" EIGHTEEN \",\" NINETEEN \"})&\" Hundred \",\" \")&LOOKUP(IF(INT(RIGHT(N13,2))>19,INT(RIGHT(N13,2)/10),IF(INT(RIGHT(N13,2))>=10,INT(RIGHT(N13,2)),0)),{0,1,2,3,4,5,6,7,8,9,10,11,12,13,14,15,16,17,18,19},{\"\",\" TEN \",\" TWENTY \",\" THIRTY \",\" FOURTY \",\" FIFTY \",\" SIXTY \",\" SEVENTY \",\" EIGHTY \",\" NINETY \",\" TEN \",\" ELEVEN \",\" TWELVE \",\" THIRTEEN \",\" FOURTEEN \",\" FIFTEEN \",\" SIXTEEN\",\" SEVENTEEN\",\" EIGHTEEN \",\" NINETEEN \"})&LOOKUP(IF(INT(RIGHT(N13,2))<10,INT(RIGHT(N13,1)),IF(INT(RIGHT(N13,2))<20,0,INT(RIGHT(N13,1)))),{0,1,2,3,4,5,6,7,8,9,10,11,12,13,14,15,16,17,18,19},{\"\",\" ONE \",\" TWO \",\" THREE \",\" FOUR \",\" FIVE \",\" SIX \",\" SEVEN \",\" EIGHT \",\" NINE \",\" TEN \",\" ELEVEN \",\" TWELVE \",\" THIRTEEN \",\" FOURTEEN \",\" FIFTEEN \",\" SIXTEEN\",\" SEVENTEEN\",\" EIGHTEEN \",\" NINETEEN \"})&\" Only)\"","v":"( Rs.   THREE  Thousand  THREE  Hundred  FOURTY  FOUR  Only)"}]
[]
[]
[]
[]
[]
[]
[]
[]
[]
[]
[]
[]
[]
[]
[null,"Prg By-Dhabhai/Beawar",null,null,null,null,null,null,null,null,{"$f":"TODAY()","v":"2015-11-25"}]

{"sheet":"OUTER","index":5,"n_rows":32,"n_cols":15,"rows_kept":32,"cut":false,"hidden":false,"merged":[[31,0,31,7],[31,12,31,15],[25,6,25,7],[25,8,25,15],[26,6,26,7],[26,8,26,9],[27,6,27,7],[27,8,27,9],[28,5,30,7],[28,8,28,9],[29,8,29,9],[30,8,30,9],[30,14,30,15],[24,6,24,7],[24,8,24,9],[18,6,18,7],[18,12,20,15],[19,6,19,7],[19,8,19,9],[20,6,20,7],[21,6,21,7],[22,6,22,7],[22,8,22,9],[23,6,23,7],[23,8,23,9],[23,14,23,15],[17,6,17,7],[17,8,17,9],[12,6,12,7],[12,8,12,9],[13,6,13,7],[13,8,13,15],[14,6,14,7],[14,8,14,9],[15,6,15,7],[15,8,15,9],[16,6,16,7],[16,8,16,9],[16,10,16,15],[8,0,8,15],[10,0,10,2],[10,4,10,6],[10,8,10,15],[11,6,11,7],[11,8,11,9],[0,0,0,15],[2,0,2,12],[5,0,6,4],[6,7,6,8],[6,10,6,11],[6,13,6,14]]}
["Appendix-II(Outer Sheet)\nGovernment of Rajasthan"]
[null,{"$f":"\"ARREAR Bill Of   ACP  \"&TEXT(Entry!C16,\"dd/mm/yyyy\")&\"  To \" &TEXT(Entry!F16,\"dd/mm/yyyy\")","v":"ARREAR Bill Of   ACP  04/09/2015  To 31/10/2015"},null,null,null,null,null,null,null,null,null,null,"Month / Year :  ",null,{"$f":"Entry!H24","v":"2013-07-01"}]
[{"$f":"\"Detailed Pay Bill Of Permanent/Temporary Establishment of :- \"&Entry!C15&\" (\"&Entry!H22&\")\"","v":"Detailed Pay Bill Of Permanent/Temporary Establishment of :- PRINCIPAL GOVT SENIOR SEC.SCH.KANKROLI-RAJSAMAND (18273)"},null,null,null,null,null,null,null,null,null,null,null,null,{"$f":"\"Office ID         : \"&Entry!H22","v":"Office ID         : 18273"}]
[{"$f":"\"Bill No. : \"&Entry!H23","v":"Bill No. : 16"},null,{"$f":"\"Date :\"&TEXT(Entry!H24,\"dd/mm/yyyy\")","v":"Date :01/07/2013"},null,null,{"$f":"\"DDO Code :\"&Entry!H21","v":"DDO Code :70036"},null,null,{"$f":"\"TAN NO : \"&Entry!H20","v":"TAN NO : JDHR04285D"},null,null,null,null,{"$f":"\"Object Head  :  \"&Entry!H26","v":"Object Head  :  01"}]
[{"$f":"\"Budget Head:\"&Entry!H19&\"/\"&Entry!H17&\"/ \"&Entry!H18","v":"Budget Head:2202-02-109-01-00/Non Plan/ Voted"},null,null,null,null,{"$f":"\"Demand No : \"&Entry!H25","v":"Demand No : 24"}]
[{"$f":"\"To,\n      The   \"&Entry!H15&\"  \n  Please Order to pay the Claim Contained in this bill\"","v":"To,\r      The    RAJSAMAND  \r  Please Order to pay the Claim Contained in this bill"}]
[null,null,null,null,null,null,null,"Signature of clerk",null,null,"Signature of Jr. ACCT",null,null,"Signature of  DDO"]
[]
["                        Certified that I have Personally Examined and satisfied myself about the genuineness of claim that the pay and allowance of the employee included in this pay bill are strictly in accordance with rules and that the said employee are entitled to such pay and allowance. It is further certified that I have Personally ensured observance of all formalities regarding necessary entries\n\n                                                                                                                                                                                                                                        Signature of DDO with Seal"]
[]
["Allowances",null,null,null,"Deduction Name",null,null,null,"Treasury Voucher"]
["AllowancesName","Pay Id","Amount",null,"Deduction Name","Pay Id","Amount",null,"No.",null,null,"Date"]
[{"$f":"IF(ISNA(VLOOKUP(1,INNER!S5:W8,3,FALSE)),\"\",(VLOOKUP(1,INNER!S5:W8,3,FALSE)))","v":"Basic Pay"},{"$f":"IF(ISNA(VLOOKUP(1,INNER!S5:W8,4,FALSE)),\"\",(VLOOKUP(1,INNER!S5:W8,4,FALSE)))","v":100},{"$f":"IF(ISNA(VLOOKUP(1,INNER!S5:W8,5,FALSE)),\"\",(VLOOKUP(1,INNER!S5:W8,5,FALSE)))","v":2508},null,{"$f":"IF(ISNA(VLOOKUP(1,INNER!S10:W14,3,FALSE)),\"\",(VLOOKUP(1,INNER!S10:W14,3,FALSE)))","v":"GPF"},{"$f":"IF(ISNA(VLOOKUP(1,INNER!S10:W14,4,FALSE)),\"\",(VLOOKUP(1,INNER!S10:W14,4,FALSE)))","v":215},{"$f":"IF(ISNA(VLOOKUP(1,INNER!S10:W14,5,FALSE)),\"\",(VLOOKUP(1,INNER!S10:W14,5,FALSE)))","v":2400},""]
[{"$f":"IF(ISNA(VLOOKUP(2,INNER!S5:W8,3,FALSE)),\"\",(VLOOKUP(2,INNER!S5:W8,3,FALSE)))","v":"DA"},{"$f":"IF(ISNA(VLOOKUP(2,INNER!S5:W8,4,FALSE)),\"\",(VLOOKUP(2,INNER!S5:W8,4,FALSE)))","v":104},{"$f":"IF(ISNA(VLOOKUP(2,INNER!S5:W8,5,FALSE)),\"\",(VLOOKUP(2,INNER!S5:W8,5,FALSE)))","v":2985},null,{"$f":"IF(ISNA(VLOOKUP(2,INNER!S10:W14,3,FALSE)),\"\",(VLOOKUP(2,INNER!S10:W14,3,FALSE)))","v":""},{"$f":"IF(ISNA(VLOOKUP(2,INNER!S10:W14,4,FALSE)),\"\",(VLOOKUP(2,INNER!S10:W14,4,FALSE)))","v":""},{"$f":"IF(ISNA(VLOOKUP(2,INNER!S10:W14,5,FALSE)),\"\",(VLOOKUP(2,INNER!S10:W14,5,FALSE)))","v":""},"","For Treasury Use"]
[{"$f":"IF(ISNA(VLOOKUP(3,INNER!S5:W8,3,FALSE)),\"\",(VLOOKUP(3,INNER!S5:W8,3,FALSE)))","v":"HRA"},{"$f":"IF(ISNA(VLOOKUP(3,INNER!S5:W8,4,FALSE)),\"\",(VLOOKUP(3,INNER!S5:W8,4,FALSE)))","v":107},{"$f":"IF(ISNA(VLOOKUP(3,INNER!S5:W8,5,FALSE)),\"\",(VLOOKUP(3,INNER!S5:W8,5,FALSE)))","v":251},null,{"$f":"IF(ISNA(VLOOKUP(3,INNER!S10:W14,3,FALSE)),\"\",(VLOOKUP(3,INNER!S10:W14,3,FALSE)))","v":""},{"$f":"IF(ISNA(VLOOKUP(3,INNER!S10:W14,4,FALSE)),\"\",(VLOOKUP(3,INNER!S10:W14,4,FALSE)))","v":""},{"$f":"IF(ISNA(VLOOKUP(3,INNER!S10:W14,5,FALSE)),\"\",(VLOOKUP(3,INNER!S10:W14,5,FALSE)))","v":""},""]
[{"$f":"IF(ISNA(VLOOKUP(4,INNER!S5:W8,3,FALSE)),\"\",(VLOOKUP(4,INNER!S5:W8,3,FALSE)))","v":""},{"$f":"IF(ISNA(VLOOKUP(4,INNER!S6:W9,4,FALSE)),\"\",(VLOOKUP(4,INNER!S6:W9,4,FALSE)))","v":""},{"$f":"IF(ISNA(VLOOKUP(4,INNER!S5:W8,5,FALSE)),\"\",(VLOOKUP(4,INNER!S5:W8,5,FALSE)))","v":""},null,{"$f":"IF(ISNA(VLOOKUP(4,INNER!S10:W14,3,FALSE)),\"\",(VLOOKUP(4,INNER!S10:W14,3,FALSE)))","v":""},{"$f":"IF(ISNA(VLOOKUP(4,INNER!S10:W14,4,FALSE)),\"\",(VLOOKUP(4,INNER!S10:W14,4,FALSE)))","v":""},{"$f":"IF(ISNA(VLOOKUP(4,INNER!S10:W14,5,FALSE)),\"\",(VLOOKUP(4,INNER!S10:W14,5,FALSE)))","v":""},"","Pay Rs. ",null,":",{"$f":"C27","v":5744}]
[null,null,null,null,{"$f":"IF(ISNA(VLOOKUP(5,INNER!S10:W14,3,FALSE)),\"\",(VLOOKUP(5,INNER!S10:W14,3,FALSE)))","v":""},{"$f":"IF(ISNA(VLOOKUP(5,INNER!S10:W14,4,FALSE)),\"\",(VLOOKUP(5,INNER!S10:W14,4,FALSE)))","v":""},{"$f":"IF(ISNA(VLOOKUP(5,INNER!S10:W14,5,FALSE)),\"\",(VLOOKUP(5,INNER!S10:W14,5,FALSE)))","v":""},"","(In Words)",null,{"$f":"\"( Rs. \"&LOOKUP(IF(INT(RIGHT(L16,7)/100000)>19,INT(RIGHT(L16,7)/1000000),IF(INT(RIGHT(L16,7)/100000)>=10,INT(RIGHT(L16,7)/100000),0)),{0,1,2,3,4,5,6,7,8,9,10,11,12,13,14,15,16,17,18,19},{\"\",\" TEN \",\" TWENTY \",\" THIRTY \",\" FOURTY \",\" FIFTY \",\" SIXTY \",\" SEVENTY \",\" EIGHTY \",\" NINETY \",\" TEN \",\" ELEVEN \",\" TWELVE \",\" THIRTEEN \",\" FOURTEEN \",\" FIFTEEN \",\" SIXTEEN\",\" SEVENTEEN\",\" EIGHTEEN \",\" NINETEEN \"})&IF((IF(INT(RIGHT(L16,7)/100000)>19,INT(RIGHT(L16,7)/1000000),IF(INT(RIGHT(L16,7)/100000)>=10,INT(RIGHT(L16,7)/100000),0))+IF(INT(RIGHT(L16,7)/100000)>19,INT(RIGHT(L16,6)/100000),IF(INT(RIGHT(L16,7)/100000)>10,0,INT(RIGHT(L16,6)/100000))))>0,LOOKUP(IF(INT(RIGHT(L16,7)/100000)>19,INT(RIGHT(L16,6)/100000),IF(INT(RIGHT(L16,7)/100000)>10,0,INT(RIGHT(L16,6)/100000))),{0,1,2,3,4,5,6,7,8,9,10,11,12,13,14,15,16,17,18,19},{\"\",\" ONE \",\" TWO \",\" THREE \",\" FOUR \",\" FIVE \",\" SIX \",\" SEVEN \",\" EIGHT \",\" NINE \",\" TEN \",\" ELEVEN \",\" TWELVE \",\" THIRTEEN \",\" FOURTEEN \",\" FIFTEEN \",\" SIXTEEN\",\" SEVENTEEN\",\" EIGHTEEN \",\" NINETEEN \"})&\" Lac. \",\" \")&LOOKUP(IF(INT(RIGHT(L16,5)/1000)>19,INT(RIGHT(L16,5)/10000),IF(INT(RIGHT(L16,5)/1000)>=10,INT(RIGHT(L16,5)/1000),0)),{0,1,2,3,4,5,6,7,8,9,10,11,12,13,14,15,16,17,18,19},{\"\",\" TEN \",\" TWENTY \",\" THIRTY \",\" FOURTY \",\" FIFTY \",\" SIXTY \",\" SEVENTY \",\" EIGHTY \",\" NINETY \",\" TEN \",\" ELEVEN \",\" TWELVE \",\" THIRTEEN \",\" FOURTEEN \",\" FIFTEEN \",\" SIXTEEN\",\" SEVENTEEN\",\" EIGHTEEN \",\" NINETEEN \"})&IF((IF(INT(RIGHT(L16,5)/1000)>19,INT(RIGHT(L16,4)/1000),IF(INT(RIGHT(L16,5)/1000)>10,0,INT(RIGHT(L16,4)/1000)))+IF(INT(RIGHT(L16,5)/1000)>19,INT(RIGHT(L16,5)/10000),IF(INT(RIGHT(L16,5)/1000)>=10,INT(RIGHT(L16,5)/1000),0)))>0,LOOKUP(IF(INT(RIGHT(L16,5)/1000)>19,INT(RIGHT(L16,4)/1000),IF(INT(RIGHT(L16,5)/1000)>10,0,INT(RIGHT(L16,4)/1000))),{0,1,2,3,4,5,6,7,8,9,10,11,12,13,14,15,16,17,18,19},{\"\",\" ONE \",\" TWO \",\" THREE \",\" FOUR \",\" FIVE \",\" SIX \",\" SEVEN \",\" EIGHT \",\" NINE \",\" TEN \",\" ELEVEN \",\" TWELVE \",\" THIRTEEN \",\" FOURTEEN \",\" FIFTEEN \",\" SIXTEEN\",\" SEVENTEEN\",\" EIGHTEEN \",\" NINETEEN \"})&\" Thousand \",\" \")&IF((INT((RIGHT(L16,3))/100))>0,LOOKUP(INT((RIGHT(L16,3))/100),{0,1,2,3,4,5,6,7,8,9,10,11,12,13,14,15,16,17,18,19},{\"\",\" ONE \",\" TWO \",\" THREE \",\" FOUR \",\" FIVE \",\" SIX \",\" SEVEN \",\" EIGHT \",\" NINE \",\" TEN \",\" ELEVEN \",\" TWELVE \",\" THIRTEEN \",\" FOURTEEN \",\" FIFTEEN \",\" SIXTEEN\",\" SEVENTEEN\",\" EIGHTEEN \",\" NINETEEN \"})&\" Hundred \",\" \")&LOOKUP(IF(INT(RIGHT(L16,2))>19,INT(RIGHT(L16,2)/10),IF(INT(RIGHT(L16,2))>=10,INT(RIGHT(L16,2)),0)),{0,1,2,3,4,5,6,7,8,9,10,11,12,13,14,15,16,17,18,19},{\"\",\" TEN \",\" TWENTY \",\" THIRTY \",\" FOURTY \",\" FIFTY \",\" SIXTY \",\" SEVENTY \",\" EIGHTY \",\" NINETY \",\" TEN \",\" ELEVEN \",\" TWELVE \",\" THIRTEEN \",\" FOURTEEN \",\" FIFTEEN \",\" SIXTEEN\",\" SEVENTEEN\",\" EIGHTEEN \",\" NINETEEN \"})&LOOKUP(IF(INT(RIGHT(L16,2))<10,INT(RIGHT(L16,1)),IF(INT(RIGHT(L16,2))<20,0,INT(RIGHT(L16,1)))),{0,1,2,3,4,5,6,7,8,9,10,11,12,13,14,15,16,17,18,19},{\"\",\" ONE \",\" TWO \",\" THREE \",\" FOUR \",\" FIVE \",\" SIX \",\" SEVEN \",\" EIGHT \",\" NINE \",\" TEN \",\" ELEVEN \",\" TWELVE \",\" THIRTEEN \",\" FOURTEEN \",\" FIFTEEN \",\" SIXTEEN\",\" SEVENTEEN\",\" EIGHTEEN \",\" NINETEEN \"})&\" Only)\"","v":"( Rs.   FIVE  Thousand  SEVEN  Hundred  FOURTY  FOUR  Only)"}]
[null,null,null,null,null,null,null,null,"………………………………..",null,"………………","……………………………………………………………………"]
[null,null,null,null,null,null,null,null,null,null,null,null,{"$f":"\"( Rs. \"&LOOKUP(IF(INT(RIGHT(L20,7)/100000)>19,INT(RIGHT(L20,7)/1000000),IF(INT(RIGHT(L20,7)/100000)>=10,INT(RIGHT(L20,7)/100000),0)),{0,1,2,3,4,5,6,7,8,9,10,11,12,13,14,15,16,17,18,19},{\"\",\" TEN \",\" TWENTY \",\" THIRTY \",\" FOURTY \",\" FIFTY \",\" SIXTY \",\" SEVENTY \",\" EIGHTY \",\" NINETY \",\" TEN \",\" ELEVEN \",\" TWELVE \",\" THIRTEEN \",\" FOURTEEN \",\" FIFTEEN \",\" SIXTEEN\",\" SEVENTEEN\",\" EIGHTEEN \",\" NINETEEN \"})&IF((IF(INT(RIGHT(L20,7)/100000)>19,INT(RIGHT(L20,7)/1000000),IF(INT(RIGHT(L20,7)/100000)>=10,INT(RIGHT(L20,7)/100000),0))+IF(INT(RIGHT(L20,7)/100000)>19,INT(RIGHT(L20,6)/100000),IF(INT(RIGHT(L20,7)/100000)>10,0,INT(RIGHT(L20,6)/100000))))>0,LOOKUP(IF(INT(RIGHT(L20,7)/100000)>19,INT(RIGHT(L20,6)/100000),IF(INT(RIGHT(L20,7)/100000)>10,0,INT(RIGHT(L20,6)/100000))),{0,1,2,3,4,5,6,7,8,9,10,11,12,13,14,15,16,17,18,19},{\"\",\" ONE \",\" TWO \",\" THREE \",\" FOUR \",\" FIVE \",\" SIX \",\" SEVEN \",\" EIGHT \",\" NINE \",\" TEN \",\" ELEVEN \",\" TWELVE \",\" THIRTEEN \",\" FOURTEEN \",\" FIFTEEN \",\" SIXTEEN\",\" SEVENTEEN\",\" EIGHTEEN \",\" NINETEEN \"})&\" Lac. \",\" \")&LOOKUP(IF(INT(RIGHT(L20,5)/1000)>19,INT(RIGHT(L20,5)/10000),IF(INT(RIGHT(L20,5)/1000)>=10,INT(RIGHT(L20,5)/1000),0)),{0,1,2,3,4,5,6,7,8,9,10,11,12,13,14,15,16,17,18,19},{\"\",\" TEN \",\" TWENTY \",\" THIRTY \",\" FOURTY \",\" FIFTY \",\" SIXTY \",\" SEVENTY \",\" EIGHTY \",\" NINETY \",\" TEN \",\" ELEVEN \",\" TWELVE \",\" THIRTEEN \",\" FOURTEEN \",\" FIFTEEN \",\" SIXTEEN\",\" SEVENTEEN\",\" EIGHTEEN \",\" NINETEEN \"})&IF((IF(INT(RIGHT(L20,5)/1000)>19,INT(RIGHT(L20,4)/1000),IF(INT(RIGHT(L20,5)/1000)>10,0,INT(RIGHT(L20,4)/1000)))+IF(INT(RIGHT(L20,5)/1000)>19,INT(RIGHT(L20,5)/10000),IF(INT(RIGHT(L20,5)/1000)>=10,INT(RIGHT(L20,5)/1000),0)))>0,LOOKUP(IF(INT(RIGHT(L20,5)/1000)>19,INT(RIGHT(L20,4)/1000),IF(INT(RIGHT(L20,5)/1000)>10,0,INT(RIGHT(L20,4)/1000))),{0,1,2,3,4,5,6,7,8,9,10,11,12,13,14,15,16,17,18,19},{\"\",\" ONE \",\" TWO \",\" THREE \",\" FOUR \",\" FIVE \",\" SIX \",\" SEVEN \",\" EIGHT \",\" NINE \",\" TEN \",\" ELEVEN \",\" TWELVE \",\" THIRTEEN \",\" FOURTEEN \",\" FIFTEEN \",\" SIXTEEN\",\" SEVENTEEN\",\" EIGHTEEN \",\" NINETEEN \"})&\" Thousand \",\" \")&IF((INT((RIGHT(L20,3))/100))>0,LOOKUP(INT((RIGHT(L20,3))/100),{0,1,2,3,4,5,6,7,8,9,10,11,12,13,14,15,16,17,18,19},{\"\",\" ONE \",\" TWO \",\" THREE \",\" FOUR \",\" FIVE \",\" SIX \",\" SEVEN \",\" EIGHT \",\" NINE \",\" TEN \",\" ELEVEN \",\" TWELVE \",\" THIRTEEN \",\" FOURTEEN \",\" FIFTEEN \",\" SIXTEEN\",\" SEVENTEEN\",\" EIGHTEEN \",\" NINETEEN \"})&\" Hundred \",\" \")&LOOKUP(IF(INT(RIGHT(L20,2))>19,INT(RIGHT(L20,2)/10),IF(INT(RIGHT(L20,2))>=10,INT(RIGHT(L20,2)),0)),{0,1,2,3,4,5,6,7,8,9,10,11,12,13,14,15,16,17,18,19},{\"\",\" TEN \",\" TWENTY \",\" THIRTY \",\" FOURTY \",\" FIFTY \",\" SIXTY \",\" SEVENTY \",\" EIGHTY \",\" NINETY \",\" TEN \",\" ELEVEN \",\" TWELVE \",\" THIRTEEN \",\" FOURTEEN \",\" FIFTEEN \",\" SIXTEEN\",\" SEVENTEEN\",\" EIGHTEEN \",\" NINETEEN \"})&LOOKUP(IF(INT(RIGHT(L20,2))<10,INT(RIGHT(L20,1)),IF(INT(RIGHT(L20,2))<20,0,INT(RIGHT(L20,1)))),{0,1,2,3,4,5,6,7,8,9,10,11,12,13,14,15,16,17,18,19},{\"\",\" ONE \",\" TWO \",\" THREE \",\" FOUR \",\" FIVE \",\" SIX \",\" SEVEN \",\" EIGHT \",\" NINE \",\" TEN \",\" ELEVEN \",\" TWELVE \",\" THIRTEEN \",\" FOURTEEN \",\" FIFTEEN \",\" SIXTEEN\",\" SEVENTEEN\",\" EIGHTEEN \",\" NINETEEN \"})&\" Only)\"","v":"( Rs.   THREE  Thousand  THREE  Hundred  FOURTY  FOUR  Only)"}]
[null,null,null,null,null,null,null,null,"In Cash",null,":",{"$f":"G28","v":3344}]
[null,null,null,null,null,null,null,null,"B.T.",null,":",{"$f":"G27","v":2400}]
[null,null,null,null,null,null,null,null,"Total Cr. Rs.",null,":",{"$f":"SUM(L20:L21)","v":5744}]
[]
[null,null,null,null,null,null,null,null,"JR. Acct.",null,null,null,"Acct.",null,"Treasury Officer"]
[]
[null,null,null,null,null,null,null,null,"For Accountant General Office"]
["Gross Amount ",":",{"$f":"SUM(C13:C26)","v":5744},null,"Total Deducation",":",{"$f":"SUM(G13:G26)","v":2400}]
[null,null,null,null,"Net Amount ",":",{"$f":"C27-G27","v":3344},null,"Admitted (Rs.)",null,null,null,null,"Objected (Rs.)"]
[null,null,null,null,"(In Words)",{"$f":"M19","v":"( Rs.   THREE  Thousand  THREE  Hundred  FOURTY  FOUR  Only)"}]
[]
[null,null,null,null,null,null,null,null,"Auditor",null,null,null,"Supdt.",null,"Gaz. Officer"]
["PrgBy-Dhabhai/Beawar",null,null,null,null,null,null,null,null,null,null,null,{"$f":"TODAY()","v":"2015-11-25"}]

{"sheet":"RC","index":6,"n_rows":252,"n_cols":112,"rows_kept":252,"cut":false,"hidden":true,"merged":[[45,61,45,66],[45,67,45,72],[45,73,45,78],[45,79,45,84],[25,54,27,54],[24,49,27,49],[24,50,24,52],[24,53,27,53],[25,51,27,51],[243,6,250,11],[14,39,15,41],[13,31,16,31],[13,32,13,34],[13,35,16,35],[14,33,16,33],[14,36,15,38]]}
[null,null,null,null,null,null,null,null,null,null,null,null,null,{"$f":"Entry!F16","v":"2015-10-31"},null,null,null,null,null,null,null,null,null,null,null,null,null,null,null,null,null,null,null,null,"2006-08-31",null,null,null,null,null,null,null,null,null,null,null,null,null,null,{"$f":"Entry!C9","v":"2015-09-04"},null,"REVISED AS PER  01-01-06 Fix",null,null,"2006-09-01",null,"2013-07-01",7]
[null,null,null,null,null,null,null,null,null,null,null,"PAY CALCULATION",null,"Ist ACP Due Pay 01-09-06",null,null,null,null,null,null,null,null,null,null,null,null,null,null,null,null,null,null,"ORDER",null,"2013-07-01"]
[null,null,"Ded& Allow",null,null,"DA Updation",null,null,null,null,null,"2006-09-01","2013-07-01","2012-07-01",null,null,null,null,null,null,null,null,null,null,null,null,null,"MonthsDays",null,null,null,null,null,null,null,null,null,null,null,null,null,null,null,null,null,null,null,"DUE PAY DETAIL",null,null,null,null,null,"DRAWN PAY",null,null,"DRAWN Detail"]
[null,null,{"$f":"Entry!A18","v":"DA"},{"$f":"Entry!B18","v":"Y"},null,{"$f":"Entry!J4","v":0},{"$f":"Entry!K4","v":0},{"$f":"Entry!L4","v":0},100,{"$f":"K4","v":"2006-01-01"},"2006-01-01","ACP Due Dt","Basic","GP","Total",null,"DRAWN PAY 01-09-2006",null,null,null,null,"Day","Fraction Amt",null,null,null,null,null,{"$f":"IF(Q6=\"\",\"\",YEAR(Q6))","v":""},null,null,"ACP Date",{"$f":"Entry!C9","v":"2015-09-04"},null,null,{"$f":"IF(AND(AG4>AI1,AG4<AI2),\"A\",\"\")","v":""},null,null,null,null,null,null,null,null,"Ist ACP",{"$f":"L6","v":"2015-09-04"},{"$f":"DAY(AT4)","v":4},{"$f":"IF(ISNA(INDEX(Y$6:Y$34,MATCH(AW4,X$6:X$34,0))),\"\",(INDEX(Y$6:Y$34,MATCH(AW4,X$6:X$34,0))))","v":"2015-09-04"},1,{"$f":"IF(AR5=\"\",AV4,DATE(AU5,AT5,AR5))","v":"2015-09-01"},{"$f":"IF(AX4=\"\",\"\",(INDEX(Z$6:Z$34,MATCH(AV4,Y$6:Y$34,0))))","v":25110},null,null,"MANNUAL",null,null,"AUTO","2006-01-01","2006-09-01"]
[null,null,{"$f":"Entry!A19","v":"HRA"},{"$f":"Entry!B19","v":0.1},null,{"$f":"Entry!J5","v":0},{"$f":"Entry!K5","v":0},{"$f":"Entry!L5","v":0},null,null,"2006-07-01","Fix",{"$f":"IF(AND(L6>=L3,L6<M3),Entry!E12,Entry!E13)","v":18990},{"$f":"IF(AND(L6>=L3,L6<M3),Entry!G12,Entry!G13)","v":4800},{"$f":"IF(M5=\"\",\"\",IF(M5=0,\"\",SUM(M5:N5)))","v":23790},null,{"$f":"IF(L6=\"\",\"\",L6)","v":"2015-09-04"},{"$f":"M5","v":18990},{"$f":"N5","v":4800},{"$f":"SUM(R5:S5)","v":23790},null,{"$f":"IF(L6=\"\",\"\",IF(M5=\"\",\"\",DAY(L6)-(1)))","v":3},{"$f":"IF(V5=\"\",\"\",(ROUND(O5*V5/(INDEX(AC5:AC16,MATCH((MONTH(L6)),AB5:AB16,0))),0)))","v":2379},null,null,null,null,1,31,null,null,null,null,null,null,"  = IF Coloum AJ4=\"A\" Both Arrear Else 01-01-06",null,null,null,null,null,null,null,{"$f":"IF(AS5>1,1,\"\")","v":1},{"$f":"DAY(AT4)","v":4},{"$f":"MONTH(AT4)","v":9},{"$f":"YEAR(AT4)","v":2015},"2016-09-01",2,{"$f":"AV5","v":"2016-09-01"},{"$error":"#N/A"},null,null,{"$f":"IF(Entry!C40=\"\",\"\",Entry!C40)","v":""},{"$f":"Entry!D40","v":0},null,{"$f":"IF(AV4=\"\",\"\",AX4)","v":"2015-09-01"},{"$f":"Entry!I13","v":23790},{"$f":"Entry!I12","v":0}]
[null,null,{"$f":"Entry!A20","v":"CCA"},{"$f":"Entry!B20","v":"N"},null,{"$f":"Entry!J6","v":0},{"$f":"Entry!K6","v":0},{"$f":"Entry!L6","v":0},null,null,"2007-07-01",{"$f":"Entry!C9","v":"2015-09-04"},{"$f":"IF(O5=\"\",\"\",ROUNDUP(O5*3%,-1)+M5)","v":19710},{"$f":"IF(M6=\"\",\"\",Entry!F9)","v":5400},{"$f":"IF(M6=\"\",\"\",IF(M6=0,\"\",SUM(M6:N6)))","v":25110},{"$f":"IF(Q$6=\"\",\"\",IF(Q$6=L6,\"A\",IF(AND(Q$6>L6,Q$6<L7),\"A\",\"\")))","v":""},{"$f":"IF(L7=\"\",\"\",L7)","v":""},{"$f":"IF(Q6=\"\",\"\",(ROUNDUP(T5*3%,-1)+R5))","v":""},{"$f":"IF(Q6=\"\",\"\",S5)","v":""},{"$f":"SUM(R6:S6)","v":0},null,{"$f":"IF(L6=\"\",\"\",IF(M6=\"\",\"\",(INDEX(AC5:AC16,MATCH((MONTH(L6)),AB5:AB16,0))-(V5))))","v":27},{"$f":"IF(V6=\"\",\"\",(ROUND(O6*V6/(INDEX(AC5:AC16,MATCH((MONTH(L6)),AB5:AB16,0))),0)))","v":22599},{"$f":"IF(Y6=\"\",\"\",1)","v":1},{"$f":"IF(Q6=\"\",L6,IF(L6=\"\",\"\",IF(Q6=L6,Q6,IF(L6<Q6,L6,\"\"))))","v":"2015-09-04"},{"$f":"IF(Y6=\"\",\"\",IF(Y6=L$6,(M$6+N$6),IF(Y6>L$6,(INDEX(O$6:O$18,(MATCH(Y6,L$6:L$18,0)))),(INDEX(O$6:O$18,(MATCH(Y6,L$6:L$18,0)))))))","v":25110},null,2,{"$f":"IF(AC4=\"\",\"28\",IF(AC4/4=0,29,28))","v":"28"},null,null,"Sancd GP",{"$f":"Entry!F9","v":5400},null,null,null,null,null,null,null,null,null,null,null,null,null,{"$f":"IF(AT6=\"\",\"\",DAY(AT6))","v":""},"2017-09-01",3,{"$f":"AV6","v":"2017-09-01"},{"$error":"#N/A"},null,null,{"$f":"IF(Entry!C41=\"\",\"\",Entry!C41)","v":""},{"$f":"Entry!D41","v":0},null,{"$f":"IF(AV5=\"\",\"\",AV5)","v":"2016-09-01"},{"$f":"IF(BE6=\"\",\"\",IF(MONTH(BE6)<>BF$1,BF5,IF(BE6=BE$1,((ROUNDUP(ROUND(BF5*3%,0),-1)+BF5))+(Entry!D$14-Entry!G$13),(ROUNDUP(ROUND(BF5*3%,0),-1)+BF5))))","v":23790},{"$f":"IF(BE6=\"\",\"\",IF(MONTH(BE6)<>BF$1,BG5,IF(BE6>=BE$1,\"\",(ROUNDUP(ROUND(BG5*3%,0),-1)+BG5))))","v":0}]
[null,null,{"$f":"Entry!A21","v":0},{"$f":"Entry!B21","v":0},null,{"$f":"Entry!J7","v":0},{"$f":"Entry!K7","v":0},{"$f":"Entry!L7","v":0},null,null,"2008-07-01",{"$f":"IF(K$4>L6,K$4,IF(K$5>L6,K$5,IF(K$6>L6,K$6,IF(K$7>L6,K$7,IF(K$8>L6,K$8,IF(K$9>L6,K$9,IF(K$10>L6,K$10,IF(K$11>L6,K$11,\"\"))))))))","v":""},{"$f":"IF(L7>=M$3,\"\",IF(O6=\"\",\"\",(ROUNDUP(O6*3%,-1)+M6)))","v":""},{"$f":"IF('RC'!M7=\"\",0,IF(L7=M$3,Entry!H$14,'RC'!N6))","v":0},"",{"$f":"IF(Q$6=\"\",\"\",IF(Q$6=L7,\"A\",IF(AND(Q$6>L7,Q$6<L8),\"A\",\"\")))","v":""},"",{"$f":"IF(Q7=\"\",\"\",(ROUNDUP(T6*3%,-1)+R6))","v":""},{"$f":"IF(Q7=\"\",\"\",S6)","v":""},0,null,null,null,{"$f":"IF(Y7=\"\",\"\",IF(Y7>=M$3,\"\",(SUM(MAX(X$6:X6))+1)))","v":""},{"$f":"IF(W8=M$3,\"\",IF(W8>Y6,W8,\"\"))","v":""},{"$f":"IF(Y7=\"\",\"\",IF(Y7=L$6,(M$5+N$6),IF(Y7>L$6,(INDEX(O$6:O$18,(MATCH(Y7,L$6:L$18,0)))),(INDEX(O$6:O$18,(MATCH(Y7,L$6:L$18,0)))))))","v":""},null,3,31,null,null,null,null,null,null,null,null,null,null,null,null,null,null,{"$f":"IF(AT6=\"\",\"\",IF(AS7<>7,1,\"\"))","v":""},{"$f":"IF(AT6=\"\",\"\",DAY(AT6))","v":""},{"$f":"IF(AT6=\"\",\"\",MONTH(AT6))","v":""},{"$f":"IF(AT6=\"\",\"\",YEAR(AT6))","v":""},"",4,"","",null,null,{"$f":"IF(Entry!C42=\"\",\"\",Entry!C42)","v":""},{"$f":"Entry!D42","v":0},null,"2017-09-01",{"$f":"IF(BE7=\"\",\"\",IF(MONTH(BE7)<>BF$1,BF6,IF(BE7=BE$1,((ROUNDUP(ROUND(BF6*3%,0),-1)+BF6))+(Entry!D$14-Entry!G$13),(ROUNDUP(ROUND(BF6*3%,0),-1)+BF6))))","v":23790},{"$f":"IF(BE7=\"\",\"\",IF(MONTH(BE7)<>BF$1,BG6,IF(BE7>=BE$1,\"\",(ROUNDUP(ROUND(BG6*3%,0),-1)+BG6))))","v":0}]
[null,null,{"$f":"Entry!A22","v":0},null,null,{"$f":"Entry!J9","v":0},{"$f":"Entry!K9","v":0},{"$f":"Entry!L9","v":0},{"$f":"IF(G9=0,0,G4)","v":0},null,"2009-07-01","",{"$f":"IF(L8>=M$3,\"\",IF(O7=\"\",\"\",(ROUNDUP(O7*3%,-1)+M7)))","v":""},{"$f":"IF('RC'!M8=\"\",0,IF(L8=M$3,Entry!H$14,'RC'!N7))","v":0},"",{"$f":"IF(Q$6=\"\",\"\",IF(Q$6=L8,\"A\",IF(AND(Q$6>L8,Q$6<L9),\"A\",\"\")))","v":""},"","","",0,null,null,{"$f":"IF(L$6=Y$6,L$7,IF(L$6<L$7,L$6,IF(L$6>L$7,L7,IF(Y$3<=L$7,Y$3))))","v":""},{"$f":"IF(Y8=\"\",\"\",IF(Y8>=M$3,\"\",(SUM(MAX(X$6:X7))+1)))","v":""},{"$f":"IF(W9=M$3,\"\",IF(W9>Y7,W9,\"\"))","v":""},"",null,4,30,null,null,"Stage ACP",{"$f":"Entry!I9","v":"f}rh;"},null,null,null,null,null,null,null,null,null,null,null,null,{"$f":"IF(AT6=\"\",\"\",IF(AR7=\"\",\"\",IF(AT4=AT6,\"\",(DATE(AU7,AT7,AR7)))))","v":""},null,"",5,"","",null,null,{"$f":"IF(Entry!C43=\"\",\"\",Entry!C43)","v":""},{"$f":"Entry!D43","v":0},null,"",{"$f":"IF(BE8=\"\",\"\",IF(MONTH(BE8)<>BF$1,BF7,IF(BE8=BE$1,((ROUNDUP(ROUND(BF7*3%,0),-1)+BF7))+(Entry!D$14-Entry!G$13),(ROUNDUP(ROUND(BF7*3%,0),-1)+BF7))))","v":""},""]
[null,null,{"$f":"Entry!A23","v":"DEDUCATIONS"},null,null,{"$f":"Entry!J10","v":0},{"$f":"Entry!K10","v":0},{"$f":"Entry!L10","v":0},null,null,"2010-07-01","",{"$f":"IF(L9>=M$3,\"\",IF(O8=\"\",\"\",(ROUNDUP(O8*3%,-1)+M8)))","v":""},{"$f":"IF('RC'!M9=\"\",0,IF(L9=M$3,Entry!H$14,'RC'!N8))","v":0},"","","","","",0,null,null,{"$f":"IF(W8=M$3,\"\",IF(W8=\"\",\"\",IF(AND(W8=Y$2,Y$3=\"\"),Y$4,IF(W8=Y$2,Y$3,IF(W8=Y$3,Y$4,IF(Y$4=\"\",(DATE(YEAR(W8)+1,MONTH(W8),DAY(W8))),IF(W8>=Y$4,(DATE(YEAR(W8)+1,MONTH(W8),DAY(W8))),IF(Y$2<(DATE(YEAR(W8)+1,MONTH(W8),DAY(W8))),Y$2,(DATE(YEAR(W8)+1,MONTH(W8),DAY(W8)))))))))))","v":""},{"$f":"IF(Y9=\"\",\"\",IF(Y9>=M$3,\"\",(SUM(MAX(X$6:X8))+1)))","v":""},"","",null,5,31,null,null,null,null,null,null,null,null,null,null,null,null,null,null,null,null,{"$f":"IF(AT10=\"\",\"\",IF(MONTH(AT7)<>7,7))","v":""},null,"",6,"","",null,null,null,null,null,"",{"$f":"IF(BE9=\"\",\"\",IF(MONTH(BE9)<>BF$1,BF8,IF(BE9=BE$1,((ROUNDUP(ROUND(BF8*3%,0),-1)+BF8))+(Entry!D$14-Entry!G$13),(ROUNDUP(ROUND(BF8*3%,0),-1)+BF8))))","v":""},""]
[null,null,{"$f":"Entry!A24","v":"GPF"},{"$f":"Entry!B24","v":"All"},null,{"$f":"Entry!J11","v":0},{"$f":"Entry!K11","v":0},{"$f":"Entry!L11","v":0},null,null,"2011-07-01","","",{"$f":"IF('RC'!M10=\"\",0,IF(L10=M$3,Entry!H$14,'RC'!N9))","v":0},"","","","","",0,null,null,{"$f":"IF(W9=M$3,\"\",IF(W9=\"\",\"\",IF(AND(W9=Y$2,Y$3=\"\"),Y$4,IF(W9=Y$2,Y$3,IF(W9=Y$3,Y$4,IF(Y$4=\"\",(DATE(YEAR(W9)+1,MONTH(W9),DAY(W9))),IF(W9>=Y$4,(DATE(YEAR(W9)+1,MONTH(W9),DAY(W9))),IF(Y$2<(DATE(YEAR(W9)+1,MONTH(W9),DAY(W9))),Y$2,(DATE(YEAR(W9)+1,MONTH(W9),DAY(W9)))))))))))","v":""},{"$f":"IF(Y10=\"\",\"\",IF(Y10>=M$3,\"\",(SUM(MAX(X$6:X9))+1)))","v":""},"","",null,6,30,null,null,"ARREAR UP TO",null,null,{"$f":"Entry!F16","v":"2015-10-31"},null,null,null,null,null,null,null,null,null,null,{"$f":"IF(AT6=\"\",\"\",IF(AT8=\"\",\"\",IF(AT7<>7,DATE(YEAR(AT8),MONTH(AT8)+1,DAY(AT8)),AT8)))","v":""},null,"",7,"","",null,null,null,null,null,"",{"$f":"IF(BE10=\"\",\"\",IF(MONTH(BE10)<>BF$1,BF9,IF(BE10=BE$1,((ROUNDUP(ROUND(BF9*3%,0),-1)+BF9))+(Entry!D$14-Entry!G$13),(ROUNDUP(ROUND(BF9*3%,0),-1)+BF9))))","v":""},""]
[null,null,{"$f":"Entry!A25","v":"SI"},{"$f":"Entry!B25","v":"N"},null,{"$f":"Entry!J11","v":0},{"$f":"Entry!K11","v":0},{"$f":"Entry!L11","v":0},null,null,"2012-07-01","","",{"$f":"IF('RC'!M11=\"\",0,IF(L11=M$3,Entry!H$14,'RC'!N10))","v":0},"","","","","",0,null,null,"",{"$f":"IF(Y11=\"\",\"\",IF(Y11>=M$3,\"\",(SUM(MAX(X$6:X10))+1)))","v":""},"","",null,7,31,null,null,null,null,null,null,null,null,null,null,null,null,null,null,null,null,{"$f":"IF(AT6=\"\",\"\",IF(AT8=\"\",\"\",IF(AT9<>7,(DATE(YEAR(AT10),(AT9),DAY(AT10))),(DATE(YEAR(AT8)+1,(AT9),DAY(AT8))))))","v":""},null,"",8,"","",null,null,null,null,null,"",{"$f":"IF(BE11=\"\",\"\",IF(MONTH(BE11)<>BF$1,BF10,IF(BE11=BE$1,((ROUNDUP(ROUND(BF10*3%,0),-1)+BF10))+(Entry!D$14-Entry!G$13),(ROUNDUP(ROUND(BF10*3%,0),-1)+BF10))))","v":""},""]
[null,null,{"$f":"Entry!A26","v":"HRA"},{"$f":"Entry!B26","v":"Y"},null,{"$f":"Entry!J13","v":0},{"$f":"Entry!K13","v":0},{"$f":"Entry!L13","v":0},{"$f":"IF(G12=0,0,G8)","v":0},null,"2013-07-01","","",{"$f":"IF('RC'!M12=\"\",0,IF(L12=M$3,Entry!H$14,'RC'!N11))","v":0},"","","","","",0,null,null,"",{"$f":"IF(Y12=\"\",\"\",IF(Y12>=M$3,\"\",(SUM(MAX(X$6:X11))+1)))","v":""},"","",null,8,31,null,null,null,null,null,null,null,null,null,null,null,null,null,null,null,null,null,null,"",9,"","",null,null,null,null,null,"",{"$f":"IF(BE12=\"\",\"\",IF(MONTH(BE12)<>BF$1,BF11,IF(BE12=BE$1,((ROUNDUP(ROUND(BF11*3%,0),-1)+BF11))+(Entry!D$14-Entry!G$13),(ROUNDUP(ROUND(BF11*3%,0),-1)+BF11))))","v":""},"",null,null,null,null,null,null,null,null,null,null,null,{"$f":"IF(BR12=\"\",\"\",ROUNDUP((ROUND((BS11+BT11)*(3%),0)),-1)+BS11)","v":""},null,null,null,{"$f":"IF(BZ$4=\"\",(IF(BS10=\"\",\"\",BR10)),BZ10)","v":""}]
[null,null,{"$f":"Entry!A27","v":"RPMF"},{"$f":"Entry!B27","v":"Y"},null,{"$f":"Entry!J14","v":0},{"$f":"Entry!K14","v":0},{"$f":"Entry!L14","v":0},null,null,"2014-07-01","","",{"$f":"IF('RC'!M13=\"\",0,IF(L13=M$3,Entry!H$14,'RC'!N12))","v":0},"","","","","",0,null,null,"",{"$f":"IF(Y13=\"\",\"\",IF(Y13>=M$3,\"\",(SUM(MAX(X$6:X12))+1)))","v":""},"",{"$f":"IF(Y13=\"\",\"\",IF(Y13=Y$2,(W$5+W$6),IF(Y13>L$6,(INDEX(U$6:U$18,(MATCH(Y13,L$6:Q$18,1)))),(INDEX(O$6:O$18,(MATCH(Y13,L$6:L$18,0)))))))","v":""},null,9,30,null,null,null,null,null,null,null,null,null,null,null,null,null,null,null,null,null,null,"",10,"","",null,null,null,null,null,"",{"$f":"IF(BE13=\"\",\"\",IF(MONTH(BE13)<>BF$1,BF12,IF(BE13=BE$1,((ROUNDUP(ROUND(BF12*3%,0),-1)+BF12))+(Entry!D$14-Entry!G$13),(ROUNDUP(ROUND(BF12*3%,0),-1)+BF12))))","v":""},"",null,null,null,null,null,null,null,null,null,null,null,null,null,null,null,""]
[null,null,"ECpenF",{"$f":"Entry!B28","v":"N"},null,{"$f":"Entry!J15","v":0},{"$f":"Entry!K15","v":0},{"$f":"Entry!L15","v":0},null,null,"2015-07-01","",{"$f":"IF(L14>=M$3,\"\",IF(O13=\"\",\"\",ROUNDUP(O13*3%,-1)+M13))","v":""},{"$f":"IF('RC'!M14=\"\",0,IF(L14=M$3,Entry!H$14,'RC'!N13))","v":0},"","","","","",0,null,null,"",{"$f":"IF(Y14=\"\",\"\",IF(Y14>=M$3,\"\",(SUM(MAX(X$6:X13))+1)))","v":""},"",{"$f":"IF(Y14=\"\",\"\",IF(Y14=Y$2,(W$5+W$6),IF(Y14>L$6,(INDEX(U$6:U$18,(MATCH(Y14,L$6:Q$18,1)))),(INDEX(O$6:O$18,(MATCH(Y14,L$6:L$18,0)))))))","v":""},null,10,31,null,null,",lhih Lohd`fr frfFk ,oa Lohd`r xzsM is","Lohd`fr frfFk dks",null,null,"vkxkeh osru o`f) dh fnukad",null,null,null,null,null,null,null,null,null,null,null,"",11,"","",null,null,null,null,null,"",{"$f":"IF(BE14=\"\",\"\",IF(MONTH(BE14)<>BF$1,BF13,IF(BE14=BE$1,((ROUNDUP(ROUND(BF13*3%,0),-1)+BF13))+(Entry!D$14-Entry!G$13),(ROUNDUP(ROUND(BF13*3%,0),-1)+BF13))))","v":""},""]
[null,null,{"$f":"Entry!A29","v":0},{"$f":"Entry!B29","v":0},null,{"$f":"Entry!J16","v":0},{"$f":"Entry!K16","v":0},{"$f":"Entry!L16","v":0},null,null,"2016-07-01","","",{"$f":"IF('RC'!M15=\"\",0,IF(L15=M$3,Entry!H$14,'RC'!N14))","v":0},"","","","","",0,null,null,"",{"$f":"IF(Y15=\"\",\"\",IF(Y15>=M$3,\"\",(SUM(MAX(X$6:X14))+1)))","v":""},"",{"$f":"IF(Y15=\"\",\"\",IF(Y15=Y$2,(W$5+W$6),IF(Y15>L$6,(INDEX(U$6:U$18,(MATCH(Y15,L$6:Q$18,1)))),(INDEX(O$6:O$18,(MATCH(Y15,L$6:L$18,0)))))))","v":""},null,11,30,null,null,null,"osru","o`f) dh tkus okyh jk'kh","fu/kkZfjr osru",null,",lhih iwoZ dk osru",null,null,",lhih ckn la'kksf/kr osru",null,null,null,null,null,null,null,"",12,"","",null,null,null,null,null,"",{"$f":"IF(BE15=\"\",\"\",IF(MONTH(BE15)<>BF$1,BF14,IF(BE15=BE$1,((ROUNDUP(ROUND(BF14*3%,0),-1)+BF14))+(Entry!D$14-Entry!G$13),(ROUNDUP(ROUND(BF14*3%,0),-1)+BF14))))","v":""},""]
[null,null,{"$f":"Entry!A30","v":"TDS"},{"$f":"Entry!B30","v":0},null,{"$f":"Entry!J18","v":0},{"$f":"Entry!K18","v":0},{"$f":"Entry!L18","v":0},{"$f":"IF(G16=0,0,G12)","v":0},null,null,"","",{"$f":"IF('RC'!M16=\"\",0,IF(L16=M$3,Entry!H$14,'RC'!N15))","v":0},"","","","","",0,null,null,"",{"$f":"IF(Y16=\"\",\"\",IF(Y16>=M$3,\"\",(SUM(MAX(X$6:X15))+1)))","v":""},"",{"$f":"IF(Y16=\"\",\"\",IF(Y16=Y$2,(W$5+W$6),IF(Y16>Q$6,(INDEX(U$6:U$18,(MATCH(Y16,Q$6:Q$18,1)))),(INDEX(O$6:O$18,(MATCH(Y16,L$6:L$18,0)))))))","v":""},null,12,31,null,null,null,"xzsM is",null,"xzsM is",null,null,null,null,null,null,null,null,null,null,null,null,"",13,"","",null,null,null,null,null,"",{"$f":"IF(BE16=\"\",\"\",IF(MONTH(BE16)<>BF$1,BF15,IF(BE16=BE$1,((ROUNDUP(ROUND(BF15*3%,0),-1)+BF15))+(Entry!D$14-Entry!G$13),(ROUNDUP(ROUND(BF15*3%,0),-1)+BF15))))","v":""},""]
[null,null,{"$f":"Entry!A31","v":"SURRENDER"},null,null,{"$f":"Entry!J19","v":0},{"$f":"Entry!K19","v":0},{"$f":"Entry!L19","v":0},null,null,null,{"$f":"IF(L16>=Q$6,\"\",IF(K$4>L16,K$4,IF(K$5>L16,K$5,IF(K$6>L16,K$6,IF(K$7>L16,K$7,IF(K$8>L16,K$8,IF(K$9>L16,K$9,IF(K$10>L16,K$10,IF(K$11>L16,K$11,\"\")))))))))","v":""},"",{"$f":"IF('RC'!M17=\"\",0,IF(L17=M$3,Entry!H$14,'RC'!N16))","v":0},"","","","","",0,null,null,"",{"$f":"IF(Y17=\"\",\"\",IF(Y17>=M$3,\"\",(SUM(MAX(X$6:X16))+1)))","v":""},"","",null,null,null,null,null,null,"jfuax is cS.M",null,"jfuax is cS.M",null,"PAY","Grade \nPay","Total","PAY","Grade Pay","Total",null,null,null,null,null,"",14,"","",null,null,null,null,null,"",{"$f":"IF(BE17=\"\",\"\",IF(MONTH(BE17)<>BF$1,BF16,IF(BE17=BE$1,((ROUNDUP(ROUND(BF16*3%,0),-1)+BF16))+(Entry!D$14-Entry!G$13),(ROUNDUP(ROUND(BF16*3%,0),-1)+BF16))))","v":""},""]
[null,null,{"$f":"Entry!A32","v":"Month"},{"$f":"Entry!B32","v":"Days"},null,{"$f":"Entry!J20","v":0},{"$f":"Entry!K20","v":0},{"$f":"Entry!L20","v":0},null,null,null,"","",{"$f":"IF('RC'!M18=\"\",0,IF(L18=M$3,Entry!H$14,'RC'!N17))","v":0},"","","","","",0,null,null,"",{"$f":"IF(Y18=\"\",\"\",IF(Y18>=M$3,\"\",(SUM(MAX(X$6:X17))+1)))","v":""},"","",null,null,null,null,null,{"$f":"IF(AJ4=\"A\",AG4,\"\")","v":""},{"$f":"IF(AJ4=\"A\",Entry!E12,\"\")","v":""},{"$f":"IF(AF18=\"\",\"\",ROUNDUP((ROUND((AG18+AG19)*(3%),0)),-1))","v":""},{"$f":"IF(AG18=\"\",\"\",AG18+AH18)","v":""},{"$f":"IF(AF$18=\"\",\"\",IF(AF$18=Q$5,Q6,\"\"))","v":""},{"$f":"IF(AJ18=\"\",\"\",INDEX(R$5:R$18,MATCH(AJ18,Q$5:Q$18,0)))","v":""},{"$f":"IF(AJ18=\"\",\"\",INDEX(S$5:S$18,MATCH(AJ18,Q$5:Q$18,0)))","v":""},{"$f":"IF(AJ18=\"\",\"\",SUM(AK18:AL18))","v":""},{"$f":"IF(AJ18=\"\",\"\",INDEX(M$5:M$18,MATCH(AJ18,L$5:L$18,0)))","v":""},{"$f":"IF(AJ18=\"\",\"\",INDEX(N$5:N$18,MATCH(AJ18,L$5:L$18,0)))","v":""},{"$f":"IF(AJ18=\"\",\"\",SUM(AN18:AO18))","v":""},null,null,null,null,null,"",15,"","",null,null,null,null,null,"",{"$f":"IF(BE18=\"\",\"\",IF(MONTH(BE18)<>BF$1,BF17,IF(BE18=BE$1,((ROUNDUP(ROUND(BF17*3%,0),-1)+BF17))+(Entry!D$14-Entry!G$13),(ROUNDUP(ROUND(BF17*3%,0),-1)+BF17))))","v":""},""]
[null,null,{"$f":"IF(Entry!A33=\"\",\"\",Entry!A33)","v":39661},{"$f":"IF(Entry!B33=\"\",\"\",Entry!B33)","v":""},null,{"$f":"Entry!J21","v":0},{"$f":"Entry!K21","v":0},{"$f":"Entry!L21","v":0},null,null,null,null,null,null,null,null,null,null,null,null,null,null,null,{"$f":"IF(Y19=\"\",\"\",(SUM(MAX(X$6:X18))+1))","v":""},null,null,null,null,null,null,null,{"$f":"IF(AF18=\"\",\"\",AG6)","v":""},{"$f":"IF(AG18=\"\",\"\",Entry!G12)","v":""},{"$f":"IF(AF19=\"\",\"\",AF19-AG19)","v":""},{"$f":"IF(AG19=\"\",\"\",AG19+AH19)","v":""},{"$f":"IF(AF$18=\"\",\"\",IF(AF$18=Q$5,Q7,\"\"))","v":""},{"$f":"IF(AJ19=\"\",\"\",INDEX(R$5:R$18,MATCH(AJ19,Q$5:Q$18,0)))","v":""},{"$f":"IF(AJ19=\"\",\"\",INDEX(S$5:S$18,MATCH(AJ19,Q$5:Q$18,0)))","v":""},{"$f":"IF(AJ19=\"\",\"\",SUM(AK19:AL19))","v":""},{"$f":"IF(AJ19=\"\",\"\",INDEX(M$5:M$18,MATCH(AJ19,L$5:L$18,0)))","v":""},{"$f":"IF(AJ19=\"\",\"\",INDEX(N$5:N$18,MATCH(AJ19,L$5:L$18,0)))","v":""},{"$f":"IF(AJ19=\"\",\"\",SUM(AN19:AO19))","v":""},null,null,null,null,null,"",16,"","",null,null,null,null,null,"",{"$f":"IF(BE19=\"\",\"\",IF(MONTH(BE19)<>BF$1,BF18,IF(BE19=BE$1,((ROUNDUP(ROUND(BF18*3%,0),-1)+BF18))+(Entry!D$14-Entry!G$13),(ROUNDUP(ROUND(BF18*3%,0),-1)+BF18))))","v":""},""]
[null,null,{"$f":"IF(Entry!A34=\"\",\"\",Entry!A34)","v":40026},{"$f":"IF(Entry!B34=\"\",\"\",Entry!B34)","v":""},null,{"$f":"Entry!J23","v":0},{"$f":"Entry!K23","v":0},{"$f":"Entry!L23","v":0},{"$f":"IF(G20=0,0,G16)","v":0},null,null,null,null,"Ist ACP Due Pay 01-01-06",null,null,"Drawn Pay 01/01/06",null,null,null,null,null,null,{"$f":"IF(Y20=\"\",\"\",(SUM(MAX(X$6:X19))+1))","v":""},null,null,null,null,null,null,null,{"$f":"IF(AF19=\"\",\"\",AG8)","v":""},{"$f":"SUM(AG18:AG19)","v":0},null,{"$f":"SUM(AI18:AI19)","v":0},"","","","","","","",null,null,null,null,null,"",17,"","",null,null,null,null,null,"",{"$f":"IF(BE20=\"\",\"\",IF(MONTH(BE20)<>BF$1,BF19,IF(BE20=BE$1,((ROUNDUP(ROUND(BF19*3%,0),-1)+BF19))+(Entry!D$14-Entry!G$13),(ROUNDUP(ROUND(BF19*3%,0),-1)+BF19))))","v":""},""]
[null,null,{"$f":"IF(Entry!A35=\"\",\"\",Entry!A35)","v":40391},{"$f":"IF(Entry!B35=\"\",\"\",Entry!B35)","v":""},null,{"$f":"Entry!J24","v":0},{"$f":"Entry!K24","v":0},{"$f":"Entry!L24","v":0},null,null,null,"Fix",{"$f":"IF(OR(L22<L3,L22<=M3),Entry!E13,M5)","v":18990},{"$f":"IF(M21=\"\",\"\",Entry!G13)","v":4800},{"$f":"IF(M21=\"\",\"\",IF(M21=0,\"\",SUM(M21:N21)))","v":23790},null,{"$f":"IF(L22=\"\",\"\",L22)","v":"2015-09-04"},{"$f":"M21","v":18990},{"$f":"N21","v":4800},{"$f":"SUM(R21:S21)","v":23790},null,{"$f":"IF(Q22=\"\",\"\",IF(R21=\"\",\"\",DAY(Q22)-(1)))","v":0},{"$f":"IF(V21=\"\",\"\",(ROUND(U21*V21/(INDEX(AC5:AC16,MATCH((MONTH(Q22)),AB5:AB16,0))),0)))","v":0},{"$f":"IF(Y21=\"\",\"\",(SUM(MAX(X$6:X20))+1))","v":""},null,null,null,null,null,null,null,null,{"$f":"IF(AG19=0,\"\",IF(AG19<=1650,\"4750-7440\",IF(AG19<=2800,\"5200-20200\",IF(AG19<=5400,\"9300-34800\",IF(AG19<=8200,\"15600-39100\")))))","v":false},null,{"$f":"IF(AI19=0,\"\",IF(AI19<=1650,\"4750-7440\",IF(AI19<=2800,\"5200-20200\",IF(AI19<=5400,\"9300-34800\",IF(AI19<=8200,\"15600-39100\")))))","v":false},"","","","","","","",null,null,null,null,null,"",18,"","",null,null,null,null,null,"",{"$f":"IF(BE21=\"\",\"\",IF(MONTH(BE21)<>BF$1,BF20,IF(BE21=BE$1,((ROUNDUP(ROUND(BF20*3%,0),-1)+BF20))+(Entry!D$14-Entry!G$13),(ROUNDUP(ROUND(BF20*3%,0),-1)+BF20))))","v":""},""]
[null,null,{"$f":"IF(Entry!A36=\"\",\"\",Entry!A36)","v":40756},{"$f":"IF(Entry!B36=\"\",\"\",Entry!B36)","v":""},null,{"$f":"Entry!J25","v":0},{"$f":"Entry!K25","v":0},{"$f":"Entry!L25","v":0},null,null,null,{"$f":"IF(Entry!C9=\"\",\"\",Entry!C9)","v":"2015-09-04"},{"$f":"IF(O21=\"\",\"\",(ROUNDUP((ROUND((O21)*(3%),0)+M21),-1)))","v":19710},{"$f":"IF(M22=\"\",\"\",Entry!F9)","v":5400},{"$f":"IF(M22=\"\",\"\",IF(M22=0,\"\",SUM(M22:N22)))","v":25110},{"$f":"IF(Q$22=\"\",\"\",IF(Q$22=L22,\"A\",IF(AND(Q$22>L22,Q$22<L23),\"A\",\"\")))","v":""},{"$f":"IF(L23=\"\",\"\",L23)","v":"2016-07-01"},{"$f":"IF(Q22=\"\",\"\",IF(Q22>N$1,\"\",(ROUNDUP(T21*3%,-1)+R21)))","v":""},{"$f":"IF(R22=\"\",\"\",IF(Q22=M$3,Entry!D$14,S21))","v":""},{"$f":"SUM(R22:S22)","v":0},null,{"$f":"IF(Q22=\"\",\"\",IF(R21=\"\",\"\",(INDEX(AC5:AC16,MATCH((MONTH(Q22)),AB5:AB16,0))-(V21))))","v":31},{"$f":"IF(V22=\"\",\"\",(ROUND(U22*V22/(INDEX(AC5:AC16,MATCH((MONTH(Q22)),AB5:AB16,0))),0)))","v":0},{"$f":"IF(Y22=\"\",\"\",(SUM(MAX(X$6:X21))+1))","v":2},{"$f":"IF(Y6>M3,(DATE(YEAR(Y6)+1,MONTH(Y6),DAY(1))),IF(Entry!F16>M3,M3,\"\"))","v":"2016-09-01"},{"$f":"IF(Y22=\"\",\"\",IF(Y22=L$22,(M$22+N$22),IF(Y22>L$22,(INDEX(O$22:O$34,(MATCH(Y22,L$22:L$34,0)))))))","v":{"$error":"#N/A"}},null,null,null,null,null,null,null,null,null,{"$f":"IF(AF$18=\"\",\"\",IF(AF$18=Q$5,Q10,\"\"))","v":""},"","","","","",""]
[null,null,{"$f":"IF(Entry!A37=\"\",\"\",Entry!A37)","v":41122},{"$f":"IF(Entry!B37=\"\",\"\",Entry!B37)","v":""},null,{"$f":"Entry!J26","v":0},{"$f":"Entry!K26","v":0},{"$f":"Entry!L26","v":0},null,null,null,{"$f":"IF(K$4>L22,K$4,IF(K$5>L22,K$5,IF(K$6>L22,K$6,IF(K$7>L22,K$7,IF(K$8>L22,K$8,IF(K$9>L22,K$9,IF(K$10>L22,K$10,IF(K$11>L22,K$11,IF(K$12>L22,K$12,IF(K$13>L22,K$13,IF(K$14>L22,K$14,IF(K$15>L22,K$15,\"\"))))))))))))","v":"2016-07-01"},{"$f":"IF(L23=\"\",\"\",IF(M22=\"\",\"\",IF(L23>N$1,\"\",(ROUNDUP((ROUND((O22)*(3%),0)+M22),-1)))))","v":""},{"$f":"IF('RC'!M23=\"\",0,IF(L23=M$3,Entry!H$14,'RC'!N22))","v":0},"",{"$f":"IF(Q$22=\"\",\"\",IF(Q$22=L23,\"A\",IF(AND(Q$22>L23,Q$22<L24),\"A\",\"\")))","v":"A"},"",{"$f":"IF(Q23=\"\",\"\",IF(Q23>N$1,\"\",(ROUNDUP(T22*3%,-1)+R22)))","v":""},{"$f":"IF(R23=\"\",\"\",IF(Q23=M$3,Entry!D$14,S22))","v":""},{"$f":"SUM(R23:S23)","v":0},null,null,null,{"$f":"IF(Y23=\"\",\"\",(SUM(MAX(X$6:X22))+1))","v":3},{"$f":"IF(W24=N$1,\"\",IF(W24>Y22,W24,\"\"))","v":"2017-09-01"},{"$f":"IF(Y23=\"\",\"\",IF(Y23>Q$22,(INDEX(O$22:O$34,(MATCH(Y23,L$22:L$34,0))))))","v":{"$error":"#N/A"}},null,null,null,null,null,null,null,null,null,"","","","","","",""]
[null,null,{"$f":"IF(Entry!A38=\"\",\"\",Entry!A38)","v":41487},{"$f":"IF(Entry!B38=\"\",\"\",Entry!B38)","v":""},null,{"$f":"Entry!J29","v":0},{"$f":"Entry!K29","v":0},{"$f":"Entry!L29","v":0},{"$f":"IF(G24=0,0,G20)","v":0},null,null,"",{"$f":"IF(L24=\"\",\"\",IF(M23=\"\",\"\",IF(L24>N$1,\"\",(ROUNDUP((ROUND((O23)*(3%),0)+M23),-1)))))","v":""},{"$f":"IF('RC'!M24=\"\",0,IF(L24=M$3,Entry!H$14,'RC'!N23))","v":0},"","","","",{"$f":"IF(R24=\"\",\"\",IF(Q24=M$3,Entry!D$14,S23))","v":""},0,null,null,{"$f":"IF(Y22=\"\",\"\",IF(AND(Y22=Y$2,Y$3=\"\"),Y$4,IF(Y22=Y$2,Y$3,IF(Y22=Y$3,Y$4,IF(Y$4=\"\",(DATE(YEAR(Y22)+1,MONTH(Y22),DAY(Y22))),IF(Y22>=Y$4,(DATE(YEAR(W23)+1,MONTH(Y22),DAY(Y22))),IF(Y$2<(DATE(YEAR(Y22)+1,MONTH(Y22),DAY(Y22))),Y$2,(DATE(YEAR(Y22)+1,MONTH(Y22),DAY(Y22))))))))))","v":"2017-09-01"},{"$f":"IF(Y24=\"\",\"\",(SUM(MAX(X$6:X23))+1))","v":""},{"$f":"IF(W25>N$1,\"\",IF(W25>Y23,W25,\"\"))","v":""},{"$f":"IF(Y24=\"\",\"\",IF(Y24>Q$22,(INDEX(O$22:O$34,(MATCH(Y24,L$22:L$34,0))))))","v":""},null,null,null,null,null,null,null,null,null,"","","","","","",""]
[null,null,{"$f":"IF(Entry!A39=\"\",\"\",Entry!A39)","v":41852},{"$f":"IF(Entry!B39=\"\",\"\",Entry!B39)","v":""},null,{"$f":"Entry!J30","v":0},{"$f":"Entry!K30","v":0},{"$f":"Entry!L30","v":0},null,null,null,"","",{"$f":"IF('RC'!M25=\"\",0,IF(L25=M$3,Entry!H$14,'RC'!N24))","v":0},"","","","",{"$f":"IF(R25=\"\",\"\",IF(Q25=M$3,Entry!D$14,S24))","v":""},0,null,null,{"$f":"IF(W24>=N$1,\"\",IF(W24=\"\",\"\",IF(AND(W24=Y$2,Y$3=\"\"),Y$4,IF(W24=Y$2,Y$3,IF(W24=Y$3,Y$4,IF(Y$4=\"\",(DATE(YEAR(W24)+1,MONTH(W24),DAY(W24))),IF(W24>=Y$4,(DATE(YEAR(W24)+1,MONTH(W24),DAY(W24))),IF(Y$2<(DATE(YEAR(W24)+1,MONTH(W24),DAY(W24))),Y$2,(DATE(YEAR(W24)+1,MONTH(W24),DAY(W24)))))))))))","v":""},{"$f":"IF(Y25=\"\",\"\",(SUM(MAX(X$6:X24))+1))","v":""},"","",null,null,null,null,null,null,null,null,null,{"$f":"IF(AF$18=\"\",\"\",IF(AF$18=Q$5,Q13,\"\"))","v":""},"","","","","",""]
[null,null,{"$f":"IF(Entry!A40=\"\",\"\",Entry!A40)","v":42095},null,null,{"$f":"Entry!J31","v":0},{"$f":"Entry!K31","v":0},{"$f":"Entry!L31","v":0},null,null,null,"","",{"$f":"IF('RC'!M26=\"\",0,IF(L26=M$3,Entry!H$14,'RC'!N25))","v":0},"","","","",{"$f":"IF(R26=\"\",\"\",IF(Q26=M$3,Entry!D$14,S25))","v":""},0,null,null,{"$f":"IF(W25>=N$1,\"\",IF(W25=\"\",\"\",IF(AND(W25=Y$2,Y$3=\"\"),Y$4,IF(W25=Y$2,Y$3,IF(W25=Y$3,Y$4,IF(Y$4=\"\",(DATE(YEAR(W25)+1,MONTH(W25),DAY(W25))),IF(W25>=Y$4,(DATE(YEAR(W25)+1,MONTH(W25),DAY(W25))),IF(Y$2<(DATE(YEAR(W25)+1,MONTH(W25),DAY(W25))),Y$2,(DATE(YEAR(W25)+1,MONTH(W25),DAY(W25)))))))))))","v":""},{"$f":"IF(Y26=\"\",\"\",(SUM(MAX(X$6:X25))+1))","v":""},"","",null,null,null,null,null,null,null,null,null,null,"","","","","",""]
[null,null,{"$f":"IF(Entry!A41=\"\",\"\",Entry!A41)","v":""},{"$f":"IF(Entry!B40=\"\",\"\",Entry!B40)","v":""},null,{"$f":"Entry!J32","v":0},{"$f":"Entry!K32","v":0},{"$f":"Entry!L32","v":0},null,null,null,"","",{"$f":"IF('RC'!M27=\"\",0,IF(L27=M$3,Entry!H$14,'RC'!N26))","v":0},"","","","",{"$f":"IF(R27=\"\",\"\",IF(Q27=M$3,Entry!D$14,S26))","v":""},0,null,null,"",{"$f":"IF(Y27=\"\",\"\",(SUM(MAX(X$6:X26))+1))","v":""},"","",null,null,null,null,null,{"$f":"AG4","v":"2015-09-04"},{"$f":"Entry!E13","v":18990},{"$f":"ROUNDUP((ROUND((AG27+AG28)*(3%),0)),-1)","v":720},{"$f":"IF(AG27=\"\",\"\",AG27+AH27)","v":19710},{"$f":"IF(AF$27=\"\",\"\",IF(AF$27=Q$21,Q22,\"\"))","v":"2016-07-01"},{"$f":"IF(AJ27=\"\",\"\",INDEX(R$21:R$34,MATCH(AJ27,Q$21:Q$34,0)))","v":""},{"$f":"IF(AJ27=\"\",\"\",INDEX(S$21:S$34,MATCH(AJ27,Q$21:Q$34,0)))","v":""},{"$f":"IF(AJ27=\"\",\"\",SUM(AK27:AL27))","v":0},{"$f":"IF(AJ27=\"\",\"\",INDEX(M$21:M$34,MATCH(AJ27,L$21:L$34,0)))","v":""},{"$f":"IF(AN27=\"\",\"\",INDEX(N$21:N$34,MATCH(AJ27,L$21:L$34,0)))","v":""},{"$f":"IF(AN27=\"\",\"\",SUM(AN27:AO27))","v":""}]
[null,null,{"$f":"IF(Entry!A42=\"\",\"\",Entry!A42)","v":""},{"$f":"IF(Entry!B41=\"\",\"\",Entry!B41)","v":""},null,{"$f":"Entry!J34","v":0},{"$f":"Entry!K34","v":0},{"$f":"Entry!L34","v":0},{"$f":"IF(G28=0,0,G24)","v":0},null,null,"","",{"$f":"IF('RC'!M28=\"\",0,IF(L28=M$3,Entry!H$14,'RC'!N27))","v":0},"","","","",{"$f":"IF(R28=\"\",\"\",IF(Q28=M$3,Entry!D$14,S27))","v":""},0,null,null,"",{"$f":"IF(Y28=\"\",\"\",(SUM(MAX(X$6:X27))+1))","v":""},"","",null,null,null,null,null,{"$f":"AG6","v":5400},{"$f":"Entry!G13","v":4800},{"$f":"AF28-AG28","v":600},{"$f":"IF(AG28=\"\",\"\",AG28+AH28)","v":5400},{"$f":"IF(AF$27=\"\",\"\",IF(AF$27=Q$21,Q23,\"\"))","v":""},{"$f":"IF(AJ28=\"\",\"\",INDEX(R$21:R$34,MATCH(AJ28,Q$21:Q$34,0)))","v":""},{"$f":"IF(AJ28=\"\",\"\",INDEX(S$21:S$34,MATCH(AJ28,Q$21:Q$34,0)))","v":""},{"$f":"IF(AK28=\"\",\"\",SUM(AK28:AL28))","v":""},{"$f":"IF(AJ28=\"\",\"\",INDEX(M$21:M$34,MATCH(AJ28,L$21:L$34,0)))","v":""},{"$f":"IF(AN28=\"\",\"\",INDEX(N$21:N$34,MATCH(AJ28,L$21:L$34,0)))","v":""},{"$f":"IF(AN28=\"\",\"\",SUM(AN28:AO28))","v":""},null,null,null,null,null,null,null,null,null,null,null,null,null,null,null,null,null,null,null,null,null,"Pay Detail For Arrear Calculation",null,null,null,null,null,"Pay Detail For Arrear Calculation"]
[null,null,{"$f":"IF(Entry!A43=\"\",\"\",Entry!A43)","v":""},{"$f":"IF(Entry!B42=\"\",\"\",Entry!B42)","v":""},null,{"$f":"Entry!J35","v":0},{"$f":"Entry!K35","v":0},{"$f":"Entry!L35","v":0},null,null,null,"","",{"$f":"IF('RC'!M29=\"\",0,IF(L29=M$3,Entry!H$14,'RC'!N28))","v":0},"","","","",{"$f":"IF(R29=\"\",\"\",IF(Q29=M$3,Entry!D$14,S28))","v":""},0,null,null,"",{"$f":"IF(Y29=\"\",\"\",(SUM(MAX(X$6:X28))+1))","v":""},"","",null,null,null,null,null,{"$f":"AG8","v":"f}rh;"},{"$f":"SUM(AG27:AG28)","v":23790},null,{"$f":"SUM(AI27:AI28)","v":25110},"","","",{"$f":"IF(AK29=\"\",\"\",SUM(AK29:AL29))","v":""},"","","",null,null," ",null,null,null,null,null,null,null,null,null,null,null,null,null,null,null,"ARREAR PERIOD",null,{"$f":"Entry!C16","v":"2015-09-04"},"to",{"$f":"Entry!F16","v":"2015-10-31"},"Due Pay",null,null,null,"Drawn Pay","ARREAR PERIOD",null,{"$f":"BK29","v":"2015-09-04"},"to",{"$f":"BM29","v":"2015-10-31"}]
[null,null,null,null,null,{"$f":"Entry!J36","v":0},{"$f":"Entry!K36","v":0},{"$f":"Entry!L36","v":0},null,null,null,"","",{"$f":"IF('RC'!M30=\"\",0,IF(L30=M$3,Entry!H$14,'RC'!N29))","v":0},"","","","",{"$f":"IF(R30=\"\",\"\",IF(Q30=M$3,Entry!D$14,S29))","v":""},0,null,null,"",{"$f":"IF(Y30=\"\",\"\",(SUM(MAX(X$6:X29))+1))","v":""},"","",null,null,null,null,null,null,{"$f":"IF(AG28=0,\"\",IF(AG28<=1650,\"4750-7440\",IF(AG28<=2800,\"5200-20200\",IF(AG28<=5400,\"9300-34800\",IF(AG28<=8200,\"15600-39100\")))))","v":"9300-34800"},null,{"$f":"IF(AI28=0,\"\",IF(AI28<=1650,\"4750-7440\",IF(AI28<=2800,\"5200-20200\",IF(AI28<=5400,\"9300-34800\",IF(AI28<=8200,\"15600-39100\")))))","v":"9300-34800"},"","","","","","","",null,null,null,null,null,null,null,null,null,null,null,null,null,null,null,null,null,null,{"$f":"DAY(BJ30)-1","v":3},{"$f":"BK29","v":"2015-09-04"},{"$f":"DATE(YEAR(BJ30),MONTH(BJ30),DAY(1))","v":"2015-09-01"},{"$f":"INDEX(AC5:AC16,MATCH(MONTH(BK30),AB5:AB16))-BI30","v":27},null,null,null,null,null,null,{"$f":"DAY(BT30)-1","v":3},{"$f":"BU29","v":"2015-09-04"},{"$f":"DATE(YEAR(BT30),MONTH(BT30),DAY(1))","v":"2015-09-01"},{"$f":"INDEX(AC5:AC16,MATCH(MONTH(BT30),AB5:AB16))-BS30","v":27}]
[null,null,null,null,null,{"$f":"Entry!J37","v":0},{"$f":"Entry!K37","v":0},{"$f":"Entry!L37","v":0},null,null,null,"",{"$f":"IF(L31=\"\",\"\",IF(M30=\"\",\"\",IF(L31>N$1,\"\",(ROUNDUP((ROUND((O30)*(3%),0)+M30),-1)))))","v":""},{"$f":"IF('RC'!M31=\"\",0,IF(L31=M$3,Entry!H$14,'RC'!N30))","v":0},"","","","",{"$f":"IF(R31=\"\",\"\",IF(Q31=M$3,Entry!D$14,S30))","v":""},0,null,null,"",{"$f":"IF(Y31=\"\",\"\",(SUM(MAX(X$6:X30))+1))","v":""},"","",null,null,null,null,null,null,null,null,null,"","","","","","","",null,null,null,null,null,null,null,null,null,null,null,null,null,null,null,null,null,null,{"$f":"IF(BJ31>BL31,1,\"\")","v":1},{"$f":"IF(AV4=\"\",\"\",IF(AV4=BF$28,BG$28,AV4))","v":"2015-09-04"},null,{"$f":"BK30","v":"2015-09-01"},{"$f":"IF(BL31=\"\",\"\",INDEX(AY$4:AY$21,MATCH(BL31,AX$4:AX$21,1)))","v":25110},null,{"$f":"ROUND(BM31/(BI30+BL30)*BL30,0)","v":22599},null,null,null,{"$f":"IF(BT31>BV31,1,\"\")","v":1},{"$f":"IF(AV4=\"\",\"\",IF(AV4=BF$28,BG$28,AV4))","v":"2015-09-04"},null,{"$f":"BU30","v":"2015-09-01"},{"$f":"IF(BV31=\"\",\"\",IF(BV31<M$3,(INDEX(BG$5:BG$21,MATCH(BV31,BE$5:BE$21,1))),INDEX(BF$5:BF$21,MATCH(BV31,BE$5:BE$21,1))))","v":23790},null,{"$f":"ROUND(BW31/(BS30+BV30)*BV30,0)","v":21411}]
[null,null,null,null,null,null,null,null,null,null,null,"","",{"$f":"IF('RC'!M32=\"\",0,IF(L32=M$3,Entry!H$14,'RC'!N31))","v":0},"","","","",{"$f":"IF(R32=\"\",\"\",IF(Q32=M$3,Entry!D$14,S31))","v":""},0,null,null,"",{"$f":"IF(Y32=\"\",\"\",(SUM(MAX(X$6:X31))+1))","v":""},"","",null,null,null,null,null,null,null,null,null,"","","","","","","",null,null,null,null,null,null,null,null,null,null,null,null,null,null,null,null,null,null,{"$f":"IF(BJ32=\"\",\"\",IF(BJ32>BL$31,(MAX(BI$31:BI31)+1),\"\"))","v":2},{"$f":"IF(AV5=\"\",\"\",IF(AV5=BF$28,BG$28,AV5))","v":"2016-09-01"},null,{"$f":"IF(ISNA(INDEX(BJ$31:BJ$43,MATCH(1,BI$31:BI$43,0))),\"\",INDEX(BJ$31:BJ$43,MATCH(1,BI$31:BI$43,0)))","v":"2015-09-04"},{"$f":"IF(BL32=\"\",\"\",INDEX(AY$4:AY$21,MATCH(BL32,AX$4:AX$21,1)))","v":25110},null,null,null,null,null,{"$f":"IF(BT32=\"\",\"\",IF(BT32>BV$31,(MAX(BS$31:BS31)+1),\"\"))","v":2},{"$f":"IF(AV5=\"\",\"\",IF(AV5=BF$28,BG$28,AV5))","v":"2016-09-01"},null,{"$f":"IF(ISNA(INDEX(BT$31:BT$43,MATCH(1,BS$31:BS$43,0))),\"\",INDEX(BT$31:BT$43,MATCH(1,BS$31:BS$43,0)))","v":"2015-09-04"},23790]
[null,null,{"$f":"Entry!C9","v":"2015-09-04"},{"$f":"Entry!F9","v":5400},{"$f":"Entry!H9","v":18},null,null,null,null,null,null,"","",{"$f":"IF('RC'!M33=\"\",0,IF(L33=M$3,Entry!H$14,'RC'!N32))","v":0},"","","","",{"$f":"IF(R33=\"\",\"\",IF(Q33=M$3,Entry!D$14,S32))","v":""},0,null,null,"",{"$f":"IF(Y33=\"\",\"\",(SUM(MAX(X$6:X32))+1))","v":""},"","",null,null,null,null,null,null,null,null,null,"","","","","","","",null,null,null,null,null,null,null,null,null,null,null,null,null,null,null,null,null,null,{"$f":"IF(BJ33=\"\",\"\",IF(BJ33>BL$31,(MAX(BI$31:BI32)+1),\"\"))","v":3},{"$f":"IF(AV6=\"\",\"\",IF(AV6=BF$28,BG$28,AV6))","v":"2017-09-01"},null,{"$f":"IF(ISNA(INDEX(BJ$31:BJ$43,MATCH(2,BI$31:BI$43,0))),\"\",INDEX(BJ$31:BJ$43,MATCH(2,BI$31:BI$43,0)))","v":"2016-09-01"},{"$f":"IF(BL33=\"\",\"\",INDEX(AY$4:AY$21,MATCH(BL33,AX$4:AX$21,1)))","v":{"$error":"#N/A"}},null,null,null,null,null,{"$f":"IF(BT33=\"\",\"\",IF(BT33>BV$31,(MAX(BS$31:BS32)+1),\"\"))","v":3},{"$f":"IF(AV6=\"\",\"\",IF(AV6=BF$28,BG$28,AV6))","v":"2017-09-01"},null,{"$f":"IF(ISNA(INDEX(BT$31:BT$43,MATCH(2,BS$31:BS$43,0))),\"\",INDEX(BT$31:BT$43,MATCH(2,BS$31:BS$43,0)))","v":"2016-09-01"},23790]
[null,null,null,null,{"$f":"IF(OR(E33=9,E33<17),\"izFke\",IF(OR(E33=18,E33<27),\"f}rh;\",IF(E33>=27,\"r`rh;\")))","v":"f}rh;"},null,null,null,null,null,null,"","",{"$f":"IF('RC'!M34=\"\",0,IF(L34=M$3,Entry!H$14,'RC'!N33))","v":0},"","","","",{"$f":"IF(R34=\"\",\"\",IF(Q34=M$3,Entry!D$14,S33))","v":""},0,null,null,{"$f":"IF(W33>=N$1,\"\",IF(W33=\"\",\"\",IF(AND(W33=Y$2,Y$3=\"\"),Y$4,IF(W33=Y$2,Y$3,IF(W33=Y$3,Y$4,IF(Y$4=\"\",(DATE(YEAR(W33)+1,MONTH(W33),DAY(W33))),IF(W33>=Y$4,(DATE(YEAR(W33)+1,MONTH(W33),DAY(W33))),IF(Y$2<(DATE(YEAR(W33)+1,MONTH(W33),DAY(W33))),Y$2,(DATE(YEAR(W33)+1,MONTH(W33),DAY(W33)))))))))))","v":""},{"$f":"IF(Y34=\"\",\"\",(SUM(MAX(X$6:X33))+1))","v":""},"","",null,null,null,null,null,null,null,null,null,"","","","","","","",null,null,null,null,null,null,null,null,null,null,null,null,null,null,null,null,null,null,{"$f":"IF(BJ34=\"\",\"\",IF(BJ34>BL$31,(MAX(BI$31:BI33)+1),\"\"))","v":""},"",null,{"$f":"IF(ISNA(INDEX(BJ$31:BJ$43,MATCH(3,BI$31:BI$43,0))),\"\",INDEX(BJ$31:BJ$43,MATCH(3,BI$31:BI$43,0)))","v":"2017-09-01"},{"$error":"#N/A"},null,null,null,null,null,{"$f":"IF(BT34=\"\",\"\",IF(BT34>BV$31,(MAX(BS$31:BS33)+1),\"\"))","v":""},"",null,{"$f":"IF(ISNA(INDEX(BT$31:BT$43,MATCH(3,BS$31:BS$43,0))),\"\",INDEX(BT$31:BT$43,MATCH(3,BS$31:BS$43,0)))","v":"2017-09-01"},23790]
[null,null,null,null,null,null,null,null,null,null,null,null,null,null,null,null,null,null,null,null,null,null,"",null,null,null,null,null,null,null,null,null,null,null,null,"","","","","","","",null,null,null,null,null,null,null,null,null,null,null,null,null,null,null,null,null,null,{"$f":"IF(BJ35=\"\",\"\",IF(BJ35>BL$31,(MAX(BI$31:BI34)+1),\"\"))","v":""},"",null,{"$f":"IF(ISNA(INDEX(BJ$31:BJ$43,MATCH(4,BI$31:BI$43,0))),\"\",INDEX(BJ$31:BJ$43,MATCH(4,BI$31:BI$43,0)))","v":""},"",null,null,null,null,null,{"$f":"IF(BT35=\"\",\"\",IF(BT35>BV$31,(MAX(BS$31:BS34)+1),\"\"))","v":""},"",null,{"$f":"IF(ISNA(INDEX(BT$31:BT$43,MATCH(4,BS$31:BS$43,0))),\"\",INDEX(BT$31:BT$43,MATCH(4,BS$31:BS$43,0)))","v":""},""]
[null,null,null,null,null,null,null,null,null,null,null,null,null,null,null,null,null,null,null,null,null,null,"",null,null,null,null,null,null,null,null,null,null,null,null,"","","","","","","",null,null,null,null,null,null,null,null,null,null,null,null,null,null,null,null,null,null,{"$f":"IF(BJ36=\"\",\"\",IF(BJ36>BL$31,(MAX(BI$31:BI35)+1),\"\"))","v":""},"",null,{"$f":"IF(ISNA(INDEX(BJ$31:BJ$43,MATCH(5,BI$31:BI$43,0))),\"\",INDEX(BJ$31:BJ$43,MATCH(5,BI$31:BI$43,0)))","v":""},{"$f":"IF(BL36=\"\",\"\",INDEX(AY$4:AY$21,MATCH(BL36,AX$4:AX$21,1)))","v":""},null,null,null,null,null,{"$f":"IF(BT36=\"\",\"\",IF(BT36>BV$31,(MAX(BS$31:BS35)+1),\"\"))","v":""},"",null,{"$f":"IF(ISNA(INDEX(BT$31:BT$43,MATCH(5,BS$31:BS$43,0))),\"\",INDEX(BT$31:BT$43,MATCH(5,BS$31:BS$43,0)))","v":""},""]
[null,null,null,null,null,null,null,null,null,null,null,null,null,null,null,null,null,null,null,null,null,null,"",null,null,null,null,null,null,null,null,null,null,null,null,"","","","","","","",null,null,null,null,null,null,null,null,null,null,null,null,null,null,null,null,null,null,{"$f":"IF(BJ37=\"\",\"\",IF(BJ37>BL$31,(MAX(BI$31:BI36)+1),\"\"))","v":""},"",null,{"$f":"IF(ISNA(INDEX(BJ$31:BJ$43,MATCH(6,BI$31:BI$43,0))),\"\",INDEX(BJ$31:BJ$43,MATCH(6,BI$31:BI$43,0)))","v":""},{"$f":"IF(BL37=\"\",\"\",INDEX(AY$4:AY$21,MATCH(BL37,AX$4:AX$21,0)))","v":""},null,null,null,null,null,{"$f":"IF(BT37=\"\",\"\",IF(BT37>BV$31,(MAX(BS$31:BS36)+1),\"\"))","v":""},"",null,{"$f":"IF(ISNA(INDEX(BT$31:BT$43,MATCH(6,BS$31:BS$43,0))),\"\",INDEX(BT$31:BT$43,MATCH(6,BS$31:BS$43,0)))","v":""},""]
[null,null,null,null,null,null,null,null,null,null,null,null,null,null,null,null,null,null,null,null,null,null,null,null,null,null,null,null,null,null,null,null,null,null,null,"","","","","","","",null,null,null,null,null,null,null,null,null,null,null,null,null,null,null,null,null,null,{"$f":"IF(BJ38=\"\",\"\",IF(BJ38>BL$31,(MAX(BI$31:BI37)+1),\"\"))","v":""},"",null,{"$f":"IF(ISNA(INDEX(BJ$31:BJ$43,MATCH(7,BI$31:BI$43,0))),\"\",INDEX(BJ$31:BJ$43,MATCH(7,BI$31:BI$43,0)))","v":""},{"$f":"IF(BL38=\"\",\"\",INDEX(AY$4:AY$21,MATCH(BL38,AX$4:AX$21,0)))","v":""},null,null,null,null,null,{"$f":"IF(BT38=\"\",\"\",IF(BT38>BV$31,(MAX(BS$31:BS37)+1),\"\"))","v":""},"",null,{"$f":"IF(ISNA(INDEX(BT$31:BT$43,MATCH(7,BS$31:BS$43,0))),\"\",INDEX(BT$31:BT$43,MATCH(7,BS$31:BS$43,0)))","v":""},""]
[null,null,null,null,null,null,null,null,null,null,null,null,null,null,null,null,null,null,null,null,null,null,null,null,null,null,null,null,null,null,null,null,null,null,null,null,null,null,null,null,null,null,null,null,null,null,null,null,null,null,null,null,null,null,null,null,null,null,null,null,{"$f":"IF(BJ39=\"\",\"\",IF(BJ39>BL$31,(MAX(BI$31:BI38)+1),\"\"))","v":""},"",null,{"$f":"IF(ISNA(INDEX(BJ$31:BJ$43,MATCH(8,BI$31:BI$43,0))),\"\",INDEX(BJ$31:BJ$43,MATCH(8,BI$31:BI$43,0)))","v":""},"",null,null,null,null,null,{"$f":"IF(BT39=\"\",\"\",IF(BT39>BV$31,(MAX(BS$31:BS38)+1),\"\"))","v":""},"",null,{"$f":"IF(ISNA(INDEX(BT$31:BT$43,MATCH(8,BS$31:BS$43,0))),\"\",INDEX(BT$31:BT$43,MATCH(8,BS$31:BS$43,0)))","v":""},""]
[null,null,null,null,null,null,null,null,null,null,null,null,null,null,null,null,null,null,null,null,null,null,null,null,null,null,null,null,null,null,null,null,null,null,null,null,null,null,null,null,null,null,null,null,null,null,null,null,null,null,null,null,null,null,null,null,null,null,null,null,{"$f":"IF(BJ40=\"\",\"\",IF(BJ40>BL$31,(MAX(BI$31:BI39)+1),\"\"))","v":""},"",null,{"$f":"IF(ISNA(INDEX(BJ$31:BJ$43,MATCH(9,BI$31:BI$43,0))),\"\",INDEX(BJ$31:BJ$43,MATCH(9,BI$31:BI$43,0)))","v":""},"",null,null,null,null,null,{"$f":"IF(BT40=\"\",\"\",IF(BT40>BV$31,(MAX(BS$31:BS39)+1),\"\"))","v":""},"",null,{"$f":"IF(ISNA(INDEX(BT$31:BT$43,MATCH(9,BS$31:BS$43,0))),\"\",INDEX(BT$31:BT$43,MATCH(9,BS$31:BS$43,0)))","v":""},""]
[null,null,null,null,null,null,null,null,null,null,null,null,null,null,null,null,null,null,null,null,null,null,null,null,null,null,null,null,null,null,null,null,null,null,null,null,null,null,null,null,null,null,null,null,null,null,null,null,null,null,null,null,null,null,null,null,null,null,null,null,{"$f":"IF(BJ41=\"\",\"\",IF(BJ41>BL$31,(MAX(BI$31:BI40)+1),\"\"))","v":""},"",null,{"$f":"IF(ISNA(INDEX(BJ$31:BJ$43,MATCH(10,BI$31:BI$43,0))),\"\",INDEX(BJ$31:BJ$43,MATCH(10,BI$31:BI$43,0)))","v":""},"",null,null,null,null,null,{"$f":"IF(BT41=\"\",\"\",IF(BT41>BV$31,(MAX(BS$31:BS40)+1),\"\"))","v":""},"",null,{"$f":"IF(ISNA(INDEX(BT$31:BT$43,MATCH(10,BS$31:BS$43,0))),\"\",INDEX(BT$31:BT$43,MATCH(10,BS$31:BS$43,0)))","v":""},""]
[null,null,null,null,null,null,null,null,null,null,null,null,null,null,null,null,null,null,null,null,null,null,null,null,null,null,null,null,null,null,null,null,null,null,null,null,null,null,null,null,null,null,null,null,null,null,null,null,null,null,null,null,null,null,null,null,null,null,null,null,{"$f":"IF(BJ42=\"\",\"\",IF(BJ42>BL$31,(MAX(BI$31:BI41)+1),\"\"))","v":""},"",null,{"$f":"IF(ISNA(INDEX(BJ$31:BJ$43,MATCH(11,BI$31:BI$43,0))),\"\",INDEX(BJ$31:BJ$43,MATCH(11,BI$31:BI$43,0)))","v":""},"",null,null,null,null,null,{"$f":"IF(BT42=\"\",\"\",IF(BT42>BV$31,(MAX(BS$31:BS41)+1),\"\"))","v":""},"",null,{"$f":"IF(ISNA(INDEX(BT$31:BT$43,MATCH(11,BS$31:BS$43,0))),\"\",INDEX(BT$31:BT$43,MATCH(11,BS$31:BS$43,0)))","v":""},""]
[null,null,null,null,null,null,null,null,null,null,null,null,null,null,null,null,null,null,null,null,null,null,null,null,null,null,null,null,null,null,null,null,null,null,null,null,null,null,null,null,null,null,null,null,null,null,null,null,null,null,null,null,null,null,null,null,null,null,null,null,{"$f":"IF(BJ43=\"\",\"\",IF(BJ43>BL$31,(MAX(BI$31:BI42)+1),\"\"))","v":""},"",null,{"$f":"IF(ISNA(INDEX(BJ$31:BJ$43,MATCH(12,BI$31:BI$43,0))),\"\",INDEX(BJ$31:BJ$43,MATCH(12,BI$31:BI$43,0)))","v":""},"",null,null,null,null,null,{"$f":"IF(BT43=\"\",\"\",IF(BT43>BV$31,(MAX(BS$31:BS42)+1),\"\"))","v":""},"",null,{"$f":"IF(ISNA(INDEX(BT$31:BT$43,MATCH(12,BS$31:BS$43,0))),\"\",INDEX(BT$31:BT$43,MATCH(12,BS$31:BS$43,0)))","v":""},""]
[null,null,null,null,null,null,null,null,null,null,null,null,null,null,null,null,null,null,null,null,null,null,null,null,null,null,null,null,null,null,null,null,null,null,null,null,null,null,null,null,null,null,null,null,null,null,null,null,null,null,null,null,null,null,null,null,null,null,null,null,null,null,null,null,null,null,null,null,null,null,null,null,null,null,null,null,null,null,null,null,null,null,null,null,null,null,null,null,null,"DA",null,null,null,null,null,null,null,null,null,null,null,null,null,null,null,null,null,null,null,{"$f":"Entry!B28","v":"N"},{"$f":"IF(Entry!B28=\"Y\",\"ECpenF\",\"GPF\")","v":"GPF"}]
[null,null,null,null,null,null,null,null,null,null,null,null,null,null,null,null,null,null,null,null,null,null,null,null,null,null,null,null,null,null,null,null,null,null,null,null,null,null,null,null,null,null,null,null,null,null,null,null,null,null,null,null,null,{"$f":"IF(BB44=\"\",\"\",IF((DATE(YEAR(BB44)+1,MONTH(BB44),DAY(BB44)))>(IF(AX$35=\"\",BB$23,BB$24)),\"\",(DATE(YEAR(BB44)+1,MONTH(BB44),DAY(BB44)))))","v":""},{"$f":"IF(BB45=\"\",\"\",INDEX(O31:O44,MATCH(BB45,L31:L44,0)))","v":""},null,null,null,null,null,"CALCULATION"]
[null,null,null,null,null,null,null,null,null,null,null,null,null,null,null,null,null,null,null,null,null,null,null,null,null,null,null,null,null,null,null,null,null,null,null,null,null,null,null,null,null,null,null,null,null,null,null,null,null,null,null,null,null,"","",null,null,null,null,null,"Month","Amount Due",null,null,null,null,null,"Amount Drawn",null,null,null,null,null,"Amount to Be Drawn",null,null,null,null,null,"Deducations",null,null,null,null,null,"NET ","Due","Ded",null,null,null,"Due","DRAWN","GPF",null,"DA",null,"DUE GPF","Ded GPF",null,null,null,null,null,null,"CCA","CCA","CCA","CCA"]
[null,null,null,null,null,null,null,null,null,null,null,null,null,null,null,null,null,null,null,null,null,null,null,null,null,null,null,null,null,null,null,null,null,null,null,null,null,null,null,null,null,null,null,null,null,null,null,null,null,null,null,null,null,"",null,null,null,"DU","DR",null,null,"Band Pay","DA","CCA","HRA",null,"Total","Band Pay","DA","CCA","HRA",null,"Total","Band Pay","DA","CCA","HRA",null,"Total",{"$f":"IF(D14=\"Y\",C14,\"GPF\")","v":"GPF"},"RPMF","SI",null,"I TAX","Total","PAYMENT","Ecpenf ","Ecpenf ",null,null,null,"PAY","PAY","DUE","DED","Due","DA",null,null,"RPMF",null,null,"S.Ins",null,null,"A","B","A","B"]
[null,null,null,null,null,null,null,null,null,null,null,null,null,null,null,null,null,null,null,null,null,null,null,null,null,null,null,null,null,null,null,null,null,null,null,null,null,null,null,null,null,null,null,null,null,null,null,null,null,null,null,null,null,"",null,null,null,{"$f":"(BH48)-(IF(BI48=Entry!C$31,Entry!D$31/2+Entry!E$31,IF(BI48=Entry!C$32,Entry!D$32/2+Entry!E$32,IF(BI48=Entry!C$33,Entry!D$33/2+Entry!E$33,IF(BI48=Entry!C$34,Entry!D$34/2+Entry!E$34,IF(BI48=Entry!C$35,Entry!D$35/2+Entry!E$35,IF(BI48=Entry!C$36,Entry!D$36/2+Entry!E$36,IF(BI48=Entry!C$37,Entry!D$37/2+Entry!E$37))))))))","v":31},{"$f":"(BH48)-(IF(BI48=Entry!G$31,Entry!H$31/2+Entry!I$31,IF(BI48=Entry!G$32,Entry!H$32/2+Entry!I$32,IF(BI48=Entry!G$33,Entry!H$33/2+Entry!I$33,IF(BI48=Entry!G$34,Entry!H$34/2+Entry!I$34,IF(BI48=Entry!G$35,Entry!H$35/2+Entry!I$35,IF(BI48=Entry!G$36,Entry!H$36/2+Entry!I$36,IF(BI48=Entry!G$37,Entry!H$37/2+Entry!I$37))))))))","v":31},31,"2007-01-01",{"$f":"ROUND(IF(BI48>=BM$29,0,IF(AND(BI48=BL$31,BM$31>BO$31),BO$31,IF(AND(BI48>BL$31,BI48<BL$32),BO$31,IF(ISERROR(INDEX(BM$31:BM$43,MATCH(BI48,BL$31:BL$43))),0,INDEX(BM$31:BM$43,MATCH(BI48,BL$31:BL$43)))))/BH48*BF48),0)","v":0},{"$f":"IF(D$4=\"N\",0,(ROUND((BJ48)*(CL48%),0)))","v":0},null,null,null,{"$f":"SUM(BJ48:BM48)","v":0},{"$f":"ROUND(IF(BI48>=BW$29,0,IF(AND(BI48=BV$31,BW$31>BY$31),BY$31,IF(AND(BI48>BV$31,BI48<BV$32),BY$32,IF(ISERROR(INDEX(BW$31:BW$43,MATCH(BI48,BV$31:BV$43))),0,INDEX(BW$31:BW$43,MATCH(BI48,BV$31:BV$43)))))/BH48*BG48),0)","v":0},{"$f":"IF(D$4=\"N\",0,(ROUND((BP48)*(CL48%),0)))","v":0},null,null,null,{"$f":"SUM(BP48:BS48)","v":0},{"$f":"BJ48-BP48","v":0},{"$f":"BK48-BQ48","v":0},null,{"$f":"BM48-BS48","v":0},null,{"$f":"SUM(BV48:BY48)","v":0},{"$f":"IF(CB$47=\"ECpenF\",CI48,0)","v":0},null,0,null,{"$f":"ROUND(CA48*(D$16%),0)","v":0},{"$f":"SUM(CB48:CF48)","v":0},{"$f":"CA48-CG48","v":0},{"$f":"ROUND((BJ48+BK48)*10%,0)","v":0},{"$f":"ROUND((BP48+BQ48)*10%,0)","v":0},null,6,{"$f":"BI48","v":"2007-01-01"},{"$f":"IF(BJ48=0,0,(IF(ISNA(LOOKUP(BI48,BL$31:BL$43,BM$31:BM$43)),0,LOOKUP(BI48,BL$31:BL$43,BM$31:BM$43))))","v":0},{"$f":"(IF(BJ48=0,0,(LOOKUP(BI48,BV$31:BV$43,BW$31:BW$43))))","v":0},null,null,null,null,{"$f":"CP48+CR48","v":0},{"$f":"CQ48+CS48","v":0},null,null,null,null,null,null,"Due","Due","Drawn","Drawn",null,{"$f":"IF(DF$44=\"Y\",CI48,CT48)","v":0},{"$f":"IF(DF$44=\"Y\",CJ48,CU48)","v":0}]
[null,null,null,null,null,null,null,null,null,null,null,null,null,null,null,null,null,null,null,null,null,null,null,null,null,null,null,null,null,null,null,null,null,null,null,null,null,null,null,null,null,null,null,null,null,null,null,null,null,null,null,null,null,null,null,null,null,{"$f":"(BH49)-(IF(BI49=Entry!C$31,Entry!D$31/2+Entry!E$31,IF(BI49=Entry!C$32,Entry!D$32/2+Entry!E$32,IF(BI49=Entry!C$33,Entry!D$33/2+Entry!E$33,IF(BI49=Entry!C$34,Entry!D$34/2+Entry!E$34,IF(BI49=Entry!C$35,Entry!D$35/2+Entry!E$35,IF(BI49=Entry!C$36,Entry!D$36/2+Entry!E$36,IF(BI49=Entry!C$37,Entry!D$37/2+Entry!E$37))))))))","v":28},{"$f":"(BH49)-(IF(BI49=Entry!G$31,Entry!H$31/2+Entry!I$31,IF(BI49=Entry!G$32,Entry!H$32/2+Entry!I$32,IF(BI49=Entry!G$33,Entry!H$33/2+Entry!I$33,IF(BI49=Entry!G$34,Entry!H$34/2+Entry!I$34,IF(BI49=Entry!G$35,Entry!H$35/2+Entry!I$35,IF(BI49=Entry!G$36,Entry!H$36/2+Entry!I$36,IF(BI49=Entry!G$37,Entry!H$37/2+Entry!I$37))))))))","v":28},28,"2007-02-01",{"$f":"ROUND(IF(BI49>=BM$29,0,IF(AND(BI49=BL$31,BM$31>BO$31),BO$31,IF(BI48=BL$31,BM$31,IF(ISERROR(INDEX(BM$31:BM$43,MATCH(BI49,BL$31:BL$43))),BJ48,INDEX(BM$31:BM$43,MATCH(BI49,BL$31:BL$43)))))/BH49*BF49),0)","v":0},0,null,null,null,0,{"$f":"ROUND(IF(BI49>=BW$29,0,IF(AND(BI49=BV$31,BW$31>BY$31),BY$31,IF(BI48=BV$31,BW$31,IF(ISERROR(INDEX(BW$31:BW$43,MATCH(BI49,BV$31:BV$43))),BJ48,INDEX(BW$31:BW$43,MATCH(BI49,BV$31:BV$43)))))/BH49*BG49),0)","v":0},0,null,null,null,0,0,0,null,0,null,0,0,null,{"$f":"IF(MONTH(BI49)=3,DA49,CD48)","v":0},null,0,0,0,{"$f":"ROUND((BJ49+BK49)*10%,0)","v":0},{"$f":"ROUND((BP49+BQ49)*10%,0)","v":0},null,6,"2007-02-01",{"$f":"IF(BJ49=0,0,(IF(ISNA(LOOKUP(BI49,BL$31:BL$43,BM$31:BM$43)),0,LOOKUP(BI49,BL$31:BL$43,BM$31:BM$43))))","v":0},{"$f":"(IF(BJ49=0,0,(LOOKUP(BI49,BV$31:BV$43,BW$31:BW$43))))","v":0},null,null,null,null,{"$f":"CP49+CR49","v":0},{"$f":"CQ49+CS49","v":0},null,null,null,null,null,null,null,null,null,null,null,{"$f":"IF(DF$44=\"Y\",CI49,CT49)","v":0},{"$f":"IF(DF$44=\"Y\",CJ49,CU49)","v":0}]
[null,null,null,null,null,null,null,null,null,null,null,null,null,null,null,null,null,null,null,null,null,null,null,null,null,null,null,null,null,null,null,null,null,null,null,null,null,null,null,null,null,null,null,null,null,null,null,null,null,null,null,null,null,null,null,null,null,{"$f":"(BH50)-(IF(BI50=Entry!C$31,Entry!D$31/2+Entry!E$31,IF(BI50=Entry!C$32,Entry!D$32/2+Entry!E$32,IF(BI50=Entry!C$33,Entry!D$33/2+Entry!E$33,IF(BI50=Entry!C$34,Entry!D$34/2+Entry!E$34,IF(BI50=Entry!C$35,Entry!D$35/2+Entry!E$35,IF(BI50=Entry!C$36,Entry!D$36/2+Entry!E$36,IF(BI50=Entry!C$37,Entry!D$37/2+Entry!E$37))))))))","v":31},{"$f":"(BH50)-(IF(BI50=Entry!G$31,Entry!H$31/2+Entry!I$31,IF(BI50=Entry!G$32,Entry!H$32/2+Entry!I$32,IF(BI50=Entry!G$33,Entry!H$33/2+Entry!I$33,IF(BI50=Entry!G$34,Entry!H$34/2+Entry!I$34,IF(BI50=Entry!G$35,Entry!H$35/2+Entry!I$35,IF(BI50=Entry!G$36,Entry!H$36/2+Entry!I$36,IF(BI50=Entry!G$37,Entry!H$37/2+Entry!I$37))))))))","v":31},31,"2007-03-01",{"$f":"ROUND(IF(BI50>=BM$29,0,IF(AND(BI50=BL$31,BM$31>BO$31),BO$31,IF(BI49=BL$31,BM$31,IF(ISERROR(INDEX(BM$31:BM$43,MATCH(BI50,BL$31:BL$43))),BJ49,INDEX(BM$31:BM$43,MATCH(BI50,BL$31:BL$43)))))/BH50*BF50),0)","v":0},0,null,null,null,0,{"$f":"ROUND(IF(BI50>=BW$29,0,IF(AND(BI50=BV$31,BW$31>BY$31),BY$31,IF(BI49=BV$31,BW$31,IF(ISERROR(INDEX(BW$31:BW$43,MATCH(BI50,BV$31:BV$43))),BJ49,INDEX(BW$31:BW$43,MATCH(BI50,BV$31:BV$43)))))/BH50*BG50),0)","v":0},0,null,null,null,0,0,0,null,0,null,0,0,null,0,null,0,0,0,0,0,null,6,"2007-03-01",0,0,null,null,null,null,0,0,null,null,null,null,null,null,null,null,null,null,null,0,0]
[null,null,null,null,null,null,null,null,null,null,null,null,null,null,null,null,null,null,null,null,null,null,null,null,null,null,null,null,null,null,null,null,null,null,null,null,null,null,null,null,null,null,null,null,null,null,null,null,null,null,null,null,null,null,null,null,null,{"$f":"(BH51)-(IF(BI51=Entry!C$31,Entry!D$31/2+Entry!E$31,IF(BI51=Entry!C$32,Entry!D$32/2+Entry!E$32,IF(BI51=Entry!C$33,Entry!D$33/2+Entry!E$33,IF(BI51=Entry!C$34,Entry!D$34/2+Entry!E$34,IF(BI51=Entry!C$35,Entry!D$35/2+Entry!E$35,IF(BI51=Entry!C$36,Entry!D$36/2+Entry!E$36,IF(BI51=Entry!C$37,Entry!D$37/2+Entry!E$37))))))))","v":30},{"$f":"(BH51)-(IF(BI51=Entry!G$31,Entry!H$31/2+Entry!I$31,IF(BI51=Entry!G$32,Entry!H$32/2+Entry!I$32,IF(BI51=Entry!G$33,Entry!H$33/2+Entry!I$33,IF(BI51=Entry!G$34,Entry!H$34/2+Entry!I$34,IF(BI51=Entry!G$35,Entry!H$35/2+Entry!I$35,IF(BI51=Entry!G$36,Entry!H$36/2+Entry!I$36,IF(BI51=Entry!G$37,Entry!H$37/2+Entry!I$37))))))))","v":30},30,"2007-04-01",0,0,null,null,null,0,0,0,null,null,null,0,0,0,null,0,null,0,0,null,0,null,0,0,0,0,0,null,6,"2007-04-01",0,0,null,null,null,null,0,0,null,null,null,null,null,null,null,null,null,null,null,0,0]
[null,null,null,null,null,null,null,null,null,null,null,null,null,null,null,null,null,null,null,null,null,null,null,null,null,null,null,null,null,null,null,null,null,null,null,null,null,null,null,null,null,null,null,null,null,null,null,null,null,null,null,null,null,null,null,null,null,{"$f":"(BH52)-(IF(BI52=Entry!C$31,Entry!D$31/2+Entry!E$31,IF(BI52=Entry!C$32,Entry!D$32/2+Entry!E$32,IF(BI52=Entry!C$33,Entry!D$33/2+Entry!E$33,IF(BI52=Entry!C$34,Entry!D$34/2+Entry!E$34,IF(BI52=Entry!C$35,Entry!D$35/2+Entry!E$35,IF(BI52=Entry!C$36,Entry!D$36/2+Entry!E$36,IF(BI52=Entry!C$37,Entry!D$37/2+Entry!E$37))))))))","v":31},{"$f":"(BH52)-(IF(BI52=Entry!G$31,Entry!H$31/2+Entry!I$31,IF(BI52=Entry!G$32,Entry!H$32/2+Entry!I$32,IF(BI52=Entry!G$33,Entry!H$33/2+Entry!I$33,IF(BI52=Entry!G$34,Entry!H$34/2+Entry!I$34,IF(BI52=Entry!G$35,Entry!H$35/2+Entry!I$35,IF(BI52=Entry!G$36,Entry!H$36/2+Entry!I$36,IF(BI52=Entry!G$37,Entry!H$37/2+Entry!I$37))))))))","v":31},31,"2007-05-01",0,0,null,null,null,0,0,0,null,null,null,0,0,0,null,0,null,0,0,null,0,null,0,0,0,0,0,null,6,"2007-05-01",0,0,null,null,null,null,0,0,null,null,null,null,null,null,null,null,null,null,null,0,0]
[null,null,null,null,null,null,null,null,null,null,null,null,null,null,null,null,null,null,null,null,null,null,null,null,null,null,null,null,null,null,null,null,null,null,null,null,null,null,null,null,null,null,null,null,null,null,null,null,null,null,null,null,null,null,null,null,null,{"$f":"(BH53)-(IF(BI53=Entry!C$31,Entry!D$31/2+Entry!E$31,IF(BI53=Entry!C$32,Entry!D$32/2+Entry!E$32,IF(BI53=Entry!C$33,Entry!D$33/2+Entry!E$33,IF(BI53=Entry!C$34,Entry!D$34/2+Entry!E$34,IF(BI53=Entry!C$35,Entry!D$35/2+Entry!E$35,IF(BI53=Entry!C$36,Entry!D$36/2+Entry!E$36,IF(BI53=Entry!C$37,Entry!D$37/2+Entry!E$37))))))))","v":30},{"$f":"(BH53)-(IF(BI53=Entry!G$31,Entry!H$31/2+Entry!I$31,IF(BI53=Entry!G$32,Entry!H$32/2+Entry!I$32,IF(BI53=Entry!G$33,Entry!H$33/2+Entry!I$33,IF(BI53=Entry!G$34,Entry!H$34/2+Entry!I$34,IF(BI53=Entry!G$35,Entry!H$35/2+Entry!I$35,IF(BI53=Entry!G$36,Entry!H$36/2+Entry!I$36,IF(BI53=Entry!G$37,Entry!H$37/2+Entry!I$37))))))))","v":30},30,"2007-06-01",0,0,null,null,null,0,0,0,null,null,null,0,0,0,null,0,null,0,0,null,0,null,0,0,0,0,0,null,6,"2007-06-01",0,0,null,null,null,null,0,0,null,null,null,null,null,null,null,null,null,null,null,0,0]
[null,null,null,null,null,null,null,null,null,null,null,null,null,null,null,null,null,null,null,null,null,null,null,null,null,null,null,null,null,null,null,null,null,null,null,null,null,null,null,null,null,null,null,null,null,null,null,null,null,null,null,null,null,null,null,null,null,{"$f":"(BH54)-(IF(BI54=Entry!C$31,Entry!D$31/2+Entry!E$31,IF(BI54=Entry!C$32,Entry!D$32/2+Entry!E$32,IF(BI54=Entry!C$33,Entry!D$33/2+Entry!E$33,IF(BI54=Entry!C$34,Entry!D$34/2+Entry!E$34,IF(BI54=Entry!C$35,Entry!D$35/2+Entry!E$35,IF(BI54=Entry!C$36,Entry!D$36/2+Entry!E$36,IF(BI54=Entry!C$37,Entry!D$37/2+Entry!E$37))))))))","v":31},{"$f":"(BH54)-(IF(BI54=Entry!G$31,Entry!H$31/2+Entry!I$31,IF(BI54=Entry!G$32,Entry!H$32/2+Entry!I$32,IF(BI54=Entry!G$33,Entry!H$33/2+Entry!I$33,IF(BI54=Entry!G$34,Entry!H$34/2+Entry!I$34,IF(BI54=Entry!G$35,Entry!H$35/2+Entry!I$35,IF(BI54=Entry!G$36,Entry!H$36/2+Entry!I$36,IF(BI54=Entry!G$37,Entry!H$37/2+Entry!I$37))))))))","v":31},31,"2007-07-01",0,0,null,null,null,0,0,0,null,null,null,0,0,0,null,0,null,0,0,null,0,null,0,0,0,0,0,null,9,"2007-07-01",0,0,null,null,null,null,0,0,null,null,null,null,null,null,null,null,null,null,null,0,0]
[null,null,null,null,null,null,null,null,null,null,null,null,null,null,null,null,null,null,null,null,null,null,null,null,null,null,null,null,null,null,null,null,null,null,null,null,null,null,null,null,null,null,null,null,null,null,null,null,null,null,null,null,null,null,null,null,null,{"$f":"(BH55)-(IF(BI55=Entry!C$31,Entry!D$31/2+Entry!E$31,IF(BI55=Entry!C$32,Entry!D$32/2+Entry!E$32,IF(BI55=Entry!C$33,Entry!D$33/2+Entry!E$33,IF(BI55=Entry!C$34,Entry!D$34/2+Entry!E$34,IF(BI55=Entry!C$35,Entry!D$35/2+Entry!E$35,IF(BI55=Entry!C$36,Entry!D$36/2+Entry!E$36,IF(BI55=Entry!C$37,Entry!D$37/2+Entry!E$37))))))))","v":31},{"$f":"(BH55)-(IF(BI55=Entry!G$31,Entry!H$31/2+Entry!I$31,IF(BI55=Entry!G$32,Entry!H$32/2+Entry!I$32,IF(BI55=Entry!G$33,Entry!H$33/2+Entry!I$33,IF(BI55=Entry!G$34,Entry!H$34/2+Entry!I$34,IF(BI55=Entry!G$35,Entry!H$35/2+Entry!I$35,IF(BI55=Entry!G$36,Entry!H$36/2+Entry!I$36,IF(BI55=Entry!G$37,Entry!H$37/2+Entry!I$37))))))))","v":31},31,"2007-08-01",0,0,null,null,null,0,0,0,null,null,null,0,0,0,null,0,null,0,0,null,0,null,0,0,0,0,0,null,9,"2007-08-01",0,0,null,null,null,null,0,0,null,null,null,null,null,null,null,null,null,null,null,0,0]
[null,null,null,null,null,null,null,null,null,null,null,null,null,null,null,null,null,null,null,null,null,null,null,null,null,null,null,null,null,null,null,null,null,null,null,null,null,null,null,null,null,null,null,null,null,null,null,null,null,null,null,null,null,null,null,null,null,{"$f":"(BH56)-(IF(BI56=Entry!C$31,Entry!D$31/2+Entry!E$31,IF(BI56=Entry!C$32,Entry!D$32/2+Entry!E$32,IF(BI56=Entry!C$33,Entry!D$33/2+Entry!E$33,IF(BI56=Entry!C$34,Entry!D$34/2+Entry!E$34,IF(BI56=Entry!C$35,Entry!D$35/2+Entry!E$35,IF(BI56=Entry!C$36,Entry!D$36/2+Entry!E$36,IF(BI56=Entry!C$37,Entry!D$37/2+Entry!E$37))))))))","v":30},{"$f":"(BH56)-(IF(BI56=Entry!G$31,Entry!H$31/2+Entry!I$31,IF(BI56=Entry!G$32,Entry!H$32/2+Entry!I$32,IF(BI56=Entry!G$33,Entry!H$33/2+Entry!I$33,IF(BI56=Entry!G$34,Entry!H$34/2+Entry!I$34,IF(BI56=Entry!G$35,Entry!H$35/2+Entry!I$35,IF(BI56=Entry!G$36,Entry!H$36/2+Entry!I$36,IF(BI56=Entry!G$37,Entry!H$37/2+Entry!I$37))))))))","v":30},30,"2007-09-01",0,0,null,null,null,0,0,0,null,null,null,0,0,0,null,0,null,0,0,null,0,null,0,0,0,0,0,null,9,"2007-09-01",0,0,null,null,null,null,0,0,null,null,null,null,null,null,null,null,null,null,null,0,0]
[null,null,null,null,null,null,null,null,null,null,null,null,null,null,null,null,null,null,null,null,null,null,null,null,null,null,null,null,null,null,null,null,null,null,null,null,null,null,null,null,null,null,null,null,null,null,null,null,null,null,null,null,null,null,null,null,null,{"$f":"(BH57)-(IF(BI57=Entry!C$31,Entry!D$31/2+Entry!E$31,IF(BI57=Entry!C$32,Entry!D$32/2+Entry!E$32,IF(BI57=Entry!C$33,Entry!D$33/2+Entry!E$33,IF(BI57=Entry!C$34,Entry!D$34/2+Entry!E$34,IF(BI57=Entry!C$35,Entry!D$35/2+Entry!E$35,IF(BI57=Entry!C$36,Entry!D$36/2+Entry!E$36,IF(BI57=Entry!C$37,Entry!D$37/2+Entry!E$37))))))))","v":31},{"$f":"(BH57)-(IF(BI57=Entry!G$31,Entry!H$31/2+Entry!I$31,IF(BI57=Entry!G$32,Entry!H$32/2+Entry!I$32,IF(BI57=Entry!G$33,Entry!H$33/2+Entry!I$33,IF(BI57=Entry!G$34,Entry!H$34/2+Entry!I$34,IF(BI57=Entry!G$35,Entry!H$35/2+Entry!I$35,IF(BI57=Entry!G$36,Entry!H$36/2+Entry!I$36,IF(BI57=Entry!G$37,Entry!H$37/2+Entry!I$37))))))))","v":31},31,"2007-10-01",0,0,null,null,null,0,0,0,null,null,null,0,0,0,null,0,null,0,0,null,0,null,0,0,0,0,0,null,9,"2007-10-01",0,0,null,null,null,null,0,0,null,null,null,null,null,null,null,null,null,null,null,0,0]
[null,null,null,null,null,null,null,null,null,null,null,null,null,null,null,null,null,null,null,null,null,null,null,null,null,null,null,null,null,null,null,null,null,null,null,null,null,null,null,null,null,null,null,null,null,null,null,null,null,null,null,null,null,null,null,null,null,{"$f":"(BH58)-(IF(BI58=Entry!C$31,Entry!D$31/2+Entry!E$31,IF(BI58=Entry!C$32,Entry!D$32/2+Entry!E$32,IF(BI58=Entry!C$33,Entry!D$33/2+Entry!E$33,IF(BI58=Entry!C$34,Entry!D$34/2+Entry!E$34,IF(BI58=Entry!C$35,Entry!D$35/2+Entry!E$35,IF(BI58=Entry!C$36,Entry!D$36/2+Entry!E$36,IF(BI58=Entry!C$37,Entry!D$37/2+Entry!E$37))))))))","v":30},{"$f":"(BH58)-(IF(BI58=Entry!G$31,Entry!H$31/2+Entry!I$31,IF(BI58=Entry!G$32,Entry!H$32/2+Entry!I$32,IF(BI58=Entry!G$33,Entry!H$33/2+Entry!I$33,IF(BI58=Entry!G$34,Entry!H$34/2+Entry!I$34,IF(BI58=Entry!G$35,Entry!H$35/2+Entry!I$35,IF(BI58=Entry!G$36,Entry!H$36/2+Entry!I$36,IF(BI58=Entry!G$37,Entry!H$37/2+Entry!I$37))))))))","v":30},30,"2007-11-01",0,0,null,null,null,0,0,0,null,null,null,0,0,0,null,0,null,0,0,null,0,null,0,0,0,0,0,null,9,"2007-11-01",0,0,null,null,null,null,null,null,null,null,null,null,null,null,null,null,null,null,null,0,0]
[null,null,null,null,null,null,null,null,null,null,null,null,null,null,null,null,null,null,null,null,null,null,null,null,null,null,null,null,null,null,null,null,null,null,null,null,null,null,null,null,null,null,null,null,null,null,null,null,null,null,null,null,null,null,null,null,null,{"$f":"(BH59)-(IF(BI59=Entry!C$31,Entry!D$31/2+Entry!E$31,IF(BI59=Entry!C$32,Entry!D$32/2+Entry!E$32,IF(BI59=Entry!C$33,Entry!D$33/2+Entry!E$33,IF(BI59=Entry!C$34,Entry!D$34/2+Entry!E$34,IF(BI59=Entry!C$35,Entry!D$35/2+Entry!E$35,IF(BI59=Entry!C$36,Entry!D$36/2+Entry!E$36,IF(BI59=Entry!C$37,Entry!D$37/2+Entry!E$37))))))))","v":31},{"$f":"(BH59)-(IF(BI59=Entry!G$31,Entry!H$31/2+Entry!I$31,IF(BI59=Entry!G$32,Entry!H$32/2+Entry!I$32,IF(BI59=Entry!G$33,Entry!H$33/2+Entry!I$33,IF(BI59=Entry!G$34,Entry!H$34/2+Entry!I$34,IF(BI59=Entry!G$35,Entry!H$35/2+Entry!I$35,IF(BI59=Entry!G$36,Entry!H$36/2+Entry!I$36,IF(BI59=Entry!G$37,Entry!H$37/2+Entry!I$37))))))))","v":31},31,"2007-12-01",0,0,null,null,null,0,0,0,null,null,null,0,0,0,null,0,null,0,0,null,0,null,0,0,0,0,0,null,9,"2007-12-01",0,0,null,null,null,null,null,null,null,null,null,null,null,null,null,null,null,null,null,0,0]
[null,null,null,null,null,null,null,null,null,null,null,null,null,null,null,null,null,null,null,null,null,null,null,null,null,null,null,null,null,null,null,null,null,null,null,null,null,null,null,null,null,null,null,null,null,null,null,null,null,null,null,null,null,null,null,null,null,{"$f":"(BH60)-(IF(BI60=Entry!C$31,Entry!D$31/2+Entry!E$31,IF(BI60=Entry!C$32,Entry!D$32/2+Entry!E$32,IF(BI60=Entry!C$33,Entry!D$33/2+Entry!E$33,IF(BI60=Entry!C$34,Entry!D$34/2+Entry!E$34,IF(BI60=Entry!C$35,Entry!D$35/2+Entry!E$35,IF(BI60=Entry!C$36,Entry!D$36/2+Entry!E$36,IF(BI60=Entry!C$37,Entry!D$37/2+Entry!E$37))))))))","v":31},{"$f":"(BH60)-(IF(BI60=Entry!G$31,Entry!H$31/2+Entry!I$31,IF(BI60=Entry!G$32,Entry!H$32/2+Entry!I$32,IF(BI60=Entry!G$33,Entry!H$33/2+Entry!I$33,IF(BI60=Entry!G$34,Entry!H$34/2+Entry!I$34,IF(BI60=Entry!G$35,Entry!H$35/2+Entry!I$35,IF(BI60=Entry!G$36,Entry!H$36/2+Entry!I$36,IF(BI60=Entry!G$37,Entry!H$37/2+Entry!I$37))))))))","v":31},31,"2008-01-01",0,0,null,null,null,0,0,0,null,null,null,0,0,0,null,0,null,0,0,null,0,null,0,0,0,0,0,null,12,"2008-01-01",0,0,null,null,null,null,null,null,null,null,null,null,null,null,null,null,null,null,null,0,0]
[null,null,null,null,null,null,null,null,null,null,null,null,null,null,null,null,null,null,null,null,null,null,null,null,null,null,null,null,null,null,null,null,null,null,null,null,null,null,null,null,null,null,null,null,null,null,null,null,null,null,null,null,null,null,null,null,null,{"$f":"(BH61)-(IF(BI61=Entry!C$31,Entry!D$31/2+Entry!E$31,IF(BI61=Entry!C$32,Entry!D$32/2+Entry!E$32,IF(BI61=Entry!C$33,Entry!D$33/2+Entry!E$33,IF(BI61=Entry!C$34,Entry!D$34/2+Entry!E$34,IF(BI61=Entry!C$35,Entry!D$35/2+Entry!E$35,IF(BI61=Entry!C$36,Entry!D$36/2+Entry!E$36,IF(BI61=Entry!C$37,Entry!D$37/2+Entry!E$37))))))))","v":29},{"$f":"(BH61)-(IF(BI61=Entry!G$31,Entry!H$31/2+Entry!I$31,IF(BI61=Entry!G$32,Entry!H$32/2+Entry!I$32,IF(BI61=Entry!G$33,Entry!H$33/2+Entry!I$33,IF(BI61=Entry!G$34,Entry!H$34/2+Entry!I$34,IF(BI61=Entry!G$35,Entry!H$35/2+Entry!I$35,IF(BI61=Entry!G$36,Entry!H$36/2+Entry!I$36,IF(BI61=Entry!G$37,Entry!H$37/2+Entry!I$37))))))))","v":29},29,"2008-02-01",0,0,null,null,null,0,0,0,null,null,null,0,0,0,null,0,null,0,0,null,0,null,0,0,0,0,0,null,12,"2008-02-01",0,0,null,null,null,null,null,null,null,null,null,null,null,null,null,null,null,null,null,0,0]
[null,null,null,null,null,null,null,null,null,null,null,null,null,null,null,null,null,null,null,null,null,null,null,null,null,null,null,null,null,null,null,null,null,null,null,null,null,null,null,null,null,null,null,null,null,null,null,null,null,null,null,null,null,null,null,null,null,{"$f":"(BH62)-(IF(BI62=Entry!C$31,Entry!D$31/2+Entry!E$31,IF(BI62=Entry!C$32,Entry!D$32/2+Entry!E$32,IF(BI62=Entry!C$33,Entry!D$33/2+Entry!E$33,IF(BI62=Entry!C$34,Entry!D$34/2+Entry!E$34,IF(BI62=Entry!C$35,Entry!D$35/2+Entry!E$35,IF(BI62=Entry!C$36,Entry!D$36/2+Entry!E$36,IF(BI62=Entry!C$37,Entry!D$37/2+Entry!E$37))))))))","v":31},{"$f":"(BH62)-(IF(BI62=Entry!G$31,Entry!H$31/2+Entry!I$31,IF(BI62=Entry!G$32,Entry!H$32/2+Entry!I$32,IF(BI62=Entry!G$33,Entry!H$33/2+Entry!I$33,IF(BI62=Entry!G$34,Entry!H$34/2+Entry!I$34,IF(BI62=Entry!G$35,Entry!H$35/2+Entry!I$35,IF(BI62=Entry!G$36,Entry!H$36/2+Entry!I$36,IF(BI62=Entry!G$37,Entry!H$37/2+Entry!I$37))))))))","v":31},31,"2008-03-01",0,0,null,null,null,0,0,0,null,null,null,0,0,0,null,0,null,0,0,null,0,null,0,0,0,0,0,null,12,"2008-03-01",0,0,null,null,null,null,null,null,null,null,null,null,null,null,null,null,null,null,null,0,0]
[null,null,null,null,null,null,null,null,null,null,null,null,null,null,null,null,null,null,null,null,null,null,null,null,null,null,null,null,null,null,null,null,null,null,null,null,null,null,null,null,null,null,null,null,null,null,null,null,null,null,null,null,null,null,null,null,null,{"$f":"(BH63)-(IF(BI63=Entry!C$31,Entry!D$31/2+Entry!E$31,IF(BI63=Entry!C$32,Entry!D$32/2+Entry!E$32,IF(BI63=Entry!C$33,Entry!D$33/2+Entry!E$33,IF(BI63=Entry!C$34,Entry!D$34/2+Entry!E$34,IF(BI63=Entry!C$35,Entry!D$35/2+Entry!E$35,IF(BI63=Entry!C$36,Entry!D$36/2+Entry!E$36,IF(BI63=Entry!C$37,Entry!D$37/2+Entry!E$37))))))))","v":30},{"$f":"(BH63)-(IF(BI63=Entry!G$31,Entry!H$31/2+Entry!I$31,IF(BI63=Entry!G$32,Entry!H$32/2+Entry!I$32,IF(BI63=Entry!G$33,Entry!H$33/2+Entry!I$33,IF(BI63=Entry!G$34,Entry!H$34/2+Entry!I$34,IF(BI63=Entry!G$35,Entry!H$35/2+Entry!I$35,IF(BI63=Entry!G$36,Entry!H$36/2+Entry!I$36,IF(BI63=Entry!G$37,Entry!H$37/2+Entry!I$37))))))))","v":30},30,"2008-04-01",0,0,null,null,null,0,0,0,null,null,null,0,0,0,null,0,null,0,0,null,0,null,0,0,0,0,0,null,12,"2008-04-01",0,0,null,null,null,null,null,null,null,null,null,null,null,null,null,null,null,null,null,0,0]
[null,null,null,null,null,null,null,null,null,null,null,null,null,null,null,null,null,null,null,null,null,null,null,null,null,null,null,null,null,null,null,null,null,null,null,null,null,null,null,null,null,null,null,null,null,null,null,null,null,null,null,null,null,null,null,null,null,{"$f":"(BH64)-(IF(BI64=Entry!C$31,Entry!D$31/2+Entry!E$31,IF(BI64=Entry!C$32,Entry!D$32/2+Entry!E$32,IF(BI64=Entry!C$33,Entry!D$33/2+Entry!E$33,IF(BI64=Entry!C$34,Entry!D$34/2+Entry!E$34,IF(BI64=Entry!C$35,Entry!D$35/2+Entry!E$35,IF(BI64=Entry!C$36,Entry!D$36/2+Entry!E$36,IF(BI64=Entry!C$37,Entry!D$37/2+Entry!E$37))))))))","v":31},{"$f":"(BH64)-(IF(BI64=Entry!G$31,Entry!H$31/2+Entry!I$31,IF(BI64=Entry!G$32,Entry!H$32/2+Entry!I$32,IF(BI64=Entry!G$33,Entry!H$33/2+Entry!I$33,IF(BI64=Entry!G$34,Entry!H$34/2+Entry!I$34,IF(BI64=Entry!G$35,Entry!H$35/2+Entry!I$35,IF(BI64=Entry!G$36,Entry!H$36/2+Entry!I$36,IF(BI64=Entry!G$37,Entry!H$37/2+Entry!I$37))))))))","v":31},31,"2008-05-01",0,0,null,null,null,0,0,0,null,null,null,0,0,0,null,0,null,0,0,null,0,null,0,0,0,0,0,null,12,"2008-05-01",0,0,null,null,null,null,null,null,null,null,null,null,null,null,null,null,null,null,null,0,0]
[null,null,null,null,null,null,null,null,null,null,null,null,null,null,null,null,null,null,null,null,null,null,null,null,null,null,null,null,null,null,null,null,null,null,null,null,null,null,null,null,null,null,null,null,null,null,null,null,null,null,null,null,null,null,null,null,null,{"$f":"(BH65)-(IF(BI65=Entry!C$31,Entry!D$31/2+Entry!E$31,IF(BI65=Entry!C$32,Entry!D$32/2+Entry!E$32,IF(BI65=Entry!C$33,Entry!D$33/2+Entry!E$33,IF(BI65=Entry!C$34,Entry!D$34/2+Entry!E$34,IF(BI65=Entry!C$35,Entry!D$35/2+Entry!E$35,IF(BI65=Entry!C$36,Entry!D$36/2+Entry!E$36,IF(BI65=Entry!C$37,Entry!D$37/2+Entry!E$37))))))))","v":30},{"$f":"(BH65)-(IF(BI65=Entry!G$31,Entry!H$31/2+Entry!I$31,IF(BI65=Entry!G$32,Entry!H$32/2+Entry!I$32,IF(BI65=Entry!G$33,Entry!H$33/2+Entry!I$33,IF(BI65=Entry!G$34,Entry!H$34/2+Entry!I$34,IF(BI65=Entry!G$35,Entry!H$35/2+Entry!I$35,IF(BI65=Entry!G$36,Entry!H$36/2+Entry!I$36,IF(BI65=Entry!G$37,Entry!H$37/2+Entry!I$37))))))))","v":30},30,"2008-06-01",0,0,null,null,null,0,0,0,null,null,null,0,0,0,null,0,null,0,0,null,0,null,0,0,0,0,0,null,12,"2008-06-01",0,0,null,null,null,null,null,null,null,null,null,null,null,null,null,null,null,null,null,0,0]
[null,null,null,null,null,null,null,null,null,null,null,null,null,null,null,null,null,null,null,null,null,null,null,null,null,null,null,null,null,null,null,null,null,null,null,null,null,null,null,null,null,null,null,null,null,null,null,null,null,null,null,null,null,null,null,null,null,{"$f":"(BH66)-(IF(BI66=Entry!C$31,Entry!D$31/2+Entry!E$31,IF(BI66=Entry!C$32,Entry!D$32/2+Entry!E$32,IF(BI66=Entry!C$33,Entry!D$33/2+Entry!E$33,IF(BI66=Entry!C$34,Entry!D$34/2+Entry!E$34,IF(BI66=Entry!C$35,Entry!D$35/2+Entry!E$35,IF(BI66=Entry!C$36,Entry!D$36/2+Entry!E$36,IF(BI66=Entry!C$37,Entry!D$37/2+Entry!E$37))))))))","v":31},{"$f":"(BH66)-(IF(BI66=Entry!G$31,Entry!H$31/2+Entry!I$31,IF(BI66=Entry!G$32,Entry!H$32/2+Entry!I$32,IF(BI66=Entry!G$33,Entry!H$33/2+Entry!I$33,IF(BI66=Entry!G$34,Entry!H$34/2+Entry!I$34,IF(BI66=Entry!G$35,Entry!H$35/2+Entry!I$35,IF(BI66=Entry!G$36,Entry!H$36/2+Entry!I$36,IF(BI66=Entry!G$37,Entry!H$37/2+Entry!I$37))))))))","v":31},31,"2008-07-01",0,0,null,null,null,0,0,0,null,null,null,0,0,0,null,0,null,0,0,{"$f":"IF(Entry!B$27=\"Y\",0,CX66)","v":0},0,null,0,0,0,0,0,null,16,"2008-07-01",0,0,null,null,null,null,null,null,{"$f":"IF(CN66<1,0,IF(CN66<=7000,51,IF(CN66<=13000,74,IF(CN66<=21000,112,IF(CN66>21000,165)))))","v":0},0,{"$f":"IF(CV66>CW66,CV66-CW66,0)","v":0},null,null,null,null,null,null,null,null,0,0]
[null,null,null,null,null,null,null,null,null,null,null,null,null,null,null,null,null,null,null,null,null,null,null,null,null,null,null,null,null,null,null,null,null,null,null,null,null,null,null,null,null,null,null,null,null,null,null,null,null,null,null,null,null,null,null,null,null,{"$f":"(BH67)-(IF(BI67=Entry!C$31,Entry!D$31/2+Entry!E$31,IF(BI67=Entry!C$32,Entry!D$32/2+Entry!E$32,IF(BI67=Entry!C$33,Entry!D$33/2+Entry!E$33,IF(BI67=Entry!C$34,Entry!D$34/2+Entry!E$34,IF(BI67=Entry!C$35,Entry!D$35/2+Entry!E$35,IF(BI67=Entry!C$36,Entry!D$36/2+Entry!E$36,IF(BI67=Entry!C$37,Entry!D$37/2+Entry!E$37))))))))","v":31},{"$f":"(BH67)-(IF(BI67=Entry!G$31,Entry!H$31/2+Entry!I$31,IF(BI67=Entry!G$32,Entry!H$32/2+Entry!I$32,IF(BI67=Entry!G$33,Entry!H$33/2+Entry!I$33,IF(BI67=Entry!G$34,Entry!H$34/2+Entry!I$34,IF(BI67=Entry!G$35,Entry!H$35/2+Entry!I$35,IF(BI67=Entry!G$36,Entry!H$36/2+Entry!I$36,IF(BI67=Entry!G$37,Entry!H$37/2+Entry!I$37))))))))","v":31},31,"2008-08-01",0,0,null,null,null,0,0,0,null,null,null,0,0,0,null,0,null,0,0,{"$f":"IF(Entry!B$27=\"Y\",0,CX67)","v":0},0,null,0,0,0,0,0,null,16,"2008-08-01",0,0,null,null,null,null,null,null,0,0,0,null,null,null,null,null,null,null,null,0,0]
[null,null,null,null,null,null,null,null,null,null,null,null,null,null,null,null,null,null,null,null,null,null,null,null,null,null,null,null,null,null,null,null,null,null,null,null,null,null,null,null,null,null,null,null,null,null,null,null,null,null,null,null,null,null,null,null,null,{"$f":"(BH68)-(IF(BI68=Entry!C$31,Entry!D$31/2+Entry!E$31,IF(BI68=Entry!C$32,Entry!D$32/2+Entry!E$32,IF(BI68=Entry!C$33,Entry!D$33/2+Entry!E$33,IF(BI68=Entry!C$34,Entry!D$34/2+Entry!E$34,IF(BI68=Entry!C$35,Entry!D$35/2+Entry!E$35,IF(BI68=Entry!C$36,Entry!D$36/2+Entry!E$36,IF(BI68=Entry!C$37,Entry!D$37/2+Entry!E$37))))))))","v":30},{"$f":"(BH68)-(IF(BI68=Entry!G$31,Entry!H$31/2+Entry!I$31,IF(BI68=Entry!G$32,Entry!H$32/2+Entry!I$32,IF(BI68=Entry!G$33,Entry!H$33/2+Entry!I$33,IF(BI68=Entry!G$34,Entry!H$34/2+Entry!I$34,IF(BI68=Entry!G$35,Entry!H$35/2+Entry!I$35,IF(BI68=Entry!G$36,Entry!H$36/2+Entry!I$36,IF(BI68=Entry!G$37,Entry!H$37/2+Entry!I$37))))))))","v":30},30,"2008-09-01",0,0,{"$f":"IF(D$6=\"N\",0,IF(D$6=\"B\",DC68,DB68))","v":0},{"$f":"ROUND((BJ68)*(IF(D$5=\"Nill\",0,D$5)),0)","v":0},null,0,0,0,{"$f":"IF(D$6=\"N\",0,IF(D$6=\"B\",DE68,DD68))","v":0},{"$f":"ROUND((BP68)*(IF(D$5=\"Nill\",0,D$5)),0)","v":0},null,0,0,0,null,0,null,0,{"$f":"IF(CB$47=\"GPF\",CT68,IF(CB$47=\"ECpenF\",CI68,0))","v":0},{"$f":"IF(Entry!B$27=\"Y\",0,CX68)","v":0},0,null,0,0,0,0,0,null,16,"2008-09-01",0,0,{"$f":"IF(CN68=0,0,IF(CN68<=9000,400,IF(CN68<=11000,500,IF(CN68<=15000,900,IF(CN68<=20000,1200,IF(CN68<=24000,1700,IF(CN68<=28000,2500,IF(CN68<=31000,3200,IF(CN68>31000,4200)))))))))","v":0},{"$f":"IF(CO68=0,0,IF(CO68<=9000,400,IF(CO68<=11000,500,IF(CO68<=15000,900,IF(CO68<=20000,1200,IF(CO68<=24000,1700,IF(CO68<=28000,2500,IF(CO68<=31000,3200,IF(CO68>31000,4200)))))))))","v":0},null,null,{"$f":"IF(D$10=\"Nill\",0,IF(D$10=\"ALL\",(CR68+CP68),IF(D$10=\"DA\",CR68)))","v":0},{"$f":"IF(D$10=\"Nill\",0,IF(D$10=\"ALL\",(CQ68+CS68),IF(D$10=\"DA\",CS68)))","v":0},0,0,0,null,null,null,{"$f":"IF(BJ68<1,0,IF(BJ68<=7000,130,IF(BJ68<=10000,190,IF(BJ68<=13000,300,IF(BJ68>13000,480)))))","v":0},{"$f":"IF(BJ68<1,0,IF(BJ68<=7000,50,IF(BJ68<=10000,70,IF(BJ68<=13000,130,IF(BJ68>13000,240)))))","v":0},{"$f":"IF(BP68<1,0,IF(BP68<=7000,130,IF(BP68<=10000,190,IF(BP68<=13000,300,IF(BP68>13000,480)))))","v":0},{"$f":"IF(BP68<1,0,IF(BP68<=7000,50,IF(BP68<=10000,70,IF(BP68<=13000,130,IF(BP68>13000,240)))))","v":0},null,0,0]
[null,null,null,null,null,null,null,null,null,null,null,null,null,null,null,null,null,null,null,null,null,null,null,null,null,null,null,null,null,null,null,null,null,null,null,null,null,null,null,null,null,null,null,null,null,null,null,null,null,null,null,null,null,null,null,null,null,{"$f":"(BH69)-(IF(BI69=Entry!C$31,Entry!D$31/2+Entry!E$31,IF(BI69=Entry!C$32,Entry!D$32/2+Entry!E$32,IF(BI69=Entry!C$33,Entry!D$33/2+Entry!E$33,IF(BI69=Entry!C$34,Entry!D$34/2+Entry!E$34,IF(BI69=Entry!C$35,Entry!D$35/2+Entry!E$35,IF(BI69=Entry!C$36,Entry!D$36/2+Entry!E$36,IF(BI69=Entry!C$37,Entry!D$37/2+Entry!E$37))))))))","v":31},{"$f":"(BH69)-(IF(BI69=Entry!G$31,Entry!H$31/2+Entry!I$31,IF(BI69=Entry!G$32,Entry!H$32/2+Entry!I$32,IF(BI69=Entry!G$33,Entry!H$33/2+Entry!I$33,IF(BI69=Entry!G$34,Entry!H$34/2+Entry!I$34,IF(BI69=Entry!G$35,Entry!H$35/2+Entry!I$35,IF(BI69=Entry!G$36,Entry!H$36/2+Entry!I$36,IF(BI69=Entry!G$37,Entry!H$37/2+Entry!I$37))))))))","v":31},31,"2008-10-01",0,0,0,0,null,0,0,0,0,0,null,0,0,0,null,0,null,0,0,{"$f":"IF(Entry!B$27=\"Y\",0,CX69)","v":0},0,null,0,0,0,0,0,null,16,"2008-10-01",0,0,0,0,null,null,0,0,0,0,0,null,null,null,0,0,0,0,null,0,0]
[null,null,null,null,null,null,null,null,null,null,null,null,null,null,null,null,null,null,null,null,null,null,null,null,null,null,null,null,null,null,null,null,null,null,null,null,null,null,null,null,null,null,null,null,null,null,null,null,null,null,null,null,null,null,null,null,null,{"$f":"(BH70)-(IF(BI70=Entry!C$31,Entry!D$31/2+Entry!E$31,IF(BI70=Entry!C$32,Entry!D$32/2+Entry!E$32,IF(BI70=Entry!C$33,Entry!D$33/2+Entry!E$33,IF(BI70=Entry!C$34,Entry!D$34/2+Entry!E$34,IF(BI70=Entry!C$35,Entry!D$35/2+Entry!E$35,IF(BI70=Entry!C$36,Entry!D$36/2+Entry!E$36,IF(BI70=Entry!C$37,Entry!D$37/2+Entry!E$37))))))))","v":30},{"$f":"(BH70)-(IF(BI70=Entry!G$31,Entry!H$31/2+Entry!I$31,IF(BI70=Entry!G$32,Entry!H$32/2+Entry!I$32,IF(BI70=Entry!G$33,Entry!H$33/2+Entry!I$33,IF(BI70=Entry!G$34,Entry!H$34/2+Entry!I$34,IF(BI70=Entry!G$35,Entry!H$35/2+Entry!I$35,IF(BI70=Entry!G$36,Entry!H$36/2+Entry!I$36,IF(BI70=Entry!G$37,Entry!H$37/2+Entry!I$37))))))))","v":30},30,"2008-11-01",0,0,0,0,null,0,0,0,0,0,null,0,0,0,null,0,null,0,0,{"$f":"IF(Entry!B$27=\"Y\",0,CX70)","v":0},0,null,0,0,0,0,0,null,16,"2008-11-01",0,0,0,0,null,null,0,0,0,0,0,null,null,null,0,0,0,0,null,0,0]
[null,null,null,null,null,null,null,null,null,null,null,null,null,null,null,null,null,null,null,null,null,null,null,null,null,null,null,null,null,null,null,null,null,null,null,null,null,null,null,null,null,null,null,null,null,null,null,null,null,null,null,null,null,null,null,null,null,{"$f":"(BH71)-(IF(BI71=Entry!C$31,Entry!D$31/2+Entry!E$31,IF(BI71=Entry!C$32,Entry!D$32/2+Entry!E$32,IF(BI71=Entry!C$33,Entry!D$33/2+Entry!E$33,IF(BI71=Entry!C$34,Entry!D$34/2+Entry!E$34,IF(BI71=Entry!C$35,Entry!D$35/2+Entry!E$35,IF(BI71=Entry!C$36,Entry!D$36/2+Entry!E$36,IF(BI71=Entry!C$37,Entry!D$37/2+Entry!E$37))))))))","v":31},{"$f":"(BH71)-(IF(BI71=Entry!G$31,Entry!H$31/2+Entry!I$31,IF(BI71=Entry!G$32,Entry!H$32/2+Entry!I$32,IF(BI71=Entry!G$33,Entry!H$33/2+Entry!I$33,IF(BI71=Entry!G$34,Entry!H$34/2+Entry!I$34,IF(BI71=Entry!G$35,Entry!H$35/2+Entry!I$35,IF(BI71=Entry!G$36,Entry!H$36/2+Entry!I$36,IF(BI71=Entry!G$37,Entry!H$37/2+Entry!I$37))))))))","v":31},31,"2008-12-01",0,0,0,0,null,0,0,0,0,0,null,0,0,0,null,0,null,0,0,{"$f":"IF(Entry!B$27=\"Y\",0,CX71)","v":0},0,null,0,0,0,0,0,null,16,"2008-12-01",0,0,0,0,null,null,0,0,0,0,0,null,null,null,0,0,0,0,null,0,0]
[null,null,null,null,null,null,null,null,null,null,null,null,null,null,null,null,null,null,null,null,null,null,null,null,null,null,null,null,null,null,null,null,null,null,null,null,null,null,null,null,null,null,null,null,null,null,null,null,null,null,null,null,null,null,null,null,null,{"$f":"(BH72)-(IF(BI72=Entry!C$31,Entry!D$31/2+Entry!E$31,IF(BI72=Entry!C$32,Entry!D$32/2+Entry!E$32,IF(BI72=Entry!C$33,Entry!D$33/2+Entry!E$33,IF(BI72=Entry!C$34,Entry!D$34/2+Entry!E$34,IF(BI72=Entry!C$35,Entry!D$35/2+Entry!E$35,IF(BI72=Entry!C$36,Entry!D$36/2+Entry!E$36,IF(BI72=Entry!C$37,Entry!D$37/2+Entry!E$37))))))))","v":31},{"$f":"(BH72)-(IF(BI72=Entry!G$31,Entry!H$31/2+Entry!I$31,IF(BI72=Entry!G$32,Entry!H$32/2+Entry!I$32,IF(BI72=Entry!G$33,Entry!H$33/2+Entry!I$33,IF(BI72=Entry!G$34,Entry!H$34/2+Entry!I$34,IF(BI72=Entry!G$35,Entry!H$35/2+Entry!I$35,IF(BI72=Entry!G$36,Entry!H$36/2+Entry!I$36,IF(BI72=Entry!G$37,Entry!H$37/2+Entry!I$37))))))))","v":31},31,"2009-01-01",0,0,0,0,null,0,0,0,0,0,null,0,0,0,null,0,null,0,0,{"$f":"IF(Entry!B$27=\"Y\",0,CX72)","v":0},0,null,0,0,0,0,0,null,22,"2009-01-01",0,0,{"$f":"IF(CN72=0,0,IF(CN72<=9000,400,IF(CN72<=11000,500,IF(CN72<=15000,900,IF(CN72<=20000,1200,IF(CN72<=24000,1700,IF(CN72<=28000,2500,IF(CN72<=31000,3200,IF(CN72>31000,4200)))))))))","v":0},0,{"$f":"ROUND(CN72*6%,0)","v":0},{"$f":"ROUND(CO72*6%,0)","v":0},0,0,{"$f":"IF(CN72<1,0,IF(CN72<=7000,55,IF(CN72<=13000,80,IF(CN72<=21000,120,IF(CN72>21000,175)))))","v":0},0,0,null,null,null,0,0,0,0,null,0,0]
[null,null,null,null,null,null,null,null,null,null,null,null,null,null,null,null,null,null,null,null,null,null,null,null,null,null,null,null,null,null,null,null,null,null,null,null,null,null,null,null,null,null,null,null,null,null,null,null,null,null,null,null,null,null,null,null,null,{"$f":"(BH73)-(IF(BI73=Entry!C$31,Entry!D$31/2+Entry!E$31,IF(BI73=Entry!C$32,Entry!D$32/2+Entry!E$32,IF(BI73=Entry!C$33,Entry!D$33/2+Entry!E$33,IF(BI73=Entry!C$34,Entry!D$34/2+Entry!E$34,IF(BI73=Entry!C$35,Entry!D$35/2+Entry!E$35,IF(BI73=Entry!C$36,Entry!D$36/2+Entry!E$36,IF(BI73=Entry!C$37,Entry!D$37/2+Entry!E$37))))))))","v":29},{"$f":"(BH73)-(IF(BI73=Entry!G$31,Entry!H$31/2+Entry!I$31,IF(BI73=Entry!G$32,Entry!H$32/2+Entry!I$32,IF(BI73=Entry!G$33,Entry!H$33/2+Entry!I$33,IF(BI73=Entry!G$34,Entry!H$34/2+Entry!I$34,IF(BI73=Entry!G$35,Entry!H$35/2+Entry!I$35,IF(BI73=Entry!G$36,Entry!H$36/2+Entry!I$36,IF(BI73=Entry!G$37,Entry!H$37/2+Entry!I$37))))))))","v":29},29,"2009-02-01",0,0,0,0,null,0,0,0,0,0,null,0,0,0,null,0,null,0,0,{"$f":"IF(Entry!B$27=\"Y\",0,CX73)","v":0},0,null,0,0,0,0,0,null,22,"2009-02-01",0,0,0,0,{"$f":"ROUND(CN73*6%,0)","v":0},{"$f":"ROUND(CO73*6%,0)","v":0},0,0,0,0,0,null,null,null,0,0,0,0,null,0,0]
[null,null,null,null,null,null,null,null,null,null,null,null,null,null,null,null,null,null,null,null,null,null,null,null,null,null,null,null,null,null,null,null,null,null,null,null,null,null,null,null,null,null,null,null,null,null,null,null,null,null,null,null,null,null,null,null,null,{"$f":"(BH74)-(IF(BI74=Entry!C$31,Entry!D$31/2+Entry!E$31,IF(BI74=Entry!C$32,Entry!D$32/2+Entry!E$32,IF(BI74=Entry!C$33,Entry!D$33/2+Entry!E$33,IF(BI74=Entry!C$34,Entry!D$34/2+Entry!E$34,IF(BI74=Entry!C$35,Entry!D$35/2+Entry!E$35,IF(BI74=Entry!C$36,Entry!D$36/2+Entry!E$36,IF(BI74=Entry!C$37,Entry!D$37/2+Entry!E$37))))))))","v":31},{"$f":"(BH74)-(IF(BI74=Entry!G$31,Entry!H$31/2+Entry!I$31,IF(BI74=Entry!G$32,Entry!H$32/2+Entry!I$32,IF(BI74=Entry!G$33,Entry!H$33/2+Entry!I$33,IF(BI74=Entry!G$34,Entry!H$34/2+Entry!I$34,IF(BI74=Entry!G$35,Entry!H$35/2+Entry!I$35,IF(BI74=Entry!G$36,Entry!H$36/2+Entry!I$36,IF(BI74=Entry!G$37,Entry!H$37/2+Entry!I$37))))))))","v":31},31,"2009-03-01",0,0,0,0,null,0,0,0,0,0,null,0,0,0,null,0,null,0,0,{"$f":"IF(Entry!B$27=\"Y\",0,CX74)","v":0},0,null,0,0,0,0,0,null,22,"2009-03-01",0,0,0,0,null,null,0,0,0,0,0,{"$f":"IF(CN74<1,0,IF(CN74<=8500,180,IF(CN74<=11000,240,IF(CN74<=18000,480,IF(CN74<=28000,720,1200)))))","v":0},{"$f":"IF(CO74<1,0,IF(CO74<=8500,180,IF(CO74<=11000,240,IF(CO74<=18000,480,IF(CO74<=28000,720,1200)))))","v":0},{"$f":"IF((MONTH(CM74))=3,(CY74-CZ74),0)","v":0},0,0,0,0,null,0,0]
[null,null,null,null,null,null,null,null,null,null,null,null,null,null,null,null,null,null,null,null,null,null,null,null,null,null,null,null,null,null,null,null,null,null,null,null,null,null,null,null,null,null,null,null,null,null,null,null,null,null,null,null,null,null,null,null,null,{"$f":"(BH75)-(IF(BI75=Entry!C$31,Entry!D$31/2+Entry!E$31,IF(BI75=Entry!C$32,Entry!D$32/2+Entry!E$32,IF(BI75=Entry!C$33,Entry!D$33/2+Entry!E$33,IF(BI75=Entry!C$34,Entry!D$34/2+Entry!E$34,IF(BI75=Entry!C$35,Entry!D$35/2+Entry!E$35,IF(BI75=Entry!C$36,Entry!D$36/2+Entry!E$36,IF(BI75=Entry!C$37,Entry!D$37/2+Entry!E$37))))))))","v":30},{"$f":"(BH75)-(IF(BI75=Entry!G$31,Entry!H$31/2+Entry!I$31,IF(BI75=Entry!G$32,Entry!H$32/2+Entry!I$32,IF(BI75=Entry!G$33,Entry!H$33/2+Entry!I$33,IF(BI75=Entry!G$34,Entry!H$34/2+Entry!I$34,IF(BI75=Entry!G$35,Entry!H$35/2+Entry!I$35,IF(BI75=Entry!G$36,Entry!H$36/2+Entry!I$36,IF(BI75=Entry!G$37,Entry!H$37/2+Entry!I$37))))))))","v":30},30,"2009-04-01",0,0,0,0,null,0,0,0,0,0,null,0,0,0,null,0,null,0,0,{"$f":"IF(Entry!B$27=\"Y\",0,CX75)","v":0},0,null,0,0,0,0,0,null,22,"2009-04-01",0,0,0,0,null,null,0,0,0,0,0,{"$f":"IF(CN75<1,0,IF(CN75<=8500,180,IF(CN75<=11000,240,IF(CN75<=18000,480,IF(CN75<=28000,720,1200)))))","v":0},{"$f":"IF(CO75<1,0,IF(CO75<=8500,180,IF(CO75<=11000,240,IF(CO75<=18000,480,IF(CO75<=28000,720,1200)))))","v":0},{"$f":"IF((MONTH(CM75))=3,(CY75-CZ75),DA74)","v":0},0,0,0,0,null,0,0]
[null,null,null,null,null,null,null,null,null,null,null,null,null,null,null,null,null,null,null,null,null,null,null,null,null,null,null,null,null,null,null,null,null,null,null,null,null,null,null,null,null,null,null,null,null,null,null,null,null,null,null,null,null,null,null,null,null,{"$f":"(BH76)-(IF(BI76=Entry!C$31,Entry!D$31/2+Entry!E$31,IF(BI76=Entry!C$32,Entry!D$32/2+Entry!E$32,IF(BI76=Entry!C$33,Entry!D$33/2+Entry!E$33,IF(BI76=Entry!C$34,Entry!D$34/2+Entry!E$34,IF(BI76=Entry!C$35,Entry!D$35/2+Entry!E$35,IF(BI76=Entry!C$36,Entry!D$36/2+Entry!E$36,IF(BI76=Entry!C$37,Entry!D$37/2+Entry!E$37))))))))","v":31},{"$f":"(BH76)-(IF(BI76=Entry!G$31,Entry!H$31/2+Entry!I$31,IF(BI76=Entry!G$32,Entry!H$32/2+Entry!I$32,IF(BI76=Entry!G$33,Entry!H$33/2+Entry!I$33,IF(BI76=Entry!G$34,Entry!H$34/2+Entry!I$34,IF(BI76=Entry!G$35,Entry!H$35/2+Entry!I$35,IF(BI76=Entry!G$36,Entry!H$36/2+Entry!I$36,IF(BI76=Entry!G$37,Entry!H$37/2+Entry!I$37))))))))","v":31},31,"2009-05-01",0,0,0,0,null,0,0,0,0,0,null,0,0,0,null,0,null,0,0,{"$f":"IF(Entry!B$27=\"Y\",0,CX76)","v":0},0,null,0,0,0,0,0,null,22,"2009-05-01",0,0,0,0,null,null,0,0,0,0,0,{"$f":"IF(CN76<1,0,IF(CN76<=8500,180,IF(CN76<=11000,240,IF(CN76<=18000,480,IF(CN76<=28000,720,1200)))))","v":0},0,0,0,0,0,0,null,0,0]
[null,null,null,null,null,null,null,null,null,null,null,null,null,null,null,null,null,null,null,null,null,null,null,null,null,null,null,null,null,null,null,null,null,null,null,null,null,null,null,null,null,null,null,null,null,null,null,null,null,null,null,null,null,null,null,null,null,{"$f":"(BH77)-(IF(BI77=Entry!C$31,Entry!D$31/2+Entry!E$31,IF(BI77=Entry!C$32,Entry!D$32/2+Entry!E$32,IF(BI77=Entry!C$33,Entry!D$33/2+Entry!E$33,IF(BI77=Entry!C$34,Entry!D$34/2+Entry!E$34,IF(BI77=Entry!C$35,Entry!D$35/2+Entry!E$35,IF(BI77=Entry!C$36,Entry!D$36/2+Entry!E$36,IF(BI77=Entry!C$37,Entry!D$37/2+Entry!E$37))))))))","v":30},{"$f":"(BH77)-(IF(BI77=Entry!G$31,Entry!H$31/2+Entry!I$31,IF(BI77=Entry!G$32,Entry!H$32/2+Entry!I$32,IF(BI77=Entry!G$33,Entry!H$33/2+Entry!I$33,IF(BI77=Entry!G$34,Entry!H$34/2+Entry!I$34,IF(BI77=Entry!G$35,Entry!H$35/2+Entry!I$35,IF(BI77=Entry!G$36,Entry!H$36/2+Entry!I$36,IF(BI77=Entry!G$37,Entry!H$37/2+Entry!I$37))))))))","v":30},30,"2009-06-01",0,0,0,0,null,0,0,0,0,0,null,0,0,0,null,0,null,0,0,{"$f":"IF(Entry!B$27=\"Y\",0,CX77)","v":0},0,null,0,0,0,0,0,null,22,"2009-06-01",0,0,0,0,null,null,0,0,{"$f":"IF(CN77<1,0,IF(CN77<=7000,71,IF(CN77<=13000,91,IF(CN77<=21000,133,IF(CN77>21000,195)))))","v":0},{"$f":"IF(CO77<1,0,IF(CO77<=7000,71,IF(CO77<=13000,91,IF(CO77<=21000,133,IF(CO77>21000,195)))))","v":0},0,{"$f":"IF(CN77<1,0,IF(CN77<=8500,180,IF(CN77<=11000,240,IF(CN77<=18000,480,IF(CN77<=28000,720,1200)))))","v":0},0,0,0,0,0,0,null,0,0]
[null,null,null,null,null,null,null,null,null,null,null,null,null,null,null,null,null,null,null,null,null,null,null,null,null,null,null,null,null,null,null,null,null,null,null,null,null,null,null,null,null,null,null,null,null,null,null,null,null,null,null,null,null,null,null,null,null,{"$f":"(BH78)-(IF(BI78=Entry!C$31,Entry!D$31/2+Entry!E$31,IF(BI78=Entry!C$32,Entry!D$32/2+Entry!E$32,IF(BI78=Entry!C$33,Entry!D$33/2+Entry!E$33,IF(BI78=Entry!C$34,Entry!D$34/2+Entry!E$34,IF(BI78=Entry!C$35,Entry!D$35/2+Entry!E$35,IF(BI78=Entry!C$36,Entry!D$36/2+Entry!E$36,IF(BI78=Entry!C$37,Entry!D$37/2+Entry!E$37))))))))","v":31},{"$f":"(BH78)-(IF(BI78=Entry!G$31,Entry!H$31/2+Entry!I$31,IF(BI78=Entry!G$32,Entry!H$32/2+Entry!I$32,IF(BI78=Entry!G$33,Entry!H$33/2+Entry!I$33,IF(BI78=Entry!G$34,Entry!H$34/2+Entry!I$34,IF(BI78=Entry!G$35,Entry!H$35/2+Entry!I$35,IF(BI78=Entry!G$36,Entry!H$36/2+Entry!I$36,IF(BI78=Entry!G$37,Entry!H$37/2+Entry!I$37))))))))","v":31},31,"2009-07-01",0,0,0,0,null,0,0,0,0,0,null,0,0,0,null,0,null,0,0,{"$f":"IF(Entry!B$27=\"Y\",0,CX78)","v":0},0,null,0,0,0,0,0,null,27,"2009-07-01",0,0,0,0,{"$f":"ROUND(CN78*5%,0)","v":0},{"$f":"ROUND(CO78*5%,0)","v":0},0,0,{"$f":"IF(CN78<1,0,IF(CN78<=7000,75,IF(CN78<=13000,110,IF(CN78<=21000,160,IF(CN78>21000,225)))))","v":0},0,0,{"$f":"IF(CN78<1,0,IF(CN78<=8500,180,IF(CN78<=11000,240,IF(CN78<=18000,480,IF(CN78<=28000,720,1200)))))","v":0},0,0,0,0,0,0,null,0,0]
[null,null,null,null,null,null,null,null,null,null,null,null,null,null,null,null,null,null,null,null,null,null,null,null,null,null,null,null,null,null,null,null,null,null,null,null,null,null,null,null,null,null,null,null,null,null,null,null,null,null,null,null,null,null,null,null,null,{"$f":"(BH79)-(IF(BI79=Entry!C$31,Entry!D$31/2+Entry!E$31,IF(BI79=Entry!C$32,Entry!D$32/2+Entry!E$32,IF(BI79=Entry!C$33,Entry!D$33/2+Entry!E$33,IF(BI79=Entry!C$34,Entry!D$34/2+Entry!E$34,IF(BI79=Entry!C$35,Entry!D$35/2+Entry!E$35,IF(BI79=Entry!C$36,Entry!D$36/2+Entry!E$36,IF(BI79=Entry!C$37,Entry!D$37/2+Entry!E$37))))))))","v":31},{"$f":"(BH79)-(IF(BI79=Entry!G$31,Entry!H$31/2+Entry!I$31,IF(BI79=Entry!G$32,Entry!H$32/2+Entry!I$32,IF(BI79=Entry!G$33,Entry!H$33/2+Entry!I$33,IF(BI79=Entry!G$34,Entry!H$34/2+Entry!I$34,IF(BI79=Entry!G$35,Entry!H$35/2+Entry!I$35,IF(BI79=Entry!G$36,Entry!H$36/2+Entry!I$36,IF(BI79=Entry!G$37,Entry!H$37/2+Entry!I$37))))))))","v":31},31,"2009-08-01",0,0,0,0,null,0,0,0,0,0,null,0,0,0,null,0,null,0,0,{"$f":"IF(Entry!B$27=\"Y\",0,CX79)","v":0},0,null,0,0,0,0,0,null,27,"2009-08-01",0,0,0,0,{"$f":"ROUND(CN79*5%,0)","v":0},{"$f":"ROUND(CO79*5%,0)","v":0},0,0,0,0,0,{"$f":"IF(CN79<1,0,IF(CN79<=8500,180,IF(CN79<=11000,240,IF(CN79<=18000,480,IF(CN79<=28000,720,1200)))))","v":0},0,0,0,0,0,0,null,0,0]
[null,null,null,null,null,null,null,null,null,null,null,null,null,null,null,null,null,null,null,null,null,null,null,null,null,null,null,null,null,null,null,null,null,null,null,null,null,null,null,null,null,null,null,null,null,null,null,null,null,null,null,null,null,null,null,null,null,{"$f":"(BH80)-(IF(BI80=Entry!C$31,Entry!D$31/2+Entry!E$31,IF(BI80=Entry!C$32,Entry!D$32/2+Entry!E$32,IF(BI80=Entry!C$33,Entry!D$33/2+Entry!E$33,IF(BI80=Entry!C$34,Entry!D$34/2+Entry!E$34,IF(BI80=Entry!C$35,Entry!D$35/2+Entry!E$35,IF(BI80=Entry!C$36,Entry!D$36/2+Entry!E$36,IF(BI80=Entry!C$37,Entry!D$37/2+Entry!E$37))))))))","v":30},{"$f":"(BH80)-(IF(BI80=Entry!G$31,Entry!H$31/2+Entry!I$31,IF(BI80=Entry!G$32,Entry!H$32/2+Entry!I$32,IF(BI80=Entry!G$33,Entry!H$33/2+Entry!I$33,IF(BI80=Entry!G$34,Entry!H$34/2+Entry!I$34,IF(BI80=Entry!G$35,Entry!H$35/2+Entry!I$35,IF(BI80=Entry!G$36,Entry!H$36/2+Entry!I$36,IF(BI80=Entry!G$37,Entry!H$37/2+Entry!I$37))))))))","v":30},30,"2009-09-01",0,{"$f":"IF(D$4=\"N\",0,(ROUND((BJ80)*(CL80%),0)))","v":0},0,0,null,{"$f":"SUM(BJ80:BM80)","v":0},0,{"$f":"IF(D$4=\"N\",0,(ROUND((BP80)*(CL80%),0)))","v":0},0,0,null,{"$f":"SUM(BP80:BS80)","v":0},{"$f":"BJ80-BP80","v":0},{"$f":"BK80-BQ80","v":0},null,{"$f":"BM80-BS80","v":0},null,{"$f":"SUM(BV80:BY80)","v":0},0,{"$f":"IF(Entry!B$27=\"Y\",0,CX80)","v":0},0,null,{"$f":"ROUND(CA80*(D$16%),0)","v":0},{"$f":"SUM(CB80:CF80)","v":0},{"$f":"CA80-CG80","v":0},0,0,null,27,{"$f":"BI80","v":"2009-09-01"},0,0,0,0,null,null,0,0,0,0,0,0,0,0,0,0,0,0,null,0,0]
[null,null,null,null,null,null,null,null,null,null,null,null,null,null,null,null,null,null,null,null,null,null,null,null,null,null,null,null,null,null,null,null,null,null,null,null,null,null,null,null,null,null,null,null,null,null,null,null,null,null,null,null,null,null,null,null,null,{"$f":"(BH81)-(IF(BI81=Entry!C$31,Entry!D$31/2+Entry!E$31,IF(BI81=Entry!C$32,Entry!D$32/2+Entry!E$32,IF(BI81=Entry!C$33,Entry!D$33/2+Entry!E$33,IF(BI81=Entry!C$34,Entry!D$34/2+Entry!E$34,IF(BI81=Entry!C$35,Entry!D$35/2+Entry!E$35,IF(BI81=Entry!C$36,Entry!D$36/2+Entry!E$36,IF(BI81=Entry!C$37,Entry!D$37/2+Entry!E$37))))))))","v":31},{"$f":"(BH81)-(IF(BI81=Entry!G$31,Entry!H$31/2+Entry!I$31,IF(BI81=Entry!G$32,Entry!H$32/2+Entry!I$32,IF(BI81=Entry!G$33,Entry!H$33/2+Entry!I$33,IF(BI81=Entry!G$34,Entry!H$34/2+Entry!I$34,IF(BI81=Entry!G$35,Entry!H$35/2+Entry!I$35,IF(BI81=Entry!G$36,Entry!H$36/2+Entry!I$36,IF(BI81=Entry!G$37,Entry!H$37/2+Entry!I$37))))))))","v":31},31,"2009-10-01",0,0,0,0,null,0,0,0,0,0,null,0,0,0,null,0,null,0,0,{"$f":"IF(Entry!B$27=\"Y\",0,CX81)","v":0},{"$f":"IF(MONTH(BI81)=3,DA81,CD80)","v":0},null,0,0,0,0,0,null,27,"2009-10-01",0,0,{"$f":"IF(CN81=0,0,IF(CN81<=9000,500,IF(CN81<=11000,650,IF(CN81<=15000,1100,IF(CN81<=20000,1450,IF(CN81<=24000,2100,IF(CN81<=28000,3300,IF(CN81<=31000,4100,IF(CN81<=45000,5200,5700)))))))))","v":0},{"$f":"IF(CO81=0,0,IF(CO81<=9000,500,IF(CO81<=11000,650,IF(CO81<=15000,1100,IF(CO81<=20000,1450,IF(CO81<=24000,2100,IF(CO81<=28000,3300,IF(CO81<=31000,4100,IF(CO81<=45000,5200,5700)))))))))","v":0},null,null,0,0,0,0,0,0,0,0,0,0,0,0,null,0,0]
[null,null,null,null,null,null,null,null,null,null,null,null,null,null,null,null,null,null,null,null,null,null,null,null,null,null,null,null,null,null,null,null,null,null,null,null,null,null,null,null,null,null,null,null,null,null,null,null,null,null,null,null,null,null,null,null,null,{"$f":"(BH82)-(IF(BI82=Entry!C$31,Entry!D$31/2+Entry!E$31,IF(BI82=Entry!C$32,Entry!D$32/2+Entry!E$32,IF(BI82=Entry!C$33,Entry!D$33/2+Entry!E$33,IF(BI82=Entry!C$34,Entry!D$34/2+Entry!E$34,IF(BI82=Entry!C$35,Entry!D$35/2+Entry!E$35,IF(BI82=Entry!C$36,Entry!D$36/2+Entry!E$36,IF(BI82=Entry!C$37,Entry!D$37/2+Entry!E$37))))))))","v":30},{"$f":"(BH82)-(IF(BI82=Entry!G$31,Entry!H$31/2+Entry!I$31,IF(BI82=Entry!G$32,Entry!H$32/2+Entry!I$32,IF(BI82=Entry!G$33,Entry!H$33/2+Entry!I$33,IF(BI82=Entry!G$34,Entry!H$34/2+Entry!I$34,IF(BI82=Entry!G$35,Entry!H$35/2+Entry!I$35,IF(BI82=Entry!G$36,Entry!H$36/2+Entry!I$36,IF(BI82=Entry!G$37,Entry!H$37/2+Entry!I$37))))))))","v":30},30,"2009-11-01",0,0,0,0,null,0,0,0,0,0,null,0,0,0,null,0,null,0,0,{"$f":"IF(Entry!B$27=\"Y\",0,CX82)","v":0},0,null,0,0,0,0,0,null,27,"2009-11-01",0,0,0,0,null,null,0,0,0,0,0,0,0,0,0,0,0,0,null,0,0]
[null,null,null,null,null,null,null,null,null,null,null,null,null,null,null,null,null,null,null,null,null,null,null,null,null,null,null,null,null,null,null,null,null,null,null,null,null,null,null,null,null,null,null,null,null,null,null,null,null,null,null,null,null,null,null,null,null,{"$f":"(BH83)-(IF(BI83=Entry!C$31,Entry!D$31/2+Entry!E$31,IF(BI83=Entry!C$32,Entry!D$32/2+Entry!E$32,IF(BI83=Entry!C$33,Entry!D$33/2+Entry!E$33,IF(BI83=Entry!C$34,Entry!D$34/2+Entry!E$34,IF(BI83=Entry!C$35,Entry!D$35/2+Entry!E$35,IF(BI83=Entry!C$36,Entry!D$36/2+Entry!E$36,IF(BI83=Entry!C$37,Entry!D$37/2+Entry!E$37))))))))","v":31},{"$f":"(BH83)-(IF(BI83=Entry!G$31,Entry!H$31/2+Entry!I$31,IF(BI83=Entry!G$32,Entry!H$32/2+Entry!I$32,IF(BI83=Entry!G$33,Entry!H$33/2+Entry!I$33,IF(BI83=Entry!G$34,Entry!H$34/2+Entry!I$34,IF(BI83=Entry!G$35,Entry!H$35/2+Entry!I$35,IF(BI83=Entry!G$36,Entry!H$36/2+Entry!I$36,IF(BI83=Entry!G$37,Entry!H$37/2+Entry!I$37))))))))","v":31},31,"2009-12-01",0,0,0,0,null,0,0,0,0,0,null,0,0,0,null,0,null,0,0,{"$f":"IF(Entry!B$27=\"Y\",0,CX83)","v":0},0,null,0,0,0,0,0,null,27,"2009-12-01",0,0,0,0,null,null,0,0,0,0,0,0,{"$f":"IF(CO83<1,0,IF(CO83<=8500,180,IF(CO83<=11000,240,IF(CO83<=18000,480,IF(CO83<=28000,720,1200)))))","v":0},0,0,0,0,0,null,0,0]
[null,null,null,null,null,null,null,null,null,null,null,null,null,null,null,null,null,null,null,null,null,null,null,null,null,null,null,null,null,null,null,null,null,null,null,null,null,null,null,null,null,null,null,null,null,null,null,null,null,null,null,null,null,null,null,null,null,{"$f":"(BH84)-(IF(BI84=Entry!C$31,Entry!D$31/2+Entry!E$31,IF(BI84=Entry!C$32,Entry!D$32/2+Entry!E$32,IF(BI84=Entry!C$33,Entry!D$33/2+Entry!E$33,IF(BI84=Entry!C$34,Entry!D$34/2+Entry!E$34,IF(BI84=Entry!C$35,Entry!D$35/2+Entry!E$35,IF(BI84=Entry!C$36,Entry!D$36/2+Entry!E$36,IF(BI84=Entry!C$37,Entry!D$37/2+Entry!E$37))))))))","v":31},{"$f":"(BH84)-(IF(BI84=Entry!G$31,Entry!H$31/2+Entry!I$31,IF(BI84=Entry!G$32,Entry!H$32/2+Entry!I$32,IF(BI84=Entry!G$33,Entry!H$33/2+Entry!I$33,IF(BI84=Entry!G$34,Entry!H$34/2+Entry!I$34,IF(BI84=Entry!G$35,Entry!H$35/2+Entry!I$35,IF(BI84=Entry!G$36,Entry!H$36/2+Entry!I$36,IF(BI84=Entry!G$37,Entry!H$37/2+Entry!I$37))))))))","v":31},31,"2010-01-01",0,0,0,0,null,0,0,0,0,0,null,0,0,0,null,0,null,0,0,{"$f":"IF(Entry!B$27=\"Y\",0,CX84)","v":0},0,null,0,0,0,0,0,null,35,"2010-01-01",0,0,0,0,{"$f":"ROUND(CN84*8%,0)","v":0},{"$f":"ROUND(CO84*8%,0)","v":0},0,0,{"$f":"IF(CN84<1,0,IF(CN84<=7000,85,IF(CN84<=13000,130,IF(CN84<=21000,190,IF(CN84>21000,265)))))","v":0},0,0,0,0,0,0,0,0,0,null,0,0]
[null,null,null,null,null,null,null,null,null,null,null,null,null,null,null,null,null,null,null,null,null,null,null,null,null,null,null,null,null,null,null,null,null,null,null,null,null,null,null,null,null,null,null,null,null,null,null,null,null,null,null,null,null,null,null,null,null,{"$f":"(BH85)-(IF(BI85=Entry!C$31,Entry!D$31/2+Entry!E$31,IF(BI85=Entry!C$32,Entry!D$32/2+Entry!E$32,IF(BI85=Entry!C$33,Entry!D$33/2+Entry!E$33,IF(BI85=Entry!C$34,Entry!D$34/2+Entry!E$34,IF(BI85=Entry!C$35,Entry!D$35/2+Entry!E$35,IF(BI85=Entry!C$36,Entry!D$36/2+Entry!E$36,IF(BI85=Entry!C$37,Entry!D$37/2+Entry!E$37))))))))","v":28},{"$f":"(BH85)-(IF(BI85=Entry!G$31,Entry!H$31/2+Entry!I$31,IF(BI85=Entry!G$32,Entry!H$32/2+Entry!I$32,IF(BI85=Entry!G$33,Entry!H$33/2+Entry!I$33,IF(BI85=Entry!G$34,Entry!H$34/2+Entry!I$34,IF(BI85=Entry!G$35,Entry!H$35/2+Entry!I$35,IF(BI85=Entry!G$36,Entry!H$36/2+Entry!I$36,IF(BI85=Entry!G$37,Entry!H$37/2+Entry!I$37))))))))","v":28},28,"2010-02-01",0,0,0,0,null,0,0,0,0,0,null,0,0,0,null,0,null,0,0,{"$f":"IF(Entry!B$27=\"Y\",0,CX85)","v":0},0,null,0,0,0,0,0,null,35,"2010-02-01",0,0,0,0,{"$f":"ROUND(CN85*8%,0)","v":0},{"$f":"ROUND(CO85*8%,0)","v":0},0,0,0,0,0,0,0,0,0,0,0,0,null,0,0]
[null,null,null,null,null,null,null,null,null,null,null,null,null,null,null,null,null,null,null,null,null,null,null,null,null,null,null,null,null,null,null,null,null,null,null,null,null,null,null,null,null,null,null,null,null,null,null,null,null,null,null,null,null,null,null,null,null,{"$f":"(BH86)-(IF(BI86=Entry!C$31,Entry!D$31/2+Entry!E$31,IF(BI86=Entry!C$32,Entry!D$32/2+Entry!E$32,IF(BI86=Entry!C$33,Entry!D$33/2+Entry!E$33,IF(BI86=Entry!C$34,Entry!D$34/2+Entry!E$34,IF(BI86=Entry!C$35,Entry!D$35/2+Entry!E$35,IF(BI86=Entry!C$36,Entry!D$36/2+Entry!E$36,IF(BI86=Entry!C$37,Entry!D$37/2+Entry!E$37))))))))","v":31},{"$f":"(BH86)-(IF(BI86=Entry!G$31,Entry!H$31/2+Entry!I$31,IF(BI86=Entry!G$32,Entry!H$32/2+Entry!I$32,IF(BI86=Entry!G$33,Entry!H$33/2+Entry!I$33,IF(BI86=Entry!G$34,Entry!H$34/2+Entry!I$34,IF(BI86=Entry!G$35,Entry!H$35/2+Entry!I$35,IF(BI86=Entry!G$36,Entry!H$36/2+Entry!I$36,IF(BI86=Entry!G$37,Entry!H$37/2+Entry!I$37))))))))","v":31},31,"2010-03-01",0,0,0,0,null,0,0,0,0,0,null,0,0,0,null,0,null,0,0,{"$f":"IF(Entry!B$27=\"Y\",0,CX86)","v":0},0,null,0,0,0,0,0,null,35,"2010-03-01",0,0,0,0,0,0,0,0,0,0,0,{"$f":"IF(CN86<1,0,IF(CN86<=8500,330,IF(CN86<=11000,450,IF(CN86<=18000,900,IF(CN86<=28000,1300,IF(CN86>=28000,2200))))))","v":0},{"$f":"IF(CO86<1,0,IF(CO86<=8500,330,IF(CO86<=11000,450,IF(CO86<=18000,900,IF(CO86<=28000,1300,2200)))))","v":0},0,0,0,0,0,null,0,0]
[null,null,null,null,null,null,null,null,null,null,null,null,null,null,null,null,null,null,null,null,null,null,null,null,null,null,null,null,null,null,null,null,null,null,null,null,null,null,null,null,null,null,null,null,null,null,null,null,null,null,null,null,null,null,null,null,null,{"$f":"(BH87)-(IF(BI87=Entry!C$31,Entry!D$31/2+Entry!E$31,IF(BI87=Entry!C$32,Entry!D$32/2+Entry!E$32,IF(BI87=Entry!C$33,Entry!D$33/2+Entry!E$33,IF(BI87=Entry!C$34,Entry!D$34/2+Entry!E$34,IF(BI87=Entry!C$35,Entry!D$35/2+Entry!E$35,IF(BI87=Entry!C$36,Entry!D$36/2+Entry!E$36,IF(BI87=Entry!C$37,Entry!D$37/2+Entry!E$37))))))))","v":30},{"$f":"(BH87)-(IF(BI87=Entry!G$31,Entry!H$31/2+Entry!I$31,IF(BI87=Entry!G$32,Entry!H$32/2+Entry!I$32,IF(BI87=Entry!G$33,Entry!H$33/2+Entry!I$33,IF(BI87=Entry!G$34,Entry!H$34/2+Entry!I$34,IF(BI87=Entry!G$35,Entry!H$35/2+Entry!I$35,IF(BI87=Entry!G$36,Entry!H$36/2+Entry!I$36,IF(BI87=Entry!G$37,Entry!H$37/2+Entry!I$37))))))))","v":30},30,"2010-04-01",0,0,0,0,null,0,0,0,0,0,null,0,0,0,null,0,null,0,0,{"$f":"IF(Entry!B$27=\"Y\",0,CX87)","v":0},0,null,0,0,0,0,0,null,35,"2010-04-01",0,0,0,0,null,null,0,0,0,0,0,0,0,0,0,0,0,0,null,0,0]
[null,null,null,null,null,null,null,null,null,null,null,null,null,null,null,null,null,null,null,null,null,null,null,null,null,null,null,null,null,null,null,null,null,null,null,null,null,null,null,null,null,null,null,null,null,null,null,null,null,null,null,null,null,null,null,null,null,{"$f":"(BH88)-(IF(BI88=Entry!C$31,Entry!D$31/2+Entry!E$31,IF(BI88=Entry!C$32,Entry!D$32/2+Entry!E$32,IF(BI88=Entry!C$33,Entry!D$33/2+Entry!E$33,IF(BI88=Entry!C$34,Entry!D$34/2+Entry!E$34,IF(BI88=Entry!C$35,Entry!D$35/2+Entry!E$35,IF(BI88=Entry!C$36,Entry!D$36/2+Entry!E$36,IF(BI88=Entry!C$37,Entry!D$37/2+Entry!E$37))))))))","v":31},{"$f":"(BH88)-(IF(BI88=Entry!G$31,Entry!H$31/2+Entry!I$31,IF(BI88=Entry!G$32,Entry!H$32/2+Entry!I$32,IF(BI88=Entry!G$33,Entry!H$33/2+Entry!I$33,IF(BI88=Entry!G$34,Entry!H$34/2+Entry!I$34,IF(BI88=Entry!G$35,Entry!H$35/2+Entry!I$35,IF(BI88=Entry!G$36,Entry!H$36/2+Entry!I$36,IF(BI88=Entry!G$37,Entry!H$37/2+Entry!I$37))))))))","v":31},31,"2010-05-01",0,0,0,0,null,0,0,0,0,0,null,0,0,0,null,0,null,0,0,{"$f":"IF(Entry!B$27=\"Y\",0,CX88)","v":0},0,null,0,0,0,0,0,null,35,"2010-05-01",0,0,0,0,null,null,0,0,0,0,0,0,0,0,0,0,0,0,null,0,0]
[null,null,null,null,null,null,null,null,null,null,null,null,null,null,null,null,null,null,null,null,null,null,null,null,null,null,null,null,null,null,null,null,null,null,null,null,null,null,null,null,null,null,null,null,null,null,null,null,null,null,null,null,null,null,null,null,null,{"$f":"(BH89)-(IF(BI89=Entry!C$31,Entry!D$31/2+Entry!E$31,IF(BI89=Entry!C$32,Entry!D$32/2+Entry!E$32,IF(BI89=Entry!C$33,Entry!D$33/2+Entry!E$33,IF(BI89=Entry!C$34,Entry!D$34/2+Entry!E$34,IF(BI89=Entry!C$35,Entry!D$35/2+Entry!E$35,IF(BI89=Entry!C$36,Entry!D$36/2+Entry!E$36,IF(BI89=Entry!C$37,Entry!D$37/2+Entry!E$37))))))))","v":30},{"$f":"(BH89)-(IF(BI89=Entry!G$31,Entry!H$31/2+Entry!I$31,IF(BI89=Entry!G$32,Entry!H$32/2+Entry!I$32,IF(BI89=Entry!G$33,Entry!H$33/2+Entry!I$33,IF(BI89=Entry!G$34,Entry!H$34/2+Entry!I$34,IF(BI89=Entry!G$35,Entry!H$35/2+Entry!I$35,IF(BI89=Entry!G$36,Entry!H$36/2+Entry!I$36,IF(BI89=Entry!G$37,Entry!H$37/2+Entry!I$37))))))))","v":30},30,"2010-06-01",0,0,0,0,null,0,0,0,0,0,null,0,0,0,null,0,null,0,0,{"$f":"IF(Entry!B$27=\"Y\",0,CX89)","v":0},0,null,0,0,0,0,0,null,35,"2010-06-01",0,0,0,0,null,null,0,0,0,0,0,0,0,0,0,0,0,0,null,0,0]
[null,null,null,null,null,null,null,null,null,null,null,null,null,null,null,null,null,null,null,null,null,null,null,null,null,null,null,null,null,null,null,null,null,null,null,null,null,null,null,null,null,null,null,null,null,null,null,null,null,null,null,null,null,null,null,null,null,{"$f":"(BH90)-(IF(BI90=Entry!C$31,Entry!D$31/2+Entry!E$31,IF(BI90=Entry!C$32,Entry!D$32/2+Entry!E$32,IF(BI90=Entry!C$33,Entry!D$33/2+Entry!E$33,IF(BI90=Entry!C$34,Entry!D$34/2+Entry!E$34,IF(BI90=Entry!C$35,Entry!D$35/2+Entry!E$35,IF(BI90=Entry!C$36,Entry!D$36/2+Entry!E$36,IF(BI90=Entry!C$37,Entry!D$37/2+Entry!E$37))))))))","v":31},{"$f":"(BH90)-(IF(BI90=Entry!G$31,Entry!H$31/2+Entry!I$31,IF(BI90=Entry!G$32,Entry!H$32/2+Entry!I$32,IF(BI90=Entry!G$33,Entry!H$33/2+Entry!I$33,IF(BI90=Entry!G$34,Entry!H$34/2+Entry!I$34,IF(BI90=Entry!G$35,Entry!H$35/2+Entry!I$35,IF(BI90=Entry!G$36,Entry!H$36/2+Entry!I$36,IF(BI90=Entry!G$37,Entry!H$37/2+Entry!I$37))))))))","v":31},31,"2010-07-01",0,0,0,0,null,0,0,0,0,0,null,0,0,0,null,0,null,0,0,{"$f":"IF(Entry!B$27=\"Y\",0,CX90)","v":0},0,null,0,0,0,0,0,null,45,"2010-07-01",0,0,0,0,{"$f":"ROUND(CN90*10%,0)","v":0},{"$f":"ROUND(CO90*10%,0)","v":0},0,0,{"$f":"IF(CN90<1,0,IF(CN90<=7000,100,IF(CN90<=13000,160,IF(CN90<=21000,235,IF(CN90>21000,325)))))","v":0},0,0,0,0,0,0,0,0,0,null,0,0]
[null,null,null,null,null,null,null,null,null,null,null,null,null,null,null,null,null,null,null,null,null,null,null,null,null,null,null,null,null,null,null,null,null,null,null,null,null,null,null,null,null,null,null,null,null,null,null,null,null,null,null,null,null,null,null,null,null,{"$f":"(BH91)-(IF(BI91=Entry!C$31,Entry!D$31/2+Entry!E$31,IF(BI91=Entry!C$32,Entry!D$32/2+Entry!E$32,IF(BI91=Entry!C$33,Entry!D$33/2+Entry!E$33,IF(BI91=Entry!C$34,Entry!D$34/2+Entry!E$34,IF(BI91=Entry!C$35,Entry!D$35/2+Entry!E$35,IF(BI91=Entry!C$36,Entry!D$36/2+Entry!E$36,IF(BI91=Entry!C$37,Entry!D$37/2+Entry!E$37))))))))","v":31},{"$f":"(BH91)-(IF(BI91=Entry!G$31,Entry!H$31/2+Entry!I$31,IF(BI91=Entry!G$32,Entry!H$32/2+Entry!I$32,IF(BI91=Entry!G$33,Entry!H$33/2+Entry!I$33,IF(BI91=Entry!G$34,Entry!H$34/2+Entry!I$34,IF(BI91=Entry!G$35,Entry!H$35/2+Entry!I$35,IF(BI91=Entry!G$36,Entry!H$36/2+Entry!I$36,IF(BI91=Entry!G$37,Entry!H$37/2+Entry!I$37))))))))","v":31},31,"2010-08-01",0,0,0,0,null,0,0,0,0,0,null,0,0,0,null,0,null,0,0,{"$f":"IF(Entry!B$27=\"Y\",0,CX91)","v":0},0,null,0,0,0,0,0,null,45,"2010-08-01",0,0,0,0,{"$f":"ROUND(CN91*10%,0)","v":0},{"$f":"ROUND(CO91*10%,0)","v":0},0,0,0,0,0,{"$f":"IF(CN91<1,0,IF(CN91<=8500,330,IF(CN91<=11000,450,IF(CN91<=18000,900,IF(CN91<=28000,1300,IF(CN91>=28000,2200))))))","v":0},0,0,0,0,0,0,null,0,0]
[null,null,null,null,null,null,null,null,null,null,null,null,null,null,null,null,null,null,null,null,null,null,null,null,null,null,null,null,null,null,null,null,null,null,null,null,null,null,null,null,null,null,null,null,null,null,null,null,null,null,null,null,null,null,null,null,null,{"$f":"(BH92)-(IF(BI92=Entry!C$31,Entry!D$31/2+Entry!E$31,IF(BI92=Entry!C$32,Entry!D$32/2+Entry!E$32,IF(BI92=Entry!C$33,Entry!D$33/2+Entry!E$33,IF(BI92=Entry!C$34,Entry!D$34/2+Entry!E$34,IF(BI92=Entry!C$35,Entry!D$35/2+Entry!E$35,IF(BI92=Entry!C$36,Entry!D$36/2+Entry!E$36,IF(BI92=Entry!C$37,Entry!D$37/2+Entry!E$37))))))))","v":30},{"$f":"(BH92)-(IF(BI92=Entry!G$31,Entry!H$31/2+Entry!I$31,IF(BI92=Entry!G$32,Entry!H$32/2+Entry!I$32,IF(BI92=Entry!G$33,Entry!H$33/2+Entry!I$33,IF(BI92=Entry!G$34,Entry!H$34/2+Entry!I$34,IF(BI92=Entry!G$35,Entry!H$35/2+Entry!I$35,IF(BI92=Entry!G$36,Entry!H$36/2+Entry!I$36,IF(BI92=Entry!G$37,Entry!H$37/2+Entry!I$37))))))))","v":30},30,"2010-09-01",0,0,0,0,null,0,0,0,0,0,null,0,0,0,null,0,null,0,0,{"$f":"IF(Entry!B$27=\"Y\",0,CX92)","v":0},0,null,0,0,0,0,0,null,45,"2010-09-01",0,0,0,0,0,0,0,0,0,0,0,0,0,0,0,0,0,0,null,0,0]
[null,null,null,null,null,null,null,null,null,null,null,null,null,null,null,null,null,null,null,null,null,null,null,null,null,null,null,null,null,null,null,null,null,null,null,null,null,null,null,null,null,null,null,null,null,null,null,null,null,null,null,null,null,null,null,null,null,{"$f":"(BH93)-(IF(BI93=Entry!C$31,Entry!D$31/2+Entry!E$31,IF(BI93=Entry!C$32,Entry!D$32/2+Entry!E$32,IF(BI93=Entry!C$33,Entry!D$33/2+Entry!E$33,IF(BI93=Entry!C$34,Entry!D$34/2+Entry!E$34,IF(BI93=Entry!C$35,Entry!D$35/2+Entry!E$35,IF(BI93=Entry!C$36,Entry!D$36/2+Entry!E$36,IF(BI93=Entry!C$37,Entry!D$37/2+Entry!E$37))))))))","v":31},{"$f":"(BH93)-(IF(BI93=Entry!G$31,Entry!H$31/2+Entry!I$31,IF(BI93=Entry!G$32,Entry!H$32/2+Entry!I$32,IF(BI93=Entry!G$33,Entry!H$33/2+Entry!I$33,IF(BI93=Entry!G$34,Entry!H$34/2+Entry!I$34,IF(BI93=Entry!G$35,Entry!H$35/2+Entry!I$35,IF(BI93=Entry!G$36,Entry!H$36/2+Entry!I$36,IF(BI93=Entry!G$37,Entry!H$37/2+Entry!I$37))))))))","v":31},31,"2010-10-01",0,0,0,0,null,0,0,0,0,0,null,0,0,0,null,0,null,0,0,{"$f":"IF(Entry!B$27=\"Y\",0,CX93)","v":0},0,null,0,0,0,0,0,null,45,"2010-10-01",0,0,0,0,null,null,0,0,0,0,0,0,0,0,0,0,0,0,null,0,0]
[null,null,null,null,null,null,null,null,null,null,null,null,null,null,null,null,null,null,null,null,null,null,null,null,null,null,null,null,null,null,null,null,null,null,null,null,null,null,null,null,null,null,null,null,null,null,null,null,null,null,null,null,null,null,null,null,null,{"$f":"(BH94)-(IF(BI94=Entry!C$31,Entry!D$31/2+Entry!E$31,IF(BI94=Entry!C$32,Entry!D$32/2+Entry!E$32,IF(BI94=Entry!C$33,Entry!D$33/2+Entry!E$33,IF(BI94=Entry!C$34,Entry!D$34/2+Entry!E$34,IF(BI94=Entry!C$35,Entry!D$35/2+Entry!E$35,IF(BI94=Entry!C$36,Entry!D$36/2+Entry!E$36,IF(BI94=Entry!C$37,Entry!D$37/2+Entry!E$37))))))))","v":30},{"$f":"(BH94)-(IF(BI94=Entry!G$31,Entry!H$31/2+Entry!I$31,IF(BI94=Entry!G$32,Entry!H$32/2+Entry!I$32,IF(BI94=Entry!G$33,Entry!H$33/2+Entry!I$33,IF(BI94=Entry!G$34,Entry!H$34/2+Entry!I$34,IF(BI94=Entry!G$35,Entry!H$35/2+Entry!I$35,IF(BI94=Entry!G$36,Entry!H$36/2+Entry!I$36,IF(BI94=Entry!G$37,Entry!H$37/2+Entry!I$37))))))))","v":30},30,"2010-11-01",0,0,0,0,null,0,0,0,0,0,null,0,0,0,null,0,null,0,0,{"$f":"IF(Entry!B$27=\"Y\",0,CX94)","v":0},0,null,0,0,0,0,0,null,45,"2010-11-01",0,0,0,0,null,null,0,0,0,0,0,0,0,0,0,0,0,0,null,0,0]
[null,null,null,null,null,null,null,null,null,null,null,null,null,null,null,null,null,null,null,null,null,null,null,null,null,null,null,null,null,null,null,null,null,null,null,null,null,null,null,null,null,null,null,null,null,null,null,null,null,null,null,null,null,null,null,null,null,{"$f":"(BH95)-(IF(BI95=Entry!C$31,Entry!D$31/2+Entry!E$31,IF(BI95=Entry!C$32,Entry!D$32/2+Entry!E$32,IF(BI95=Entry!C$33,Entry!D$33/2+Entry!E$33,IF(BI95=Entry!C$34,Entry!D$34/2+Entry!E$34,IF(BI95=Entry!C$35,Entry!D$35/2+Entry!E$35,IF(BI95=Entry!C$36,Entry!D$36/2+Entry!E$36,IF(BI95=Entry!C$37,Entry!D$37/2+Entry!E$37))))))))","v":31},{"$f":"(BH95)-(IF(BI95=Entry!G$31,Entry!H$31/2+Entry!I$31,IF(BI95=Entry!G$32,Entry!H$32/2+Entry!I$32,IF(BI95=Entry!G$33,Entry!H$33/2+Entry!I$33,IF(BI95=Entry!G$34,Entry!H$34/2+Entry!I$34,IF(BI95=Entry!G$35,Entry!H$35/2+Entry!I$35,IF(BI95=Entry!G$36,Entry!H$36/2+Entry!I$36,IF(BI95=Entry!G$37,Entry!H$37/2+Entry!I$37))))))))","v":31},31,"2010-12-01",0,0,0,0,null,0,0,0,0,0,null,0,0,0,null,0,null,0,0,{"$f":"IF(Entry!B$27=\"Y\",0,CX95)","v":0},0,null,0,0,0,0,0,null,45,"2010-12-01",0,0,0,0,null,null,0,0,0,0,0,0,0,0,0,0,0,0,null,0,0]
[null,null,null,null,null,null,null,null,null,null,null,null,null,null,null,null,null,null,null,null,null,null,null,null,null,null,null,null,null,null,null,null,null,null,null,null,null,null,null,null,null,null,null,null,null,null,null,null,null,null,null,null,null,null,null,null,null,{"$f":"(BH96)-(IF(BI96=Entry!C$31,Entry!D$31/2+Entry!E$31,IF(BI96=Entry!C$32,Entry!D$32/2+Entry!E$32,IF(BI96=Entry!C$33,Entry!D$33/2+Entry!E$33,IF(BI96=Entry!C$34,Entry!D$34/2+Entry!E$34,IF(BI96=Entry!C$35,Entry!D$35/2+Entry!E$35,IF(BI96=Entry!C$36,Entry!D$36/2+Entry!E$36,IF(BI96=Entry!C$37,Entry!D$37/2+Entry!E$37))))))))","v":31},{"$f":"(BH96)-(IF(BI96=Entry!G$31,Entry!H$31/2+Entry!I$31,IF(BI96=Entry!G$32,Entry!H$32/2+Entry!I$32,IF(BI96=Entry!G$33,Entry!H$33/2+Entry!I$33,IF(BI96=Entry!G$34,Entry!H$34/2+Entry!I$34,IF(BI96=Entry!G$35,Entry!H$35/2+Entry!I$35,IF(BI96=Entry!G$36,Entry!H$36/2+Entry!I$36,IF(BI96=Entry!G$37,Entry!H$37/2+Entry!I$37))))))))","v":31},31,"2011-01-01",0,0,0,0,null,0,0,0,0,0,null,0,0,0,null,0,null,0,0,{"$f":"IF(Entry!B$27=\"Y\",0,CX96)","v":0},0,null,0,0,0,0,0,null,51,"2011-01-01",0,0,0,0,{"$f":"ROUND(CN96*6%,0)","v":0},{"$f":"ROUND(CO96*6%,0)","v":0},0,0,{"$f":"IF(CN96<1,0,IF(CN96<=7000,115,IF(CN96<=13000,190,IF(CN96<=21000,280,IF(CN96>21000,385)))))","v":0},0,0,0,0,0,0,0,0,0,null,0,0]
[null,null,null,null,null,null,null,null,null,null,null,null,null,null,null,null,null,null,null,null,null,null,null,null,null,null,null,null,null,null,null,null,null,null,null,null,null,null,null,null,null,null,null,null,null,null,null,null,null,null,null,null,null,null,null,null,null,{"$f":"(BH97)-(IF(BI97=Entry!C$31,Entry!D$31/2+Entry!E$31,IF(BI97=Entry!C$32,Entry!D$32/2+Entry!E$32,IF(BI97=Entry!C$33,Entry!D$33/2+Entry!E$33,IF(BI97=Entry!C$34,Entry!D$34/2+Entry!E$34,IF(BI97=Entry!C$35,Entry!D$35/2+Entry!E$35,IF(BI97=Entry!C$36,Entry!D$36/2+Entry!E$36,IF(BI97=Entry!C$37,Entry!D$37/2+Entry!E$37))))))))","v":28},{"$f":"(BH97)-(IF(BI97=Entry!G$31,Entry!H$31/2+Entry!I$31,IF(BI97=Entry!G$32,Entry!H$32/2+Entry!I$32,IF(BI97=Entry!G$33,Entry!H$33/2+Entry!I$33,IF(BI97=Entry!G$34,Entry!H$34/2+Entry!I$34,IF(BI97=Entry!G$35,Entry!H$35/2+Entry!I$35,IF(BI97=Entry!G$36,Entry!H$36/2+Entry!I$36,IF(BI97=Entry!G$37,Entry!H$37/2+Entry!I$37))))))))","v":28},28,"2011-02-01",0,0,0,0,null,0,0,0,0,0,null,0,0,0,null,0,null,0,0,{"$f":"IF(Entry!B$27=\"Y\",0,CX97)","v":0},0,null,0,0,0,0,0,null,51,"2011-02-01",0,0,0,0,{"$f":"ROUND(CN97*6%,0)","v":0},{"$f":"ROUND(CO97*6%,0)","v":0},0,0,0,0,0,0,0,0,0,0,0,0,null,0,0]
[null,null,null,null,null,null,null,null,null,null,null,null,null,null,null,null,null,null,null,null,null,null,null,null,null,null,null,null,null,null,null,null,null,null,null,null,null,null,null,null,null,null,null,null,null,null,null,null,null,null,null,null,null,null,null,null,null,{"$f":"(BH98)-(IF(BI98=Entry!C$31,Entry!D$31/2+Entry!E$31,IF(BI98=Entry!C$32,Entry!D$32/2+Entry!E$32,IF(BI98=Entry!C$33,Entry!D$33/2+Entry!E$33,IF(BI98=Entry!C$34,Entry!D$34/2+Entry!E$34,IF(BI98=Entry!C$35,Entry!D$35/2+Entry!E$35,IF(BI98=Entry!C$36,Entry!D$36/2+Entry!E$36,IF(BI98=Entry!C$37,Entry!D$37/2+Entry!E$37))))))))","v":31},{"$f":"(BH98)-(IF(BI98=Entry!G$31,Entry!H$31/2+Entry!I$31,IF(BI98=Entry!G$32,Entry!H$32/2+Entry!I$32,IF(BI98=Entry!G$33,Entry!H$33/2+Entry!I$33,IF(BI98=Entry!G$34,Entry!H$34/2+Entry!I$34,IF(BI98=Entry!G$35,Entry!H$35/2+Entry!I$35,IF(BI98=Entry!G$36,Entry!H$36/2+Entry!I$36,IF(BI98=Entry!G$37,Entry!H$37/2+Entry!I$37))))))))","v":31},31,"2011-03-01",0,0,0,0,null,0,0,0,0,0,null,0,0,0,null,0,null,0,0,{"$f":"IF(Entry!B$27=\"Y\",0,CX98)","v":0},0,null,0,0,0,0,0,null,51,"2011-03-01",0,0,0,0,0,0,0,0,0,0,{"$f":"IF(CV98>CW98,CV98-CW98,0)","v":0},0,0,0,0,0,0,0,null,0,0]
[null,null,null,null,null,null,null,null,null,null,null,null,null,null,null,null,null,null,null,null,null,null,null,null,null,null,null,null,null,null,null,null,null,null,null,null,null,null,null,null,null,null,null,null,null,null,null,null,null,null,null,null,null,null,null,null,null,{"$f":"(BH99)-(IF(BI99=Entry!C$31,Entry!D$31/2+Entry!E$31,IF(BI99=Entry!C$32,Entry!D$32/2+Entry!E$32,IF(BI99=Entry!C$33,Entry!D$33/2+Entry!E$33,IF(BI99=Entry!C$34,Entry!D$34/2+Entry!E$34,IF(BI99=Entry!C$35,Entry!D$35/2+Entry!E$35,IF(BI99=Entry!C$36,Entry!D$36/2+Entry!E$36,IF(BI99=Entry!C$37,Entry!D$37/2+Entry!E$37))))))))","v":30},{"$f":"(BH99)-(IF(BI99=Entry!G$31,Entry!H$31/2+Entry!I$31,IF(BI99=Entry!G$32,Entry!H$32/2+Entry!I$32,IF(BI99=Entry!G$33,Entry!H$33/2+Entry!I$33,IF(BI99=Entry!G$34,Entry!H$34/2+Entry!I$34,IF(BI99=Entry!G$35,Entry!H$35/2+Entry!I$35,IF(BI99=Entry!G$36,Entry!H$36/2+Entry!I$36,IF(BI99=Entry!G$37,Entry!H$37/2+Entry!I$37))))))))","v":30},30,"2011-04-01",0,0,0,0,null,0,0,0,0,0,null,0,0,0,null,0,null,0,0,{"$f":"IF(Entry!B$27=\"Y\",0,CX99)","v":0},0,null,0,0,0,0,0,null,51,"2011-04-01",0,0,0,0,null,null,0,0,0,0,0,0,0,0,0,0,0,0,null,0,0]
[null,null,null,null,null,null,null,null,null,null,null,null,null,null,null,null,null,null,null,null,null,null,null,null,null,null,null,null,null,null,null,null,null,null,null,null,null,null,null,null,null,null,null,null,null,null,null,null,null,null,null,null,null,null,null,null,null,{"$f":"(BH100)-(IF(BI100=Entry!C$31,Entry!D$31/2+Entry!E$31,IF(BI100=Entry!C$32,Entry!D$32/2+Entry!E$32,IF(BI100=Entry!C$33,Entry!D$33/2+Entry!E$33,IF(BI100=Entry!C$34,Entry!D$34/2+Entry!E$34,IF(BI100=Entry!C$35,Entry!D$35/2+Entry!E$35,IF(BI100=Entry!C$36,Entry!D$36/2+Entry!E$36,IF(BI100=Entry!C$37,Entry!D$37/2+Entry!E$37))))))))","v":31},{"$f":"(BH100)-(IF(BI100=Entry!G$31,Entry!H$31/2+Entry!I$31,IF(BI100=Entry!G$32,Entry!H$32/2+Entry!I$32,IF(BI100=Entry!G$33,Entry!H$33/2+Entry!I$33,IF(BI100=Entry!G$34,Entry!H$34/2+Entry!I$34,IF(BI100=Entry!G$35,Entry!H$35/2+Entry!I$35,IF(BI100=Entry!G$36,Entry!H$36/2+Entry!I$36,IF(BI100=Entry!G$37,Entry!H$37/2+Entry!I$37))))))))","v":31},31,"2011-05-01",0,0,{"$f":"IF(D$6=\"N\",0,IF(D$6=\"B\",DC100,DB100))","v":0},{"$f":"ROUND((BJ100)*(IF(D$5=\"Nill\",0,D$5)),0)","v":0},null,0,0,0,{"$f":"IF(D$6=\"N\",0,IF(D$6=\"B\",DE100,DD100))","v":0},{"$f":"ROUND((BP100)*(IF(D$5=\"Nill\",0,D$5)),0)","v":0},null,0,0,0,null,0,null,0,{"$f":"IF(CB$47=\"GPF\",CT100,IF(CB$47=\"ECpenF\",CI100,0))","v":0},{"$f":"IF(Entry!B$27=\"Y\",0,CX100)","v":0},0,null,0,0,0,0,0,null,51,"2011-05-01",0,0,0,0,null,null,{"$f":"IF(D$10=\"Nill\",0,IF(D$10=\"ALL\",(CR100+CP100),IF(D$10=\"DA\",CR100)))","v":0},{"$f":"IF(D$10=\"Nill\",0,IF(D$10=\"ALL\",(CQ100+CS100),IF(D$10=\"DA\",CS100)))","v":0},0,0,0,0,0,0,{"$f":"IF(BJ100<1,0,IF(BJ100<=7000,130,IF(BJ100<=10000,190,IF(BJ100<=13000,300,IF(BJ100>13000,480)))))","v":0},{"$f":"IF(BJ100<1,0,IF(BJ100<=7000,50,IF(BJ100<=10000,70,IF(BJ100<=13000,130,IF(BJ100>13000,240)))))","v":0},{"$f":"IF(BP100<1,0,IF(BP100<=7000,130,IF(BP100<=10000,190,IF(BP100<=13000,300,IF(BP100>13000,480)))))","v":0},{"$f":"IF(BP100<1,0,IF(BP100<=7000,50,IF(BP100<=10000,70,IF(BP100<=13000,130,IF(BP100>13000,240)))))","v":0},null,0,0]
[null,null,null,null,null,null,null,null,null,null,null,null,null,null,null,null,null,null,null,null,null,null,null,null,null,null,null,null,null,null,null,null,null,null,null,null,null,null,null,null,null,null,null,null,null,null,null,null,null,null,null,null,null,null,null,null,null,{"$f":"(BH101)-(IF(BI101=Entry!C$31,Entry!D$31/2+Entry!E$31,IF(BI101=Entry!C$32,Entry!D$32/2+Entry!E$32,IF(BI101=Entry!C$33,Entry!D$33/2+Entry!E$33,IF(BI101=Entry!C$34,Entry!D$34/2+Entry!E$34,IF(BI101=Entry!C$35,Entry!D$35/2+Entry!E$35,IF(BI101=Entry!C$36,Entry!D$36/2+Entry!E$36,IF(BI101=Entry!C$37,Entry!D$37/2+Entry!E$37))))))))","v":30},{"$f":"(BH101)-(IF(BI101=Entry!G$31,Entry!H$31/2+Entry!I$31,IF(BI101=Entry!G$32,Entry!H$32/2+Entry!I$32,IF(BI101=Entry!G$33,Entry!H$33/2+Entry!I$33,IF(BI101=Entry!G$34,Entry!H$34/2+Entry!I$34,IF(BI101=Entry!G$35,Entry!H$35/2+Entry!I$35,IF(BI101=Entry!G$36,Entry!H$36/2+Entry!I$36,IF(BI101=Entry!G$37,Entry!H$37/2+Entry!I$37))))))))","v":30},30,"2011-06-01",0,0,0,0,null,0,0,0,0,0,null,0,0,0,null,0,null,0,0,{"$f":"IF(Entry!B$27=\"Y\",0,CX101)","v":0},0,null,0,0,0,0,0,null,51,"2011-06-01",0,0,0,0,null,null,0,0,0,0,0,0,0,0,0,0,0,0,null,0,0]
[null,null,null,null,null,null,null,null,null,null,null,null,null,null,null,null,null,null,null,null,null,null,null,null,null,null,null,null,null,null,null,null,null,null,null,null,null,null,null,null,null,null,null,null,null,null,null,null,null,null,null,null,null,null,null,null,null,{"$f":"(BH102)-(IF(BI102=Entry!C$31,Entry!D$31/2+Entry!E$31,IF(BI102=Entry!C$32,Entry!D$32/2+Entry!E$32,IF(BI102=Entry!C$33,Entry!D$33/2+Entry!E$33,IF(BI102=Entry!C$34,Entry!D$34/2+Entry!E$34,IF(BI102=Entry!C$35,Entry!D$35/2+Entry!E$35,IF(BI102=Entry!C$36,Entry!D$36/2+Entry!E$36,IF(BI102=Entry!C$37,Entry!D$37/2+Entry!E$37))))))))","v":31},{"$f":"(BH102)-(IF(BI102=Entry!G$31,Entry!H$31/2+Entry!I$31,IF(BI102=Entry!G$32,Entry!H$32/2+Entry!I$32,IF(BI102=Entry!G$33,Entry!H$33/2+Entry!I$33,IF(BI102=Entry!G$34,Entry!H$34/2+Entry!I$34,IF(BI102=Entry!G$35,Entry!H$35/2+Entry!I$35,IF(BI102=Entry!G$36,Entry!H$36/2+Entry!I$36,IF(BI102=Entry!G$37,Entry!H$37/2+Entry!I$37))))))))","v":31},31,"2011-07-01",0,0,0,0,null,0,0,0,0,0,null,0,0,0,null,0,null,0,0,{"$f":"IF(Entry!B$27=\"Y\",0,CX102)","v":0},0,null,0,0,0,0,0,null,58,"2011-07-01",0,0,0,0,{"$f":"ROUND(CN102*7%,0)","v":0},{"$f":"ROUND(CO102*7%,0)","v":0},0,0,{"$f":"IF(CN102<1,0,IF(CN102<=7000,130,IF(CN102<=13000,220,IF(CN102<=21000,325,IF(CN102>21000,445)))))","v":0},{"$f":"IF(CO102<1,0,IF(CO102<=7000,130,IF(CO102<=13000,220,IF(CO102<=21000,325,IF(CO102>21000,445)))))","v":0},0,0,{"$f":"IF(CO102<1,0,IF(CO102<=8500,330,IF(CO102<=11000,450,IF(CO102<=18000,900,IF(CO102<=28000,1300,IF(CO102>=28000,2200))))))","v":0},0,0,0,0,0,null,0,0]
[null,null,null,null,null,null,null,null,null,null,null,null,null,null,null,null,null,null,null,null,null,null,null,null,null,null,null,null,null,null,null,null,null,null,null,null,null,null,null,null,null,null,null,null,null,null,null,null,null,null,null,null,null,null,null,null,null,{"$f":"(BH103)-(IF(BI103=Entry!C$31,Entry!D$31/2+Entry!E$31,IF(BI103=Entry!C$32,Entry!D$32/2+Entry!E$32,IF(BI103=Entry!C$33,Entry!D$33/2+Entry!E$33,IF(BI103=Entry!C$34,Entry!D$34/2+Entry!E$34,IF(BI103=Entry!C$35,Entry!D$35/2+Entry!E$35,IF(BI103=Entry!C$36,Entry!D$36/2+Entry!E$36,IF(BI103=Entry!C$37,Entry!D$37/2+Entry!E$37))))))))","v":31},{"$f":"(BH103)-(IF(BI103=Entry!G$31,Entry!H$31/2+Entry!I$31,IF(BI103=Entry!G$32,Entry!H$32/2+Entry!I$32,IF(BI103=Entry!G$33,Entry!H$33/2+Entry!I$33,IF(BI103=Entry!G$34,Entry!H$34/2+Entry!I$34,IF(BI103=Entry!G$35,Entry!H$35/2+Entry!I$35,IF(BI103=Entry!G$36,Entry!H$36/2+Entry!I$36,IF(BI103=Entry!G$37,Entry!H$37/2+Entry!I$37))))))))","v":31},31,"2011-08-01",0,0,0,0,null,0,0,0,0,0,null,0,0,0,null,0,null,0,0,{"$f":"IF(Entry!B$27=\"Y\",0,CX103)","v":0},0,null,0,0,0,0,0,null,58,"2011-08-01",0,0,0,0,{"$f":"ROUND(CN103*7%,0)","v":0},{"$f":"ROUND(CO103*7%,0)","v":0},0,0,0,0,0,0,0,0,0,0,0,0,null,0,0]
[null,null,null,null,null,null,null,null,null,null,null,null,null,null,null,null,null,null,null,null,null,null,null,null,null,null,null,null,null,null,null,null,null,null,null,null,null,null,null,null,null,null,null,null,null,null,null,null,null,null,null,null,null,null,null,null,null,{"$f":"(BH104)-(IF(BI104=Entry!C$31,Entry!D$31/2+Entry!E$31,IF(BI104=Entry!C$32,Entry!D$32/2+Entry!E$32,IF(BI104=Entry!C$33,Entry!D$33/2+Entry!E$33,IF(BI104=Entry!C$34,Entry!D$34/2+Entry!E$34,IF(BI104=Entry!C$35,Entry!D$35/2+Entry!E$35,IF(BI104=Entry!C$36,Entry!D$36/2+Entry!E$36,IF(BI104=Entry!C$37,Entry!D$37/2+Entry!E$37))))))))","v":30},{"$f":"(BH104)-(IF(BI104=Entry!G$31,Entry!H$31/2+Entry!I$31,IF(BI104=Entry!G$32,Entry!H$32/2+Entry!I$32,IF(BI104=Entry!G$33,Entry!H$33/2+Entry!I$33,IF(BI104=Entry!G$34,Entry!H$34/2+Entry!I$34,IF(BI104=Entry!G$35,Entry!H$35/2+Entry!I$35,IF(BI104=Entry!G$36,Entry!H$36/2+Entry!I$36,IF(BI104=Entry!G$37,Entry!H$37/2+Entry!I$37))))))))","v":30},30,"2011-09-01",0,0,0,0,null,0,0,0,0,0,null,0,0,0,null,0,null,0,0,{"$f":"IF(Entry!B$27=\"Y\",0,CX104)","v":0},0,null,0,0,0,0,0,null,58,"2011-09-01",0,0,0,0,null,null,0,0,0,0,0,0,0,0,0,0,0,0,null,0,0]
[null,null,null,null,null,null,null,null,null,null,null,null,null,null,null,null,null,null,null,null,null,null,null,null,null,null,null,null,null,null,null,null,null,null,null,null,null,null,null,null,null,null,null,null,null,null,null,null,null,null,null,null,null,null,null,null,null,{"$f":"(BH105)-(IF(BI105=Entry!C$31,Entry!D$31/2+Entry!E$31,IF(BI105=Entry!C$32,Entry!D$32/2+Entry!E$32,IF(BI105=Entry!C$33,Entry!D$33/2+Entry!E$33,IF(BI105=Entry!C$34,Entry!D$34/2+Entry!E$34,IF(BI105=Entry!C$35,Entry!D$35/2+Entry!E$35,IF(BI105=Entry!C$36,Entry!D$36/2+Entry!E$36,IF(BI105=Entry!C$37,Entry!D$37/2+Entry!E$37))))))))","v":31},{"$f":"(BH105)-(IF(BI105=Entry!G$31,Entry!H$31/2+Entry!I$31,IF(BI105=Entry!G$32,Entry!H$32/2+Entry!I$32,IF(BI105=Entry!G$33,Entry!H$33/2+Entry!I$33,IF(BI105=Entry!G$34,Entry!H$34/2+Entry!I$34,IF(BI105=Entry!G$35,Entry!H$35/2+Entry!I$35,IF(BI105=Entry!G$36,Entry!H$36/2+Entry!I$36,IF(BI105=Entry!G$37,Entry!H$37/2+Entry!I$37))))))))","v":31},31,"2011-10-01",0,0,0,0,null,0,0,0,0,0,null,0,0,0,null,0,null,0,0,{"$f":"IF(Entry!B$27=\"Y\",0,CX105)","v":0},0,null,0,0,0,0,0,null,58,"2011-10-01",0,0,0,0,null,null,0,0,0,0,0,0,0,0,0,0,0,0,null,0,0]
[null,null,null,null,null,null,null,null,null,null,null,null,null,null,null,null,null,null,null,null,null,null,null,null,null,null,null,null,null,null,null,null,null,null,null,null,null,null,null,null,null,null,null,null,null,null,null,null,null,null,null,null,null,null,null,null,null,{"$f":"(BH106)-(IF(BI106=Entry!C$31,Entry!D$31/2+Entry!E$31,IF(BI106=Entry!C$32,Entry!D$32/2+Entry!E$32,IF(BI106=Entry!C$33,Entry!D$33/2+Entry!E$33,IF(BI106=Entry!C$34,Entry!D$34/2+Entry!E$34,IF(BI106=Entry!C$35,Entry!D$35/2+Entry!E$35,IF(BI106=Entry!C$36,Entry!D$36/2+Entry!E$36,IF(BI106=Entry!C$37,Entry!D$37/2+Entry!E$37))))))))","v":30},{"$f":"(BH106)-(IF(BI106=Entry!G$31,Entry!H$31/2+Entry!I$31,IF(BI106=Entry!G$32,Entry!H$32/2+Entry!I$32,IF(BI106=Entry!G$33,Entry!H$33/2+Entry!I$33,IF(BI106=Entry!G$34,Entry!H$34/2+Entry!I$34,IF(BI106=Entry!G$35,Entry!H$35/2+Entry!I$35,IF(BI106=Entry!G$36,Entry!H$36/2+Entry!I$36,IF(BI106=Entry!G$37,Entry!H$37/2+Entry!I$37))))))))","v":30},30,"2011-11-01",0,0,0,0,null,0,0,0,0,0,null,0,0,0,null,0,null,0,0,{"$f":"IF(Entry!B$27=\"Y\",0,CX106)","v":0},0,null,0,0,0,0,0,null,58,"2011-11-01",0,0,0,0,null,null,0,0,0,0,0,0,0,0,0,0,0,0,null,0,0]
[null,null,null,null,null,null,null,null,null,null,null,null,null,null,null,null,null,null,null,null,null,null,null,null,null,null,null,null,null,null,null,null,null,null,null,null,null,null,null,null,null,null,null,null,null,null,null,null,null,null,null,null,null,null,null,null,null,{"$f":"(BH107)-(IF(BI107=Entry!C$31,Entry!D$31/2+Entry!E$31,IF(BI107=Entry!C$32,Entry!D$32/2+Entry!E$32,IF(BI107=Entry!C$33,Entry!D$33/2+Entry!E$33,IF(BI107=Entry!C$34,Entry!D$34/2+Entry!E$34,IF(BI107=Entry!C$35,Entry!D$35/2+Entry!E$35,IF(BI107=Entry!C$36,Entry!D$36/2+Entry!E$36,IF(BI107=Entry!C$37,Entry!D$37/2+Entry!E$37))))))))","v":31},{"$f":"(BH107)-(IF(BI107=Entry!G$31,Entry!H$31/2+Entry!I$31,IF(BI107=Entry!G$32,Entry!H$32/2+Entry!I$32,IF(BI107=Entry!G$33,Entry!H$33/2+Entry!I$33,IF(BI107=Entry!G$34,Entry!H$34/2+Entry!I$34,IF(BI107=Entry!G$35,Entry!H$35/2+Entry!I$35,IF(BI107=Entry!G$36,Entry!H$36/2+Entry!I$36,IF(BI107=Entry!G$37,Entry!H$37/2+Entry!I$37))))))))","v":31},31,"2011-12-01",0,0,0,0,null,0,0,0,0,0,null,0,0,0,null,0,null,0,0,{"$f":"IF(Entry!B$27=\"Y\",0,CX107)","v":0},0,null,0,0,0,0,0,null,58,"2011-12-01",0,0,0,0,null,null,0,0,0,0,0,0,0,{"$f":"IF((MONTH(CM107))=3,(CY107-CZ107),DA106)","v":0},0,0,0,0,null,0,0]
[null,null,null,null,null,null,null,null,null,null,null,null,null,null,null,null,null,null,null,null,null,null,null,null,null,null,null,null,null,null,null,null,null,null,null,null,null,null,null,null,null,null,null,null,null,null,null,null,null,null,null,null,null,null,null,null,null,{"$f":"(BH108)-(IF(BI108=Entry!C$31,Entry!D$31/2+Entry!E$31,IF(BI108=Entry!C$32,Entry!D$32/2+Entry!E$32,IF(BI108=Entry!C$33,Entry!D$33/2+Entry!E$33,IF(BI108=Entry!C$34,Entry!D$34/2+Entry!E$34,IF(BI108=Entry!C$35,Entry!D$35/2+Entry!E$35,IF(BI108=Entry!C$36,Entry!D$36/2+Entry!E$36,IF(BI108=Entry!C$37,Entry!D$37/2+Entry!E$37))))))))","v":31},{"$f":"(BH108)-(IF(BI108=Entry!G$31,Entry!H$31/2+Entry!I$31,IF(BI108=Entry!G$32,Entry!H$32/2+Entry!I$32,IF(BI108=Entry!G$33,Entry!H$33/2+Entry!I$33,IF(BI108=Entry!G$34,Entry!H$34/2+Entry!I$34,IF(BI108=Entry!G$35,Entry!H$35/2+Entry!I$35,IF(BI108=Entry!G$36,Entry!H$36/2+Entry!I$36,IF(BI108=Entry!G$37,Entry!H$37/2+Entry!I$37))))))))","v":31},31,"2012-01-01",0,0,0,0,null,0,0,0,0,0,null,0,0,0,null,0,null,0,0,{"$f":"IF(Entry!B$27=\"Y\",0,CX108)","v":0},0,null,0,0,0,0,0,null,65,"2012-01-01",0,0,0,0,{"$f":"ROUND(CN108*7%,0)","v":0},{"$f":"ROUND(CO108*7%,0)","v":0},0,0,0,0,0,0,0,0,0,0,0,0,null,0,0]
[null,null,null,null,null,null,null,null,null,null,null,null,null,null,null,null,null,null,null,null,null,null,null,null,null,null,null,null,null,null,null,null,null,null,null,null,null,null,null,null,null,null,null,null,null,null,null,null,null,null,null,null,null,null,null,null,null,{"$f":"(BH109)-(IF(BI109=Entry!C$31,Entry!D$31/2+Entry!E$31,IF(BI109=Entry!C$32,Entry!D$32/2+Entry!E$32,IF(BI109=Entry!C$33,Entry!D$33/2+Entry!E$33,IF(BI109=Entry!C$34,Entry!D$34/2+Entry!E$34,IF(BI109=Entry!C$35,Entry!D$35/2+Entry!E$35,IF(BI109=Entry!C$36,Entry!D$36/2+Entry!E$36,IF(BI109=Entry!C$37,Entry!D$37/2+Entry!E$37))))))))","v":29},{"$f":"(BH109)-(IF(BI109=Entry!G$31,Entry!H$31/2+Entry!I$31,IF(BI109=Entry!G$32,Entry!H$32/2+Entry!I$32,IF(BI109=Entry!G$33,Entry!H$33/2+Entry!I$33,IF(BI109=Entry!G$34,Entry!H$34/2+Entry!I$34,IF(BI109=Entry!G$35,Entry!H$35/2+Entry!I$35,IF(BI109=Entry!G$36,Entry!H$36/2+Entry!I$36,IF(BI109=Entry!G$37,Entry!H$37/2+Entry!I$37))))))))","v":29},29,"2012-02-01",0,0,0,0,null,0,0,0,0,0,null,0,0,0,null,0,null,0,0,{"$f":"IF(Entry!B$27=\"Y\",0,CX109)","v":0},0,null,0,0,0,0,0,null,65,"2012-02-01",0,0,0,0,{"$f":"ROUND(CN109*7%,0)","v":0},{"$f":"ROUND(CO109*7%,0)","v":0},0,0,0,0,0,0,0,0,0,0,0,0,null,0,0]
[null,null,null,null,null,null,null,null,null,null,null,null,null,null,null,null,null,null,null,null,null,null,null,null,null,null,null,null,null,null,null,null,null,null,null,null,null,null,null,null,null,null,null,null,null,null,null,null,null,null,null,null,null,null,null,null,null,{"$f":"(BH110)-(IF(BI110=Entry!C$31,Entry!D$31/2+Entry!E$31,IF(BI110=Entry!C$32,Entry!D$32/2+Entry!E$32,IF(BI110=Entry!C$33,Entry!D$33/2+Entry!E$33,IF(BI110=Entry!C$34,Entry!D$34/2+Entry!E$34,IF(BI110=Entry!C$35,Entry!D$35/2+Entry!E$35,IF(BI110=Entry!C$36,Entry!D$36/2+Entry!E$36,IF(BI110=Entry!C$37,Entry!D$37/2+Entry!E$37))))))))","v":31},{"$f":"(BH110)-(IF(BI110=Entry!G$31,Entry!H$31/2+Entry!I$31,IF(BI110=Entry!G$32,Entry!H$32/2+Entry!I$32,IF(BI110=Entry!G$33,Entry!H$33/2+Entry!I$33,IF(BI110=Entry!G$34,Entry!H$34/2+Entry!I$34,IF(BI110=Entry!G$35,Entry!H$35/2+Entry!I$35,IF(BI110=Entry!G$36,Entry!H$36/2+Entry!I$36,IF(BI110=Entry!G$37,Entry!H$37/2+Entry!I$37))))))))","v":31},31,"2012-03-01",0,0,0,0,null,0,0,0,0,0,null,0,0,0,null,0,null,0,0,{"$f":"IF(Entry!B$27=\"Y\",0,CX110)","v":0},0,null,0,0,0,0,0,null,65,"2012-03-01",0,0,0,0,0,0,0,0,0,0,0,0,0,0,0,0,0,0,null,0,0]
[null,null,null,null,null,null,null,null,null,null,null,null,null,null,null,null,null,null,null,null,null,null,null,null,null,null,null,null,null,null,null,null,null,null,null,null,null,null,null,null,null,null,null,null,null,null,null,null,null,null,null,null,null,null,null,null,null,{"$f":"(BH111)-(IF(BI111=Entry!C$31,Entry!D$31/2+Entry!E$31,IF(BI111=Entry!C$32,Entry!D$32/2+Entry!E$32,IF(BI111=Entry!C$33,Entry!D$33/2+Entry!E$33,IF(BI111=Entry!C$34,Entry!D$34/2+Entry!E$34,IF(BI111=Entry!C$35,Entry!D$35/2+Entry!E$35,IF(BI111=Entry!C$36,Entry!D$36/2+Entry!E$36,IF(BI111=Entry!C$37,Entry!D$37/2+Entry!E$37))))))))","v":30},{"$f":"(BH111)-(IF(BI111=Entry!G$31,Entry!H$31/2+Entry!I$31,IF(BI111=Entry!G$32,Entry!H$32/2+Entry!I$32,IF(BI111=Entry!G$33,Entry!H$33/2+Entry!I$33,IF(BI111=Entry!G$34,Entry!H$34/2+Entry!I$34,IF(BI111=Entry!G$35,Entry!H$35/2+Entry!I$35,IF(BI111=Entry!G$36,Entry!H$36/2+Entry!I$36,IF(BI111=Entry!G$37,Entry!H$37/2+Entry!I$37))))))))","v":30},30,"2012-04-01",0,0,0,0,null,0,0,0,0,0,null,0,0,0,null,0,null,0,0,{"$f":"IF(Entry!B$27=\"Y\",0,CX111)","v":0},0,null,0,0,0,0,0,null,65,"2012-04-01",0,0,0,0,null,null,0,0,0,0,0,0,0,0,0,0,0,0,null,0,0]
[null,null,null,null,null,null,null,null,null,null,null,null,null,null,null,null,null,null,null,null,null,null,null,null,null,null,null,null,null,null,null,null,null,null,null,null,null,null,null,null,null,null,null,null,null,null,null,null,null,null,null,null,null,null,null,null,null,{"$f":"(BH112)-(IF(BI112=Entry!C$31,Entry!D$31/2+Entry!E$31,IF(BI112=Entry!C$32,Entry!D$32/2+Entry!E$32,IF(BI112=Entry!C$33,Entry!D$33/2+Entry!E$33,IF(BI112=Entry!C$34,Entry!D$34/2+Entry!E$34,IF(BI112=Entry!C$35,Entry!D$35/2+Entry!E$35,IF(BI112=Entry!C$36,Entry!D$36/2+Entry!E$36,IF(BI112=Entry!C$37,Entry!D$37/2+Entry!E$37))))))))","v":31},{"$f":"(BH112)-(IF(BI112=Entry!G$31,Entry!H$31/2+Entry!I$31,IF(BI112=Entry!G$32,Entry!H$32/2+Entry!I$32,IF(BI112=Entry!G$33,Entry!H$33/2+Entry!I$33,IF(BI112=Entry!G$34,Entry!H$34/2+Entry!I$34,IF(BI112=Entry!G$35,Entry!H$35/2+Entry!I$35,IF(BI112=Entry!G$36,Entry!H$36/2+Entry!I$36,IF(BI112=Entry!G$37,Entry!H$37/2+Entry!I$37))))))))","v":31},31,"2012-05-01",0,{"$f":"IF(D$4=\"N\",0,(ROUND((BJ112)*(CL112%),0)))","v":0},0,0,null,{"$f":"SUM(BJ112:BM112)","v":0},0,{"$f":"IF(D$4=\"N\",0,(ROUND((BP112)*(CL112%),0)))","v":0},0,0,null,{"$f":"SUM(BP112:BS112)","v":0},{"$f":"BJ112-BP112","v":0},{"$f":"BK112-BQ112","v":0},null,{"$f":"BM112-BS112","v":0},null,{"$f":"SUM(BV112:BY112)","v":0},0,{"$f":"IF(Entry!B$27=\"Y\",0,CX112)","v":0},0,null,{"$f":"ROUND(CA112*(D$16%),0)","v":0},{"$f":"SUM(CB112:CF112)","v":0},{"$f":"CA112-CG112","v":0},0,0,null,65,{"$f":"BI112","v":"2012-05-01"},0,0,0,0,null,null,0,0,0,0,0,0,0,0,0,0,0,0,null,0,0]
[null,null,null,null,null,null,null,null,null,null,null,null,null,null,null,null,null,null,null,null,null,null,null,null,null,null,null,null,null,null,null,null,null,null,null,null,null,null,null,null,null,null,null,null,null,null,null,null,null,null,null,null,null,null,null,null,null,{"$f":"(BH113)-(IF(BI113=Entry!C$31,Entry!D$31/2+Entry!E$31,IF(BI113=Entry!C$32,Entry!D$32/2+Entry!E$32,IF(BI113=Entry!C$33,Entry!D$33/2+Entry!E$33,IF(BI113=Entry!C$34,Entry!D$34/2+Entry!E$34,IF(BI113=Entry!C$35,Entry!D$35/2+Entry!E$35,IF(BI113=Entry!C$36,Entry!D$36/2+Entry!E$36,IF(BI113=Entry!C$37,Entry!D$37/2+Entry!E$37))))))))","v":30},{"$f":"(BH113)-(IF(BI113=Entry!G$31,Entry!H$31/2+Entry!I$31,IF(BI113=Entry!G$32,Entry!H$32/2+Entry!I$32,IF(BI113=Entry!G$33,Entry!H$33/2+Entry!I$33,IF(BI113=Entry!G$34,Entry!H$34/2+Entry!I$34,IF(BI113=Entry!G$35,Entry!H$35/2+Entry!I$35,IF(BI113=Entry!G$36,Entry!H$36/2+Entry!I$36,IF(BI113=Entry!G$37,Entry!H$37/2+Entry!I$37))))))))","v":30},30,"2012-06-01",0,0,0,0,null,0,0,0,0,0,null,0,0,0,null,0,null,0,0,{"$f":"IF(Entry!B$27=\"Y\",0,CX113)","v":0},{"$f":"IF(MONTH(BI113)=3,DA113,CD112)","v":0},null,0,0,0,{"$f":"ROUND((BJ113+BK113)*10%,0)","v":0},{"$f":"ROUND((BP113+BQ113)*10%,0)","v":0},null,65,"2012-06-01",{"$f":"IF(BJ113=0,0,(IF(ISNA(LOOKUP(BI113,BL$31:BL$43,BM$31:BM$43)),0,LOOKUP(BI113,BL$31:BL$43,BM$31:BM$43))))","v":0},{"$f":"(IF(BJ113=0,0,(LOOKUP(BI113,BV$31:BV$43,BW$31:BW$43))))","v":0},{"$f":"IF(CN113=0,0,IF(CN113<=9000,500,IF(CN113<=11000,650,IF(CN113<=15000,1100,IF(CN113<=20000,1450,IF(CN113<=24000,2100,IF(CN113<=28000,3300,IF(CN113<=31000,4100,IF(CN113<=45000,5200,5700)))))))))","v":0},{"$f":"IF(CO113=0,0,IF(CO113<=9000,500,IF(CO113<=11000,650,IF(CO113<=15000,1100,IF(CO113<=20000,1450,IF(CO113<=24000,2100,IF(CO113<=28000,3300,IF(CO113<=31000,4100,IF(CO113<=45000,5200,5700)))))))))","v":0},null,null,0,0,0,0,0,0,0,0,0,0,0,0,null,{"$f":"IF(DF$44=\"Y\",CI113,CT113)","v":0},{"$f":"IF(DF$44=\"Y\",CJ113,CU113)","v":0}]
[null,null,null,null,null,null,null,null,null,null,null,null,null,null,null,null,null,null,null,null,null,null,null,null,null,null,null,null,null,null,null,null,null,null,null,null,null,null,null,null,null,null,null,null,null,null,null,null,null,null,null,null,null,null,null,null,null,{"$f":"(BH114)-(IF(BI114=Entry!C$31,Entry!D$31/2+Entry!E$31,IF(BI114=Entry!C$32,Entry!D$32/2+Entry!E$32,IF(BI114=Entry!C$33,Entry!D$33/2+Entry!E$33,IF(BI114=Entry!C$34,Entry!D$34/2+Entry!E$34,IF(BI114=Entry!C$35,Entry!D$35/2+Entry!E$35,IF(BI114=Entry!C$36,Entry!D$36/2+Entry!E$36,IF(BI114=Entry!C$37,Entry!D$37/2+Entry!E$37))))))))","v":31},{"$f":"(BH114)-(IF(BI114=Entry!G$31,Entry!H$31/2+Entry!I$31,IF(BI114=Entry!G$32,Entry!H$32/2+Entry!I$32,IF(BI114=Entry!G$33,Entry!H$33/2+Entry!I$33,IF(BI114=Entry!G$34,Entry!H$34/2+Entry!I$34,IF(BI114=Entry!G$35,Entry!H$35/2+Entry!I$35,IF(BI114=Entry!G$36,Entry!H$36/2+Entry!I$36,IF(BI114=Entry!G$37,Entry!H$37/2+Entry!I$37))))))))","v":31},31,"2012-07-01",{"$f":"ROUND(IF(BI114>=BM$29,0,IF(AND(BI114=BL$31,BM$31>BO$31),BO$31,IF(BI113=BL$31,BM$31,IF(ISERROR(INDEX(BM$31:BM$43,MATCH(BI114,BL$31:BL$43))),BJ113,INDEX(BM$31:BM$43,MATCH(BI114,BL$31:BL$43)))))/BH114*BF114),0)","v":0},0,0,0,null,0,{"$f":"ROUND(IF(BI114>=BW$29,0,IF(AND(BI114=BV$31,BW$31>BY$31),BY$31,IF(BI113=BV$31,BW$31,IF(ISERROR(INDEX(BW$31:BW$43,MATCH(BI114,BV$31:BV$43))),BJ113,INDEX(BW$31:BW$43,MATCH(BI114,BV$31:BV$43)))))/BH114*BG114),0)","v":0},0,0,0,null,0,0,0,null,0,null,0,0,{"$f":"IF(Entry!B$27=\"Y\",0,CX114)","v":0},0,null,0,0,0,0,0,null,72,"2012-07-01",0,0,0,0,{"$f":"ROUND(CN114*7%,0)","v":0},{"$f":"ROUND(CO114*7%,0)","v":0},0,0,0,0,0,0,0,0,0,0,0,0,null,0,0]
[null,null,null,null,null,null,null,null,null,null,null,null,null,null,null,null,null,null,null,null,null,null,null,null,null,null,null,null,null,null,null,null,null,null,null,null,null,null,null,null,null,null,null,null,null,null,null,null,null,null,null,null,null,null,null,null,null,{"$f":"(BH115)-(IF(BI115=Entry!C$31,Entry!D$31/2+Entry!E$31,IF(BI115=Entry!C$32,Entry!D$32/2+Entry!E$32,IF(BI115=Entry!C$33,Entry!D$33/2+Entry!E$33,IF(BI115=Entry!C$34,Entry!D$34/2+Entry!E$34,IF(BI115=Entry!C$35,Entry!D$35/2+Entry!E$35,IF(BI115=Entry!C$36,Entry!D$36/2+Entry!E$36,IF(BI115=Entry!C$37,Entry!D$37/2+Entry!E$37))))))))","v":31},{"$f":"(BH115)-(IF(BI115=Entry!G$31,Entry!H$31/2+Entry!I$31,IF(BI115=Entry!G$32,Entry!H$32/2+Entry!I$32,IF(BI115=Entry!G$33,Entry!H$33/2+Entry!I$33,IF(BI115=Entry!G$34,Entry!H$34/2+Entry!I$34,IF(BI115=Entry!G$35,Entry!H$35/2+Entry!I$35,IF(BI115=Entry!G$36,Entry!H$36/2+Entry!I$36,IF(BI115=Entry!G$37,Entry!H$37/2+Entry!I$37))))))))","v":31},31,"2012-08-01",0,0,0,0,null,0,0,0,0,0,null,0,0,0,null,0,null,0,0,{"$f":"IF(Entry!B$27=\"Y\",0,CX115)","v":0},0,null,0,0,0,0,0,null,{"$f":"IF(F$9=CM115,G$9,IF(F$12=CM115,G$12,IF(F$22=CM115,G$22,IF(F$29=CM115,G$29,CL114))))","v":72},"2012-08-01",0,0,0,0,0,0,0,0,0,0,0,0,0,0,0,0,0,0,null,0,0]
[null,null,null,null,null,null,null,null,null,null,null,null,null,null,null,null,null,null,null,null,null,null,null,null,null,null,null,null,null,null,null,null,null,null,null,null,null,null,null,null,null,null,null,null,null,null,null,null,null,null,null,null,null,null,null,null,null,{"$f":"(BH116)-(IF(BI116=Entry!C$31,Entry!D$31/2+Entry!E$31,IF(BI116=Entry!C$32,Entry!D$32/2+Entry!E$32,IF(BI116=Entry!C$33,Entry!D$33/2+Entry!E$33,IF(BI116=Entry!C$34,Entry!D$34/2+Entry!E$34,IF(BI116=Entry!C$35,Entry!D$35/2+Entry!E$35,IF(BI116=Entry!C$36,Entry!D$36/2+Entry!E$36,IF(BI116=Entry!C$37,Entry!D$37/2+Entry!E$37))))))))","v":30},{"$f":"(BH116)-(IF(BI116=Entry!G$31,Entry!H$31/2+Entry!I$31,IF(BI116=Entry!G$32,Entry!H$32/2+Entry!I$32,IF(BI116=Entry!G$33,Entry!H$33/2+Entry!I$33,IF(BI116=Entry!G$34,Entry!H$34/2+Entry!I$34,IF(BI116=Entry!G$35,Entry!H$35/2+Entry!I$35,IF(BI116=Entry!G$36,Entry!H$36/2+Entry!I$36,IF(BI116=Entry!G$37,Entry!H$37/2+Entry!I$37))))))))","v":30},30,"2012-09-01",0,0,0,0,null,0,0,0,0,0,null,0,0,0,null,0,null,0,0,{"$f":"IF(Entry!B$27=\"Y\",0,CX116)","v":0},0,null,0,0,0,0,0,null,{"$f":"IF(F$9=CM116,G$9,IF(F$12=CM116,G$12,IF(F$22=CM116,G$22,IF(F$29=CM116,G$29,CL115))))","v":72},"2012-09-01",0,0,0,0,0,0,0,0,0,0,0,0,0,0,0,0,0,0,null,0,0]
[null,null,null,null,null,null,null,null,null,null,null,null,null,null,null,null,null,null,null,null,null,null,null,null,null,null,null,null,null,null,null,null,null,null,null,null,null,null,null,null,null,null,null,null,null,null,null,null,null,null,null,null,null,null,null,null,null,{"$f":"(BH117)-(IF(BI117=Entry!C$31,Entry!D$31/2+Entry!E$31,IF(BI117=Entry!C$32,Entry!D$32/2+Entry!E$32,IF(BI117=Entry!C$33,Entry!D$33/2+Entry!E$33,IF(BI117=Entry!C$34,Entry!D$34/2+Entry!E$34,IF(BI117=Entry!C$35,Entry!D$35/2+Entry!E$35,IF(BI117=Entry!C$36,Entry!D$36/2+Entry!E$36,IF(BI117=Entry!C$37,Entry!D$37/2+Entry!E$37))))))))","v":31},{"$f":"(BH117)-(IF(BI117=Entry!G$31,Entry!H$31/2+Entry!I$31,IF(BI117=Entry!G$32,Entry!H$32/2+Entry!I$32,IF(BI117=Entry!G$33,Entry!H$33/2+Entry!I$33,IF(BI117=Entry!G$34,Entry!H$34/2+Entry!I$34,IF(BI117=Entry!G$35,Entry!H$35/2+Entry!I$35,IF(BI117=Entry!G$36,Entry!H$36/2+Entry!I$36,IF(BI117=Entry!G$37,Entry!H$37/2+Entry!I$37))))))))","v":31},31,"2012-10-01",0,0,0,0,null,0,0,0,0,0,null,0,0,0,null,0,null,0,0,{"$f":"IF(Entry!B$27=\"Y\",0,CX117)","v":0},0,null,0,0,0,0,0,null,{"$f":"IF(F$9=CM117,G$9,IF(F$12=CM117,G$12,IF(F$22=CM117,G$22,IF(F$29=CM117,G$29,CL116))))","v":72},"2012-10-01",0,0,0,0,null,null,0,0,0,0,0,0,0,0,0,0,0,0,null,0,0]
[null,null,null,null,null,null,null,null,null,null,null,null,null,null,null,null,null,null,null,null,null,null,null,null,null,null,null,null,null,null,null,null,null,null,null,null,null,null,null,null,null,null,null,null,null,null,null,null,null,null,null,null,null,null,null,null,null,{"$f":"(BH118)-(IF(BI118=Entry!C$31,Entry!D$31/2+Entry!E$31,IF(BI118=Entry!C$32,Entry!D$32/2+Entry!E$32,IF(BI118=Entry!C$33,Entry!D$33/2+Entry!E$33,IF(BI118=Entry!C$34,Entry!D$34/2+Entry!E$34,IF(BI118=Entry!C$35,Entry!D$35/2+Entry!E$35,IF(BI118=Entry!C$36,Entry!D$36/2+Entry!E$36,IF(BI118=Entry!C$37,Entry!D$37/2+Entry!E$37))))))))","v":30},{"$f":"(BH118)-(IF(BI118=Entry!G$31,Entry!H$31/2+Entry!I$31,IF(BI118=Entry!G$32,Entry!H$32/2+Entry!I$32,IF(BI118=Entry!G$33,Entry!H$33/2+Entry!I$33,IF(BI118=Entry!G$34,Entry!H$34/2+Entry!I$34,IF(BI118=Entry!G$35,Entry!H$35/2+Entry!I$35,IF(BI118=Entry!G$36,Entry!H$36/2+Entry!I$36,IF(BI118=Entry!G$37,Entry!H$37/2+Entry!I$37))))))))","v":30},30,"2012-11-01",0,0,0,0,null,0,0,0,0,0,null,0,0,0,null,0,null,0,0,{"$f":"IF(Entry!B$27=\"Y\",0,CX118)","v":0},0,null,0,0,0,0,0,null,{"$f":"IF(F$9=CM118,G$9,IF(F$12=CM118,G$12,IF(F$22=CM118,G$22,IF(F$29=CM118,G$29,CL117))))","v":72},"2012-11-01",0,0,0,0,null,null,0,0,0,0,0,0,0,0,0,0,0,0,null,0,0]
[null,null,null,null,null,null,null,null,null,null,null,null,null,null,null,null,null,null,null,null,null,null,null,null,null,null,null,null,null,null,null,null,null,null,null,null,null,null,null,null,null,null,null,null,null,null,null,null,null,null,null,null,null,null,null,null,null,{"$f":"(BH119)-(IF(BI119=Entry!C$31,Entry!D$31/2+Entry!E$31,IF(BI119=Entry!C$32,Entry!D$32/2+Entry!E$32,IF(BI119=Entry!C$33,Entry!D$33/2+Entry!E$33,IF(BI119=Entry!C$34,Entry!D$34/2+Entry!E$34,IF(BI119=Entry!C$35,Entry!D$35/2+Entry!E$35,IF(BI119=Entry!C$36,Entry!D$36/2+Entry!E$36,IF(BI119=Entry!C$37,Entry!D$37/2+Entry!E$37))))))))","v":31},{"$f":"(BH119)-(IF(BI119=Entry!G$31,Entry!H$31/2+Entry!I$31,IF(BI119=Entry!G$32,Entry!H$32/2+Entry!I$32,IF(BI119=Entry!G$33,Entry!H$33/2+Entry!I$33,IF(BI119=Entry!G$34,Entry!H$34/2+Entry!I$34,IF(BI119=Entry!G$35,Entry!H$35/2+Entry!I$35,IF(BI119=Entry!G$36,Entry!H$36/2+Entry!I$36,IF(BI119=Entry!G$37,Entry!H$37/2+Entry!I$37))))))))","v":31},31,"2012-12-01",0,0,0,0,null,0,0,0,0,0,null,0,0,0,null,0,null,0,0,{"$f":"IF(Entry!B$27=\"Y\",0,CX119)","v":0},0,null,0,0,0,0,0,null,{"$f":"IF(F$9=CM119,G$9,IF(F$12=CM119,G$12,IF(F$22=CM119,G$22,IF(F$29=CM119,G$29,CL118))))","v":72},"2012-12-01",0,0,0,0,null,null,0,0,0,0,0,0,0,0,0,0,0,0,null,0,0]
[null,null,null,null,null,null,null,null,null,null,null,null,null,null,null,null,null,null,null,null,null,null,null,null,null,null,null,null,null,null,null,null,null,null,null,null,null,null,null,null,null,null,null,null,null,null,null,null,null,null,null,null,null,null,null,null,null,{"$f":"(BH120)-(IF(BI120=Entry!C$31,Entry!D$31/2+Entry!E$31,IF(BI120=Entry!C$32,Entry!D$32/2+Entry!E$32,IF(BI120=Entry!C$33,Entry!D$33/2+Entry!E$33,IF(BI120=Entry!C$34,Entry!D$34/2+Entry!E$34,IF(BI120=Entry!C$35,Entry!D$35/2+Entry!E$35,IF(BI120=Entry!C$36,Entry!D$36/2+Entry!E$36,IF(BI120=Entry!C$37,Entry!D$37/2+Entry!E$37))))))))","v":31},{"$f":"(BH120)-(IF(BI120=Entry!G$31,Entry!H$31/2+Entry!I$31,IF(BI120=Entry!G$32,Entry!H$32/2+Entry!I$32,IF(BI120=Entry!G$33,Entry!H$33/2+Entry!I$33,IF(BI120=Entry!G$34,Entry!H$34/2+Entry!I$34,IF(BI120=Entry!G$35,Entry!H$35/2+Entry!I$35,IF(BI120=Entry!G$36,Entry!H$36/2+Entry!I$36,IF(BI120=Entry!G$37,Entry!H$37/2+Entry!I$37))))))))","v":31},31,"2013-01-01",0,0,0,0,null,0,0,0,0,0,null,0,0,0,null,0,null,0,0,{"$f":"IF(Entry!B$27=\"Y\",0,CX120)","v":0},0,null,0,0,0,0,0,null,80,"2013-01-01",0,0,0,0,{"$f":"ROUND(CN120*8%,0)","v":0},{"$f":"ROUND(CO120*8%,0)","v":0},0,0,0,0,0,0,0,0,0,0,0,0,null,0,0]
[null,null,null,null,null,null,null,null,null,null,null,null,null,null,null,null,null,null,null,null,null,null,null,null,null,null,null,null,null,null,null,null,null,null,null,null,null,null,null,null,null,null,null,null,null,null,null,null,null,null,null,null,null,null,null,null,null,{"$f":"(BH121)-(IF(BI121=Entry!C$31,Entry!D$31/2+Entry!E$31,IF(BI121=Entry!C$32,Entry!D$32/2+Entry!E$32,IF(BI121=Entry!C$33,Entry!D$33/2+Entry!E$33,IF(BI121=Entry!C$34,Entry!D$34/2+Entry!E$34,IF(BI121=Entry!C$35,Entry!D$35/2+Entry!E$35,IF(BI121=Entry!C$36,Entry!D$36/2+Entry!E$36,IF(BI121=Entry!C$37,Entry!D$37/2+Entry!E$37))))))))","v":28},{"$f":"(BH121)-(IF(BI121=Entry!G$31,Entry!H$31/2+Entry!I$31,IF(BI121=Entry!G$32,Entry!H$32/2+Entry!I$32,IF(BI121=Entry!G$33,Entry!H$33/2+Entry!I$33,IF(BI121=Entry!G$34,Entry!H$34/2+Entry!I$34,IF(BI121=Entry!G$35,Entry!H$35/2+Entry!I$35,IF(BI121=Entry!G$36,Entry!H$36/2+Entry!I$36,IF(BI121=Entry!G$37,Entry!H$37/2+Entry!I$37))))))))","v":28},28,"2013-02-01",0,0,0,0,null,0,0,0,0,0,null,0,0,0,null,0,null,0,0,{"$f":"IF(Entry!B$27=\"Y\",0,CX121)","v":0},0,null,0,0,0,0,0,null,{"$f":"IF(IF(F$9=CM121,G$9,IF(F$12=CM121,G$12,IF(F$22=CM121,G$22,IF(F$29=CM121,G$29,CL120))))=0,CL120,(IF(F$9=CM121,G$9,IF(F$12=CM121,G$12,IF(F$22=CM121,G$22,IF(F$29=CM121,G$29,CL120))))))","v":80},"2013-02-01",0,0,0,0,{"$f":"ROUND(CN121*8%,0)","v":0},{"$f":"ROUND(CO121*8%,0)","v":0},0,0,0,0,0,0,0,0,0,0,0,0,null,0,0]
[null,null,null,null,null,null,null,null,null,null,null,null,null,null,null,null,null,null,null,null,null,null,null,null,null,null,null,null,null,null,null,null,null,null,null,null,null,null,null,null,null,null,null,null,null,null,null,null,null,null,null,null,null,null,null,null,null,{"$f":"(BH122)-(IF(BI122=Entry!C$31,Entry!D$31/2+Entry!E$31,IF(BI122=Entry!C$32,Entry!D$32/2+Entry!E$32,IF(BI122=Entry!C$33,Entry!D$33/2+Entry!E$33,IF(BI122=Entry!C$34,Entry!D$34/2+Entry!E$34,IF(BI122=Entry!C$35,Entry!D$35/2+Entry!E$35,IF(BI122=Entry!C$36,Entry!D$36/2+Entry!E$36,IF(BI122=Entry!C$37,Entry!D$37/2+Entry!E$37))))))))","v":31},{"$f":"(BH122)-(IF(BI122=Entry!G$31,Entry!H$31/2+Entry!I$31,IF(BI122=Entry!G$32,Entry!H$32/2+Entry!I$32,IF(BI122=Entry!G$33,Entry!H$33/2+Entry!I$33,IF(BI122=Entry!G$34,Entry!H$34/2+Entry!I$34,IF(BI122=Entry!G$35,Entry!H$35/2+Entry!I$35,IF(BI122=Entry!G$36,Entry!H$36/2+Entry!I$36,IF(BI122=Entry!G$37,Entry!H$37/2+Entry!I$37))))))))","v":31},31,"2013-03-01",0,0,0,0,null,0,0,0,0,0,null,0,0,0,null,0,null,0,0,{"$f":"IF(Entry!B$27=\"Y\",0,CX122)","v":0},0,null,0,0,0,0,0,null,{"$f":"IF(IF(F$9=CM122,G$9,IF(F$12=CM122,G$12,IF(F$22=CM122,G$22,IF(F$29=CM122,G$29,CL121))))=0,CL121,(IF(F$9=CM122,G$9,IF(F$12=CM122,G$12,IF(F$22=CM122,G$22,IF(F$29=CM122,G$29,CL121))))))","v":80},"2013-03-01",0,0,0,0,0,0,0,0,0,0,0,0,0,0,0,0,0,0,null,0,0]
[null,null,null,null,null,null,null,null,null,null,null,null,null,null,null,null,null,null,null,null,null,null,null,null,null,null,null,null,null,null,null,null,null,null,null,null,null,null,null,null,null,null,null,null,null,null,null,null,null,null,null,null,null,null,null,null,null,{"$f":"(BH123)-(IF(BI123=Entry!C$31,Entry!D$31/2+Entry!E$31,IF(BI123=Entry!C$32,Entry!D$32/2+Entry!E$32,IF(BI123=Entry!C$33,Entry!D$33/2+Entry!E$33,IF(BI123=Entry!C$34,Entry!D$34/2+Entry!E$34,IF(BI123=Entry!C$35,Entry!D$35/2+Entry!E$35,IF(BI123=Entry!C$36,Entry!D$36/2+Entry!E$36,IF(BI123=Entry!C$37,Entry!D$37/2+Entry!E$37))))))))","v":30},{"$f":"(BH123)-(IF(BI123=Entry!G$31,Entry!H$31/2+Entry!I$31,IF(BI123=Entry!G$32,Entry!H$32/2+Entry!I$32,IF(BI123=Entry!G$33,Entry!H$33/2+Entry!I$33,IF(BI123=Entry!G$34,Entry!H$34/2+Entry!I$34,IF(BI123=Entry!G$35,Entry!H$35/2+Entry!I$35,IF(BI123=Entry!G$36,Entry!H$36/2+Entry!I$36,IF(BI123=Entry!G$37,Entry!H$37/2+Entry!I$37))))))))","v":30},30,"2013-04-01",0,0,0,0,null,0,0,0,0,0,null,0,0,0,null,0,null,0,0,{"$f":"IF(Entry!B$27=\"Y\",0,CX123)","v":0},0,null,0,0,0,0,0,null,{"$f":"IF(IF(F$9=CM123,G$9,IF(F$12=CM123,G$12,IF(F$22=CM123,G$22,IF(F$29=CM123,G$29,CL122))))=0,CL122,(IF(F$9=CM123,G$9,IF(F$12=CM123,G$12,IF(F$22=CM123,G$22,IF(F$29=CM123,G$29,CL122))))))","v":80},"2013-04-01",0,0,0,0,null,null,0,0,0,0,0,{"$f":"IF(CN123<1,0,IF(CN123<=8500,330,IF(CN123<=11000,450,IF(CN123<=18000,900,IF(CN123<=28000,1300,IF(CN123>=28000,2200))))))","v":0},0,0,0,0,0,0,null,0,0]
[null,null,null,null,null,null,null,null,null,null,null,null,null,null,null,null,null,null,null,null,null,null,null,null,null,null,null,null,null,null,null,null,null,null,null,null,null,null,null,null,null,null,null,null,null,null,null,null,null,null,null,null,null,null,null,null,null,{"$f":"(BH124)-(IF(BI124=Entry!C$31,Entry!D$31/2+Entry!E$31,IF(BI124=Entry!C$32,Entry!D$32/2+Entry!E$32,IF(BI124=Entry!C$33,Entry!D$33/2+Entry!E$33,IF(BI124=Entry!C$34,Entry!D$34/2+Entry!E$34,IF(BI124=Entry!C$35,Entry!D$35/2+Entry!E$35,IF(BI124=Entry!C$36,Entry!D$36/2+Entry!E$36,IF(BI124=Entry!C$37,Entry!D$37/2+Entry!E$37))))))))","v":31},{"$f":"(BH124)-(IF(BI124=Entry!G$31,Entry!H$31/2+Entry!I$31,IF(BI124=Entry!G$32,Entry!H$32/2+Entry!I$32,IF(BI124=Entry!G$33,Entry!H$33/2+Entry!I$33,IF(BI124=Entry!G$34,Entry!H$34/2+Entry!I$34,IF(BI124=Entry!G$35,Entry!H$35/2+Entry!I$35,IF(BI124=Entry!G$36,Entry!H$36/2+Entry!I$36,IF(BI124=Entry!G$37,Entry!H$37/2+Entry!I$37))))))))","v":31},31,"2013-05-01",0,0,0,0,null,0,0,0,0,0,null,0,0,0,null,0,null,0,0,{"$f":"IF(Entry!B$27=\"Y\",0,CX124)","v":0},0,null,0,0,0,0,0,null,{"$f":"IF(IF(F$9=CM124,G$9,IF(F$12=CM124,G$12,IF(F$22=CM124,G$22,IF(F$29=CM124,G$29,CL123))))=0,CL123,(IF(F$9=CM124,G$9,IF(F$12=CM124,G$12,IF(F$22=CM124,G$22,IF(F$29=CM124,G$29,CL123))))))","v":80},"2013-05-01",0,0,0,0,null,null,0,0,0,0,0,0,0,0,0,0,0,0,null,0,0]
[null,null,null,null,null,null,null,null,null,null,null,null,null,null,null,null,null,null,null,null,null,null,null,null,null,null,null,null,null,null,null,null,null,null,null,null,null,null,null,null,null,null,null,null,null,null,null,null,null,null,null,null,null,null,null,null,null,{"$f":"(BH125)-(IF(BI125=Entry!C$31,Entry!D$31/2+Entry!E$31,IF(BI125=Entry!C$32,Entry!D$32/2+Entry!E$32,IF(BI125=Entry!C$33,Entry!D$33/2+Entry!E$33,IF(BI125=Entry!C$34,Entry!D$34/2+Entry!E$34,IF(BI125=Entry!C$35,Entry!D$35/2+Entry!E$35,IF(BI125=Entry!C$36,Entry!D$36/2+Entry!E$36,IF(BI125=Entry!C$37,Entry!D$37/2+Entry!E$37))))))))","v":30},{"$f":"(BH125)-(IF(BI125=Entry!G$31,Entry!H$31/2+Entry!I$31,IF(BI125=Entry!G$32,Entry!H$32/2+Entry!I$32,IF(BI125=Entry!G$33,Entry!H$33/2+Entry!I$33,IF(BI125=Entry!G$34,Entry!H$34/2+Entry!I$34,IF(BI125=Entry!G$35,Entry!H$35/2+Entry!I$35,IF(BI125=Entry!G$36,Entry!H$36/2+Entry!I$36,IF(BI125=Entry!G$37,Entry!H$37/2+Entry!I$37))))))))","v":30},30,"2013-06-01",0,0,0,0,null,0,0,0,0,0,null,0,0,0,null,0,null,0,0,{"$f":"IF(Entry!B$27=\"Y\",0,CX125)","v":0},0,null,0,0,0,0,0,null,{"$f":"IF(IF(F$9=CM125,G$9,IF(F$12=CM125,G$12,IF(F$22=CM125,G$22,IF(F$29=CM125,G$29,CL124))))=0,CL124,(IF(F$9=CM125,G$9,IF(F$12=CM125,G$12,IF(F$22=CM125,G$22,IF(F$29=CM125,G$29,CL124))))))","v":80},"2013-06-01",0,0,0,0,null,null,0,0,0,0,0,0,0,0,0,0,0,0,null,0,0]
[null,null,null,null,null,null,null,null,null,null,null,null,null,null,null,null,null,null,null,null,null,null,null,null,null,null,null,null,null,null,null,null,null,null,null,null,null,null,null,null,null,null,null,null,null,null,null,null,null,null,null,null,null,null,null,null,null,{"$f":"(BH126)-(IF(BI126=Entry!C$31,Entry!D$31/2+Entry!E$31,IF(BI126=Entry!C$32,Entry!D$32/2+Entry!E$32,IF(BI126=Entry!C$33,Entry!D$33/2+Entry!E$33,IF(BI126=Entry!C$34,Entry!D$34/2+Entry!E$34,IF(BI126=Entry!C$35,Entry!D$35/2+Entry!E$35,IF(BI126=Entry!C$36,Entry!D$36/2+Entry!E$36,IF(BI126=Entry!C$37,Entry!D$37/2+Entry!E$37))))))))","v":31},{"$f":"(BH126)-(IF(BI126=Entry!G$31,Entry!H$31/2+Entry!I$31,IF(BI126=Entry!G$32,Entry!H$32/2+Entry!I$32,IF(BI126=Entry!G$33,Entry!H$33/2+Entry!I$33,IF(BI126=Entry!G$34,Entry!H$34/2+Entry!I$34,IF(BI126=Entry!G$35,Entry!H$35/2+Entry!I$35,IF(BI126=Entry!G$36,Entry!H$36/2+Entry!I$36,IF(BI126=Entry!G$37,Entry!H$37/2+Entry!I$37))))))))","v":31},31,"2013-07-01",0,0,0,0,null,0,0,0,0,0,null,0,0,0,null,0,null,0,0,{"$f":"IF(Entry!B$27=\"Y\",0,CX126)","v":0},0,null,0,0,0,0,0,null,90,"2013-07-01",0,0,0,0,{"$f":"ROUND(CN126*10%,0)","v":0},{"$f":"ROUND(CO126*10%,0)","v":0},0,0,0,0,0,0,0,0,0,0,0,0,null,0,0]
[null,null,null,null,null,null,null,null,null,null,null,null,null,null,null,null,null,null,null,null,null,null,null,null,null,null,null,null,null,null,null,null,null,null,null,null,null,null,null,null,null,null,null,null,null,null,null,null,null,null,null,null,null,null,null,null,null,{"$f":"(BH127)-(IF(BI127=Entry!C$31,Entry!D$31/2+Entry!E$31,IF(BI127=Entry!C$32,Entry!D$32/2+Entry!E$32,IF(BI127=Entry!C$33,Entry!D$33/2+Entry!E$33,IF(BI127=Entry!C$34,Entry!D$34/2+Entry!E$34,IF(BI127=Entry!C$35,Entry!D$35/2+Entry!E$35,IF(BI127=Entry!C$36,Entry!D$36/2+Entry!E$36,IF(BI127=Entry!C$37,Entry!D$37/2+Entry!E$37))))))))","v":31},{"$f":"(BH127)-(IF(BI127=Entry!G$31,Entry!H$31/2+Entry!I$31,IF(BI127=Entry!G$32,Entry!H$32/2+Entry!I$32,IF(BI127=Entry!G$33,Entry!H$33/2+Entry!I$33,IF(BI127=Entry!G$34,Entry!H$34/2+Entry!I$34,IF(BI127=Entry!G$35,Entry!H$35/2+Entry!I$35,IF(BI127=Entry!G$36,Entry!H$36/2+Entry!I$36,IF(BI127=Entry!G$37,Entry!H$37/2+Entry!I$37))))))))","v":31},31,"2013-08-01",0,0,0,0,null,0,0,0,0,0,null,0,0,0,null,0,null,0,0,{"$f":"IF(Entry!B$27=\"Y\",0,CX127)","v":0},0,null,0,0,0,0,0,null,{"$f":"IF(IF(F$9=CM127,G$9,IF(F$12=CM127,G$12,IF(F$22=CM127,G$22,IF(F$29=CM127,G$29,CL126))))=0,CL126,(IF(F$9=CM127,G$9,IF(F$12=CM127,G$12,IF(F$22=CM127,G$22,IF(F$29=CM127,G$29,CL126))))))","v":90},"2013-08-01",0,0,0,0,{"$f":"ROUND(CN127*10%,0)","v":0},{"$f":"ROUND(CO127*10%,0)","v":0},0,0,0,0,0,0,0,0,0,0,0,0,null,0,0]
[null,null,null,null,null,null,null,null,null,null,null,null,null,null,null,null,null,null,null,null,null,null,null,null,null,null,null,null,null,null,null,null,null,null,null,null,null,null,null,null,null,null,null,null,null,null,null,null,null,null,null,null,null,null,null,null,null,{"$f":"(BH128)-(IF(BI128=Entry!C$31,Entry!D$31/2+Entry!E$31,IF(BI128=Entry!C$32,Entry!D$32/2+Entry!E$32,IF(BI128=Entry!C$33,Entry!D$33/2+Entry!E$33,IF(BI128=Entry!C$34,Entry!D$34/2+Entry!E$34,IF(BI128=Entry!C$35,Entry!D$35/2+Entry!E$35,IF(BI128=Entry!C$36,Entry!D$36/2+Entry!E$36,IF(BI128=Entry!C$37,Entry!D$37/2+Entry!E$37))))))))","v":30},{"$f":"(BH128)-(IF(BI128=Entry!G$31,Entry!H$31/2+Entry!I$31,IF(BI128=Entry!G$32,Entry!H$32/2+Entry!I$32,IF(BI128=Entry!G$33,Entry!H$33/2+Entry!I$33,IF(BI128=Entry!G$34,Entry!H$34/2+Entry!I$34,IF(BI128=Entry!G$35,Entry!H$35/2+Entry!I$35,IF(BI128=Entry!G$36,Entry!H$36/2+Entry!I$36,IF(BI128=Entry!G$37,Entry!H$37/2+Entry!I$37))))))))","v":30},30,"2013-09-01",{"$f":"ROUND(IF(BI128>=BM$29,0,IF(AND(BI128=BL$31,BM$31>BO$31),BO$31,IF(BI127=BL$31,BM$31,IF(ISERROR(INDEX(BM$31:BM$43,MATCH(BI128,BL$31:BL$43))),BJ127,INDEX(BM$31:BM$43,MATCH(BI128,BL$31:BL$43)))))/BH128*BF128),0)","v":0},0,0,0,null,0,0,0,0,0,null,0,0,0,null,0,null,0,0,{"$f":"IF(Entry!B$27=\"Y\",0,CX128)","v":0},0,null,0,0,0,0,0,null,{"$f":"IF(IF(F$9=CM128,G$9,IF(F$12=CM128,G$12,IF(F$22=CM128,G$22,IF(F$29=CM128,G$29,CL127))))=0,CL127,(IF(F$9=CM128,G$9,IF(F$12=CM128,G$12,IF(F$22=CM128,G$22,IF(F$29=CM128,G$29,CL127))))))","v":90},"2013-09-01",0,0,0,0,null,null,0,0,0,0,0,0,0,0,0,0,0,0,null,0,0]
[null,null,null,null,null,null,null,null,null,null,null,null,null,null,null,null,null,null,null,null,null,null,null,null,null,null,null,null,null,null,null,null,null,null,null,null,null,null,null,null,null,null,null,null,null,null,null,null,null,null,null,null,null,null,null,null,null,{"$f":"(BH129)-(IF(BI129=Entry!C$31,Entry!D$31/2+Entry!E$31,IF(BI129=Entry!C$32,Entry!D$32/2+Entry!E$32,IF(BI129=Entry!C$33,Entry!D$33/2+Entry!E$33,IF(BI129=Entry!C$34,Entry!D$34/2+Entry!E$34,IF(BI129=Entry!C$35,Entry!D$35/2+Entry!E$35,IF(BI129=Entry!C$36,Entry!D$36/2+Entry!E$36,IF(BI129=Entry!C$37,Entry!D$37/2+Entry!E$37))))))))","v":31},{"$f":"(BH129)-(IF(BI129=Entry!G$31,Entry!H$31/2+Entry!I$31,IF(BI129=Entry!G$32,Entry!H$32/2+Entry!I$32,IF(BI129=Entry!G$33,Entry!H$33/2+Entry!I$33,IF(BI129=Entry!G$34,Entry!H$34/2+Entry!I$34,IF(BI129=Entry!G$35,Entry!H$35/2+Entry!I$35,IF(BI129=Entry!G$36,Entry!H$36/2+Entry!I$36,IF(BI129=Entry!G$37,Entry!H$37/2+Entry!I$37))))))))","v":31},31,"2013-10-01",0,0,0,0,null,0,0,0,0,0,null,0,0,0,null,0,null,0,0,{"$f":"IF(Entry!B$27=\"Y\",0,CX129)","v":0},0,null,0,0,0,0,0,null,{"$f":"IF(IF(F$9=CM129,G$9,IF(F$12=CM129,G$12,IF(F$22=CM129,G$22,IF(F$29=CM129,G$29,CL128))))=0,CL128,(IF(F$9=CM129,G$9,IF(F$12=CM129,G$12,IF(F$22=CM129,G$22,IF(F$29=CM129,G$29,CL128))))))","v":90},"2013-10-01",0,0,0,0,null,null,0,0,0,0,0,0,0,0,0,0,0,0,null,0,0]
[null,null,null,null,null,null,null,null,null,null,null,null,null,null,null,null,null,null,null,null,null,null,null,null,null,null,null,null,null,null,null,null,null,null,null,null,null,null,null,null,null,null,null,null,null,null,null,null,null,null,null,null,null,null,null,null,null,{"$f":"(BH130)-(IF(BI130=Entry!C$31,Entry!D$31/2+Entry!E$31,IF(BI130=Entry!C$32,Entry!D$32/2+Entry!E$32,IF(BI130=Entry!C$33,Entry!D$33/2+Entry!E$33,IF(BI130=Entry!C$34,Entry!D$34/2+Entry!E$34,IF(BI130=Entry!C$35,Entry!D$35/2+Entry!E$35,IF(BI130=Entry!C$36,Entry!D$36/2+Entry!E$36,IF(BI130=Entry!C$37,Entry!D$37/2+Entry!E$37))))))))","v":30},{"$f":"(BH130)-(IF(BI130=Entry!G$31,Entry!H$31/2+Entry!I$31,IF(BI130=Entry!G$32,Entry!H$32/2+Entry!I$32,IF(BI130=Entry!G$33,Entry!H$33/2+Entry!I$33,IF(BI130=Entry!G$34,Entry!H$34/2+Entry!I$34,IF(BI130=Entry!G$35,Entry!H$35/2+Entry!I$35,IF(BI130=Entry!G$36,Entry!H$36/2+Entry!I$36,IF(BI130=Entry!G$37,Entry!H$37/2+Entry!I$37))))))))","v":30},30,"2013-11-01",0,0,0,0,null,0,0,0,0,0,null,0,0,0,null,0,null,0,0,{"$f":"IF(Entry!B$27=\"Y\",0,CX130)","v":0},0,null,0,0,0,0,0,null,{"$f":"IF(IF(F$9=CM130,G$9,IF(F$12=CM130,G$12,IF(F$22=CM130,G$22,IF(F$29=CM130,G$29,CL129))))=0,CL129,(IF(F$9=CM130,G$9,IF(F$12=CM130,G$12,IF(F$22=CM130,G$22,IF(F$29=CM130,G$29,CL129))))))","v":90},"2013-11-01",0,0,0,0,null,null,0,0,0,0,{"$f":"IF(CV130>CW130,CV130-CW130,0)","v":0},0,0,0,0,0,0,0,null,0,0]
[null,null,null,null,null,null,null,null,null,null,null,null,null,null,null,null,null,null,null,null,null,null,null,null,null,null,null,null,null,null,null,null,null,null,null,null,null,null,null,null,null,null,null,null,null,null,null,null,null,null,null,null,null,null,null,null,null,{"$f":"(BH131)-(IF(BI131=Entry!C$31,Entry!D$31/2+Entry!E$31,IF(BI131=Entry!C$32,Entry!D$32/2+Entry!E$32,IF(BI131=Entry!C$33,Entry!D$33/2+Entry!E$33,IF(BI131=Entry!C$34,Entry!D$34/2+Entry!E$34,IF(BI131=Entry!C$35,Entry!D$35/2+Entry!E$35,IF(BI131=Entry!C$36,Entry!D$36/2+Entry!E$36,IF(BI131=Entry!C$37,Entry!D$37/2+Entry!E$37))))))))","v":31},{"$f":"(BH131)-(IF(BI131=Entry!G$31,Entry!H$31/2+Entry!I$31,IF(BI131=Entry!G$32,Entry!H$32/2+Entry!I$32,IF(BI131=Entry!G$33,Entry!H$33/2+Entry!I$33,IF(BI131=Entry!G$34,Entry!H$34/2+Entry!I$34,IF(BI131=Entry!G$35,Entry!H$35/2+Entry!I$35,IF(BI131=Entry!G$36,Entry!H$36/2+Entry!I$36,IF(BI131=Entry!G$37,Entry!H$37/2+Entry!I$37))))))))","v":31},31,"2013-12-01",0,0,0,0,null,0,0,0,0,0,null,0,0,0,null,0,null,0,0,{"$f":"IF(Entry!B$27=\"Y\",0,CX131)","v":0},0,null,0,0,0,0,0,null,{"$f":"IF(IF(F$9=CM131,G$9,IF(F$12=CM131,G$12,IF(F$22=CM131,G$22,IF(F$29=CM131,G$29,CL130))))=0,CL130,(IF(F$9=CM131,G$9,IF(F$12=CM131,G$12,IF(F$22=CM131,G$22,IF(F$29=CM131,G$29,CL130))))))","v":90},"2013-12-01",0,0,0,0,null,null,0,0,0,0,0,0,0,0,0,0,0,0,null,0,0]
[null,null,null,null,null,null,null,null,null,null,null,null,null,null,null,null,null,null,null,null,null,null,null,null,null,null,null,null,null,null,null,null,null,null,null,null,null,null,null,null,null,null,null,null,null,null,null,null,null,null,null,null,null,null,null,null,null,{"$f":"(BH132)-(IF(BI132=Entry!C$31,Entry!D$31/2+Entry!E$31,IF(BI132=Entry!C$32,Entry!D$32/2+Entry!E$32,IF(BI132=Entry!C$33,Entry!D$33/2+Entry!E$33,IF(BI132=Entry!C$34,Entry!D$34/2+Entry!E$34,IF(BI132=Entry!C$35,Entry!D$35/2+Entry!E$35,IF(BI132=Entry!C$36,Entry!D$36/2+Entry!E$36,IF(BI132=Entry!C$37,Entry!D$37/2+Entry!E$37))))))))","v":31},{"$f":"(BH132)-(IF(BI132=Entry!G$31,Entry!H$31/2+Entry!I$31,IF(BI132=Entry!G$32,Entry!H$32/2+Entry!I$32,IF(BI132=Entry!G$33,Entry!H$33/2+Entry!I$33,IF(BI132=Entry!G$34,Entry!H$34/2+Entry!I$34,IF(BI132=Entry!G$35,Entry!H$35/2+Entry!I$35,IF(BI132=Entry!G$36,Entry!H$36/2+Entry!I$36,IF(BI132=Entry!G$37,Entry!H$37/2+Entry!I$37))))))))","v":31},31,"2014-01-01",0,0,{"$f":"IF(D$6=\"N\",0,IF(D$6=\"B\",DC132,DB132))","v":0},{"$f":"ROUND((BJ132)*(IF(D$5=\"Nill\",0,D$5)),0)","v":0},null,0,0,0,{"$f":"IF(D$6=\"N\",0,IF(D$6=\"B\",DE132,DD132))","v":0},{"$f":"ROUND((BP132)*(IF(D$5=\"Nill\",0,D$5)),0)","v":0},null,0,0,0,null,0,null,0,{"$f":"IF(CB$47=\"GPF\",CT132,IF(CB$47=\"ECpenF\",CI132,0))","v":0},{"$f":"IF(Entry!B$27=\"Y\",0,CX132)","v":0},0,null,0,0,0,0,0,null,100,"2014-01-01",0,0,0,0,{"$f":"ROUND(CN132*10%,0)","v":0},{"$f":"ROUND(CO132*10%,0)","v":0},{"$f":"IF(D$10=\"Nill\",0,IF(D$10=\"ALL\",(CR132+CP132),IF(D$10=\"DA\",CR132)))","v":0},{"$f":"IF(D$10=\"Nill\",0,IF(D$10=\"ALL\",(CQ132+CS132),IF(D$10=\"DA\",CS132)))","v":0},0,0,0,0,0,0,{"$f":"IF(BJ132<1,0,IF(BJ132<=7000,130,IF(BJ132<=10000,190,IF(BJ132<=13000,300,IF(BJ132>13000,480)))))","v":0},{"$f":"IF(BJ132<1,0,IF(BJ132<=7000,50,IF(BJ132<=10000,70,IF(BJ132<=13000,130,IF(BJ132>13000,240)))))","v":0},{"$f":"IF(BP132<1,0,IF(BP132<=7000,130,IF(BP132<=10000,190,IF(BP132<=13000,300,IF(BP132>13000,480)))))","v":0},{"$f":"IF(BP132<1,0,IF(BP132<=7000,50,IF(BP132<=10000,70,IF(BP132<=13000,130,IF(BP132>13000,240)))))","v":0},null,0,0]
[null,null,null,null,null,null,null,null,null,null,null,null,null,null,null,null,null,null,null,null,null,null,null,null,null,null,null,null,null,null,null,null,null,null,null,null,null,null,null,null,null,null,null,null,null,null,null,null,null,null,null,null,null,null,null,null,null,{"$f":"(BH133)-(IF(BI133=Entry!C$31,Entry!D$31/2+Entry!E$31,IF(BI133=Entry!C$32,Entry!D$32/2+Entry!E$32,IF(BI133=Entry!C$33,Entry!D$33/2+Entry!E$33,IF(BI133=Entry!C$34,Entry!D$34/2+Entry!E$34,IF(BI133=Entry!C$35,Entry!D$35/2+Entry!E$35,IF(BI133=Entry!C$36,Entry!D$36/2+Entry!E$36,IF(BI133=Entry!C$37,Entry!D$37/2+Entry!E$37))))))))","v":28},{"$f":"(BH133)-(IF(BI133=Entry!G$31,Entry!H$31/2+Entry!I$31,IF(BI133=Entry!G$32,Entry!H$32/2+Entry!I$32,IF(BI133=Entry!G$33,Entry!H$33/2+Entry!I$33,IF(BI133=Entry!G$34,Entry!H$34/2+Entry!I$34,IF(BI133=Entry!G$35,Entry!H$35/2+Entry!I$35,IF(BI133=Entry!G$36,Entry!H$36/2+Entry!I$36,IF(BI133=Entry!G$37,Entry!H$37/2+Entry!I$37))))))))","v":28},28,"2014-02-01",0,0,0,0,null,0,0,0,0,0,null,0,0,0,null,0,null,0,0,{"$f":"IF(Entry!B$27=\"Y\",0,CX133)","v":0},0,null,0,0,0,0,0,null,{"$f":"IF(IF(F$9=CM133,G$9,IF(F$12=CM133,G$12,IF(F$22=CM133,G$22,IF(F$29=CM133,G$29,CL132))))=0,CL132,(IF(F$9=CM133,G$9,IF(F$12=CM133,G$12,IF(F$22=CM133,G$22,IF(F$29=CM133,G$29,CL132))))))","v":100},"2014-02-01",0,0,0,0,0,{"$f":"ROUND(CO133*10%,0)","v":0},0,0,0,0,0,0,0,0,0,0,0,0,null,0,0]
[null,null,null,null,null,null,null,null,null,null,null,null,null,null,null,null,null,null,null,null,null,null,null,null,null,null,null,null,null,null,null,null,null,null,null,null,null,null,null,null,null,null,null,null,null,null,null,null,null,null,null,null,null,null,null,null,null,{"$f":"(BH134)-(IF(BI134=Entry!C$31,Entry!D$31/2+Entry!E$31,IF(BI134=Entry!C$32,Entry!D$32/2+Entry!E$32,IF(BI134=Entry!C$33,Entry!D$33/2+Entry!E$33,IF(BI134=Entry!C$34,Entry!D$34/2+Entry!E$34,IF(BI134=Entry!C$35,Entry!D$35/2+Entry!E$35,IF(BI134=Entry!C$36,Entry!D$36/2+Entry!E$36,IF(BI134=Entry!C$37,Entry!D$37/2+Entry!E$37))))))))","v":31},{"$f":"(BH134)-(IF(BI134=Entry!G$31,Entry!H$31/2+Entry!I$31,IF(BI134=Entry!G$32,Entry!H$32/2+Entry!I$32,IF(BI134=Entry!G$33,Entry!H$33/2+Entry!I$33,IF(BI134=Entry!G$34,Entry!H$34/2+Entry!I$34,IF(BI134=Entry!G$35,Entry!H$35/2+Entry!I$35,IF(BI134=Entry!G$36,Entry!H$36/2+Entry!I$36,IF(BI134=Entry!G$37,Entry!H$37/2+Entry!I$37))))))))","v":31},31,"2014-03-01",0,0,0,0,null,0,0,0,0,0,null,0,0,0,null,0,null,0,0,{"$f":"IF(Entry!B$27=\"Y\",0,CX134)","v":0},0,null,0,0,0,0,0,null,{"$f":"IF(IF(F$9=CM134,G$9,IF(F$12=CM134,G$12,IF(F$22=CM134,G$22,IF(F$29=CM134,G$29,CL133))))=0,CL133,(IF(F$9=CM134,G$9,IF(F$12=CM134,G$12,IF(F$22=CM134,G$22,IF(F$29=CM134,G$29,CL133))))))","v":100},"2014-03-01",0,0,0,0,null,null,0,0,0,0,0,0,0,0,0,0,0,0,null,0,0]
[null,null,null,null,null,null,null,null,null,null,null,null,null,null,null,null,null,null,null,null,null,null,null,null,null,null,null,null,null,null,null,null,null,null,null,null,null,null,null,null,null,null,null,null,null,null,null,null,null,null,null,null,null,null,null,null,null,{"$f":"(BH135)-(IF(BI135=Entry!C$31,Entry!D$31/2+Entry!E$31,IF(BI135=Entry!C$32,Entry!D$32/2+Entry!E$32,IF(BI135=Entry!C$33,Entry!D$33/2+Entry!E$33,IF(BI135=Entry!C$34,Entry!D$34/2+Entry!E$34,IF(BI135=Entry!C$35,Entry!D$35/2+Entry!E$35,IF(BI135=Entry!C$36,Entry!D$36/2+Entry!E$36,IF(BI135=Entry!C$37,Entry!D$37/2+Entry!E$37))))))))","v":30},{"$f":"(BH135)-(IF(BI135=Entry!G$31,Entry!H$31/2+Entry!I$31,IF(BI135=Entry!G$32,Entry!H$32/2+Entry!I$32,IF(BI135=Entry!G$33,Entry!H$33/2+Entry!I$33,IF(BI135=Entry!G$34,Entry!H$34/2+Entry!I$34,IF(BI135=Entry!G$35,Entry!H$35/2+Entry!I$35,IF(BI135=Entry!G$36,Entry!H$36/2+Entry!I$36,IF(BI135=Entry!G$37,Entry!H$37/2+Entry!I$37))))))))","v":30},30,"2014-04-01",0,0,0,0,null,0,0,0,0,0,null,0,0,0,null,0,null,0,0,{"$f":"IF(Entry!B$27=\"Y\",0,CX135)","v":0},0,null,0,0,0,0,0,null,{"$f":"IF(IF(F$9=CM135,G$9,IF(F$12=CM135,G$12,IF(F$22=CM135,G$22,IF(F$29=CM135,G$29,CL134))))=0,CL134,(IF(F$9=CM135,G$9,IF(F$12=CM135,G$12,IF(F$22=CM135,G$22,IF(F$29=CM135,G$29,CL134))))))","v":100},"2014-04-01",{"$f":"IF(BJ135=0,0,(IF(ISNA(LOOKUP(BI135,BL$31:BL$43,BM$31:BM$43)),0,LOOKUP(BI135,BL$31:BL$43,BM$31:BM$43))))","v":0},0,0,0,null,null,0,0,0,0,0,0,0,0,0,0,0,0,null,0,0]
[null,null,null,null,null,null,null,null,null,null,null,null,null,null,null,null,null,null,null,null,null,null,null,null,null,null,null,null,null,null,null,null,null,null,null,null,null,null,null,null,null,null,null,null,null,null,null,null,null,null,null,null,null,null,null,null,null,{"$f":"(BH136)-(IF(BI136=Entry!C$31,Entry!D$31/2+Entry!E$31,IF(BI136=Entry!C$32,Entry!D$32/2+Entry!E$32,IF(BI136=Entry!C$33,Entry!D$33/2+Entry!E$33,IF(BI136=Entry!C$34,Entry!D$34/2+Entry!E$34,IF(BI136=Entry!C$35,Entry!D$35/2+Entry!E$35,IF(BI136=Entry!C$36,Entry!D$36/2+Entry!E$36,IF(BI136=Entry!C$37,Entry!D$37/2+Entry!E$37))))))))","v":31},{"$f":"(BH136)-(IF(BI136=Entry!G$31,Entry!H$31/2+Entry!I$31,IF(BI136=Entry!G$32,Entry!H$32/2+Entry!I$32,IF(BI136=Entry!G$33,Entry!H$33/2+Entry!I$33,IF(BI136=Entry!G$34,Entry!H$34/2+Entry!I$34,IF(BI136=Entry!G$35,Entry!H$35/2+Entry!I$35,IF(BI136=Entry!G$36,Entry!H$36/2+Entry!I$36,IF(BI136=Entry!G$37,Entry!H$37/2+Entry!I$37))))))))","v":31},31,"2014-05-01",0,0,0,0,null,0,0,0,0,0,null,0,0,0,null,0,null,0,0,{"$f":"IF(Entry!B$27=\"Y\",0,CX136)","v":0},0,null,0,0,0,0,0,null,{"$f":"IF(IF(F$9=CM136,G$9,IF(F$12=CM136,G$12,IF(F$22=CM136,G$22,IF(F$29=CM136,G$29,CL135))))=0,CL135,(IF(F$9=CM136,G$9,IF(F$12=CM136,G$12,IF(F$22=CM136,G$22,IF(F$29=CM136,G$29,CL135))))))","v":100},"2014-05-01",{"$f":"IF(BJ136=0,0,(IF(ISNA(LOOKUP(BI136,BL$31:BL$43,BM$31:BM$43)),0,LOOKUP(BI136,BL$31:BL$43,BM$31:BM$43))))","v":0},0,0,0,null,null,0,0,0,0,0,0,0,0,0,0,0,0,null,0,0]
[null,null,null,null,null,null,null,null,null,null,null,null,null,null,null,null,null,null,null,null,null,null,null,null,null,null,null,null,null,null,null,null,null,null,null,null,null,null,null,null,null,null,null,null,null,null,null,null,null,null,null,null,null,null,null,null,null,{"$f":"(BH137)-(IF(BI137=Entry!C$31,Entry!D$31/2+Entry!E$31,IF(BI137=Entry!C$32,Entry!D$32/2+Entry!E$32,IF(BI137=Entry!C$33,Entry!D$33/2+Entry!E$33,IF(BI137=Entry!C$34,Entry!D$34/2+Entry!E$34,IF(BI137=Entry!C$35,Entry!D$35/2+Entry!E$35,IF(BI137=Entry!C$36,Entry!D$36/2+Entry!E$36,IF(BI137=Entry!C$37,Entry!D$37/2+Entry!E$37))))))))","v":30},{"$f":"(BH137)-(IF(BI137=Entry!G$31,Entry!H$31/2+Entry!I$31,IF(BI137=Entry!G$32,Entry!H$32/2+Entry!I$32,IF(BI137=Entry!G$33,Entry!H$33/2+Entry!I$33,IF(BI137=Entry!G$34,Entry!H$34/2+Entry!I$34,IF(BI137=Entry!G$35,Entry!H$35/2+Entry!I$35,IF(BI137=Entry!G$36,Entry!H$36/2+Entry!I$36,IF(BI137=Entry!G$37,Entry!H$37/2+Entry!I$37))))))))","v":30},30,"2014-06-01",0,0,0,0,null,0,0,0,0,0,null,0,0,0,null,0,null,0,0,{"$f":"IF(Entry!B$27=\"Y\",0,CX137)","v":0},0,null,0,0,0,0,0,null,{"$f":"IF(IF(F$9=CM137,G$9,IF(F$12=CM137,G$12,IF(F$22=CM137,G$22,IF(F$29=CM137,G$29,CL136))))=0,CL136,(IF(F$9=CM137,G$9,IF(F$12=CM137,G$12,IF(F$22=CM137,G$22,IF(F$29=CM137,G$29,CL136))))))","v":100},"2014-06-01",0,0,0,0,null,null,0,0,0,0,0,0,0,0,0,0,0,0,null,0,0]
[null,null,null,null,null,null,null,null,null,null,null,null,null,null,null,null,null,null,null,null,null,null,null,null,null,null,null,null,null,null,null,null,null,null,null,null,null,null,null,null,null,null,null,null,null,null,null,null,null,null,null,null,null,null,null,null,null,{"$f":"(BH138)-(IF(BI138=Entry!C$31,Entry!D$31/2+Entry!E$31,IF(BI138=Entry!C$32,Entry!D$32/2+Entry!E$32,IF(BI138=Entry!C$33,Entry!D$33/2+Entry!E$33,IF(BI138=Entry!C$34,Entry!D$34/2+Entry!E$34,IF(BI138=Entry!C$35,Entry!D$35/2+Entry!E$35,IF(BI138=Entry!C$36,Entry!D$36/2+Entry!E$36,IF(BI138=Entry!C$37,Entry!D$37/2+Entry!E$37))))))))","v":31},{"$f":"(BH138)-(IF(BI138=Entry!G$31,Entry!H$31/2+Entry!I$31,IF(BI138=Entry!G$32,Entry!H$32/2+Entry!I$32,IF(BI138=Entry!G$33,Entry!H$33/2+Entry!I$33,IF(BI138=Entry!G$34,Entry!H$34/2+Entry!I$34,IF(BI138=Entry!G$35,Entry!H$35/2+Entry!I$35,IF(BI138=Entry!G$36,Entry!H$36/2+Entry!I$36,IF(BI138=Entry!G$37,Entry!H$37/2+Entry!I$37))))))))","v":31},31,"2014-07-01",0,0,0,0,null,0,0,0,0,0,null,0,0,0,null,0,null,0,0,{"$f":"IF(Entry!B$27=\"Y\",0,CX138)","v":0},0,null,0,0,0,0,0,null,107,"2014-07-01",0,0,0,0,null,{"$f":"IF(H4=CM138,((ROUND(BJ138*(G$4%-I$4%),0)))-(ROUND(BP138*(G$4%-I$4%),0)),0)","v":0},0,0,{"$f":"IF(CN138<1,0,IF(CN138<=7000,220,IF(CN138<=13000,325,IF(CN138<=21000,375,IF(CN138>21000,500)))))","v":0},{"$f":"IF(CO138<1,0,IF(CO138<=7000,220,IF(CO138<=13000,325,IF(CO138<=21000,375,IF(CO138>21000,500)))))","v":0},0,0,0,0,0,0,0,0,null,0,0]
[null,null,null,null,null,null,null,null,null,null,null,null,null,null,null,null,null,null,null,null,null,null,null,null,null,null,null,null,null,null,null,null,null,null,null,null,null,null,null,null,null,null,null,null,null,null,null,null,null,null,null,null,null,null,null,null,null,{"$f":"(BH139)-(IF(BI139=Entry!C$31,Entry!D$31/2+Entry!E$31,IF(BI139=Entry!C$32,Entry!D$32/2+Entry!E$32,IF(BI139=Entry!C$33,Entry!D$33/2+Entry!E$33,IF(BI139=Entry!C$34,Entry!D$34/2+Entry!E$34,IF(BI139=Entry!C$35,Entry!D$35/2+Entry!E$35,IF(BI139=Entry!C$36,Entry!D$36/2+Entry!E$36,IF(BI139=Entry!C$37,Entry!D$37/2+Entry!E$37))))))))","v":31},{"$f":"(BH139)-(IF(BI139=Entry!G$31,Entry!H$31/2+Entry!I$31,IF(BI139=Entry!G$32,Entry!H$32/2+Entry!I$32,IF(BI139=Entry!G$33,Entry!H$33/2+Entry!I$33,IF(BI139=Entry!G$34,Entry!H$34/2+Entry!I$34,IF(BI139=Entry!G$35,Entry!H$35/2+Entry!I$35,IF(BI139=Entry!G$36,Entry!H$36/2+Entry!I$36,IF(BI139=Entry!G$37,Entry!H$37/2+Entry!I$37))))))))","v":31},31,"2014-08-01",0,0,0,0,null,0,0,0,0,0,null,0,0,0,null,0,null,0,0,{"$f":"IF(Entry!B$27=\"Y\",0,CX139)","v":0},0,null,0,0,0,0,0,null,{"$f":"IF(IF(F$4=CM139,G$4,IF(F$8=CM139,G$8,IF(F$12=CM139,G$12,IF(F$23=CM139,G$23,IF(F$30=CM139,G$30,IF(F$37=CM139,G$37,IF(F$42=CM139,G$42,CL138)))))))=0,CL138,(IF(F$4=CM139,G$4,IF(F$8=CM139,G$8,IF(F$12=CM139,G$12,IF(F$23=CM139,G$23,IF(F$30=CM139,G$30,IF(F$37=CM139,G$37,IF(F$42=CM139,G$42,CL138)))))))))","v":107},"2014-08-01",0,0,0,0,null,0,0,0,0,0,0,0,0,{"$f":"IF((MONTH(CM139))=3,(CY139-CZ139),DA138)","v":0},0,0,0,0,null,0,0]
[null,null,null,null,null,null,null,null,null,null,null,null,null,null,null,null,null,null,null,null,null,null,null,null,null,null,null,null,null,null,null,null,null,null,null,null,null,null,null,null,null,null,null,null,null,null,null,null,null,null,null,null,null,null,null,null,null,{"$f":"(BH140)-(IF(BI140=Entry!C$31,Entry!D$31/2+Entry!E$31,IF(BI140=Entry!C$32,Entry!D$32/2+Entry!E$32,IF(BI140=Entry!C$33,Entry!D$33/2+Entry!E$33,IF(BI140=Entry!C$34,Entry!D$34/2+Entry!E$34,IF(BI140=Entry!C$35,Entry!D$35/2+Entry!E$35,IF(BI140=Entry!C$36,Entry!D$36/2+Entry!E$36,IF(BI140=Entry!C$37,Entry!D$37/2+Entry!E$37))))))))","v":30},{"$f":"(BH140)-(IF(BI140=Entry!G$31,Entry!H$31/2+Entry!I$31,IF(BI140=Entry!G$32,Entry!H$32/2+Entry!I$32,IF(BI140=Entry!G$33,Entry!H$33/2+Entry!I$33,IF(BI140=Entry!G$34,Entry!H$34/2+Entry!I$34,IF(BI140=Entry!G$35,Entry!H$35/2+Entry!I$35,IF(BI140=Entry!G$36,Entry!H$36/2+Entry!I$36,IF(BI140=Entry!G$37,Entry!H$37/2+Entry!I$37))))))))","v":30},30,"2014-09-01",0,0,0,0,null,0,0,0,0,0,null,0,0,0,null,0,null,0,0,{"$f":"IF(Entry!B$27=\"Y\",0,CX140)","v":0},0,null,0,0,0,0,0,null,{"$f":"IF(IF(F$4=CM140,G$4,IF(F$8=CM140,G$8,IF(F$12=CM140,G$12,IF(F$23=CM140,G$23,IF(F$30=CM140,G$30,IF(F$37=CM140,G$37,IF(F$42=CM140,G$42,CL139)))))))=0,CL139,(IF(F$4=CM140,G$4,IF(F$8=CM140,G$8,IF(F$12=CM140,G$12,IF(F$23=CM140,G$23,IF(F$30=CM140,G$30,IF(F$37=CM140,G$37,IF(F$42=CM140,G$42,CL139)))))))))","v":107},"2014-09-01",0,{"$f":"(IF(BJ140=0,0,IF(CN140=0,0,(LOOKUP(BI140,BV$31:BV$43,BW$31:BW$43)))))","v":0},0,0,null,0,0,0,0,0,0,0,0,0,0,0,0,0,null,0,0]
[null,null,null,null,null,null,null,null,null,null,null,null,null,null,null,null,null,null,null,null,null,null,null,null,null,null,null,null,null,null,null,null,null,null,null,null,null,null,null,null,null,null,null,null,null,null,null,null,null,null,null,null,null,null,null,null,null,{"$f":"(BH141)-(IF(BI141=Entry!C$31,Entry!D$31/2+Entry!E$31,IF(BI141=Entry!C$32,Entry!D$32/2+Entry!E$32,IF(BI141=Entry!C$33,Entry!D$33/2+Entry!E$33,IF(BI141=Entry!C$34,Entry!D$34/2+Entry!E$34,IF(BI141=Entry!C$35,Entry!D$35/2+Entry!E$35,IF(BI141=Entry!C$36,Entry!D$36/2+Entry!E$36,IF(BI141=Entry!C$37,Entry!D$37/2+Entry!E$37))))))))","v":31},{"$f":"(BH141)-(IF(BI141=Entry!G$31,Entry!H$31/2+Entry!I$31,IF(BI141=Entry!G$32,Entry!H$32/2+Entry!I$32,IF(BI141=Entry!G$33,Entry!H$33/2+Entry!I$33,IF(BI141=Entry!G$34,Entry!H$34/2+Entry!I$34,IF(BI141=Entry!G$35,Entry!H$35/2+Entry!I$35,IF(BI141=Entry!G$36,Entry!H$36/2+Entry!I$36,IF(BI141=Entry!G$37,Entry!H$37/2+Entry!I$37))))))))","v":31},31,"2014-10-01",0,0,0,0,null,0,0,0,0,0,null,0,0,0,null,0,null,0,0,{"$f":"IF(Entry!B$27=\"Y\",0,CX141)","v":0},0,null,0,0,0,0,0,null,{"$f":"IF(IF(F$4=CM141,G$4,IF(F$8=CM141,G$8,IF(F$12=CM141,G$12,IF(F$23=CM141,G$23,IF(F$30=CM141,G$30,IF(F$37=CM141,G$37,IF(F$42=CM141,G$42,CL140)))))))=0,CL140,(IF(F$4=CM141,G$4,IF(F$8=CM141,G$8,IF(F$12=CM141,G$12,IF(F$23=CM141,G$23,IF(F$30=CM141,G$30,IF(F$37=CM141,G$37,IF(F$42=CM141,G$42,CL140)))))))))","v":107},"2014-10-01",0,0,0,0,null,0,0,0,{"$f":"IF(CN141<1,0,IF(CN141<=7000,161,IF(CN141<=13000,268,IF(CN141<=21000,401,IF(CN141>21000,535)))))","v":0},{"$f":"IF(CO141<1,0,IF(CO141<=7000,161,IF(CO141<=13000,268,IF(CO141<=21000,401,IF(CO141>21000,535)))))","v":0},0,0,0,0,0,0,0,0,null,0,0]
[null,null,null,null,null,null,null,null,null,null,null,null,null,null,null,null,null,null,null,null,null,null,null,null,null,null,null,null,null,null,null,null,null,null,null,null,null,null,null,null,null,null,null,null,null,null,null,null,null,null,null,null,null,null,null,null,null,{"$f":"(BH142)-(IF(BI142=Entry!C$31,Entry!D$31/2+Entry!E$31,IF(BI142=Entry!C$32,Entry!D$32/2+Entry!E$32,IF(BI142=Entry!C$33,Entry!D$33/2+Entry!E$33,IF(BI142=Entry!C$34,Entry!D$34/2+Entry!E$34,IF(BI142=Entry!C$35,Entry!D$35/2+Entry!E$35,IF(BI142=Entry!C$36,Entry!D$36/2+Entry!E$36,IF(BI142=Entry!C$37,Entry!D$37/2+Entry!E$37))))))))","v":30},{"$f":"(BH142)-(IF(BI142=Entry!G$31,Entry!H$31/2+Entry!I$31,IF(BI142=Entry!G$32,Entry!H$32/2+Entry!I$32,IF(BI142=Entry!G$33,Entry!H$33/2+Entry!I$33,IF(BI142=Entry!G$34,Entry!H$34/2+Entry!I$34,IF(BI142=Entry!G$35,Entry!H$35/2+Entry!I$35,IF(BI142=Entry!G$36,Entry!H$36/2+Entry!I$36,IF(BI142=Entry!G$37,Entry!H$37/2+Entry!I$37))))))))","v":30},30,"2014-11-01",0,0,0,0,null,0,0,0,0,0,null,0,0,0,null,0,null,0,0,{"$f":"IF(Entry!B$27=\"Y\",0,CX142)","v":0},0,null,0,0,0,0,0,null,{"$f":"IF(IF(F$4=CM142,G$4,IF(F$8=CM142,G$8,IF(F$12=CM142,G$12,IF(F$23=CM142,G$23,IF(F$30=CM142,G$30,IF(F$37=CM142,G$37,IF(F$42=CM142,G$42,CL141)))))))=0,CL141,(IF(F$4=CM142,G$4,IF(F$8=CM142,G$8,IF(F$12=CM142,G$12,IF(F$23=CM142,G$23,IF(F$30=CM142,G$30,IF(F$37=CM142,G$37,IF(F$42=CM142,G$42,CL141)))))))))","v":107},"2014-11-01",0,0,0,0,null,0,0,0,{"$f":"IF(CN142<1,0,IF(CN142<=7000,161,IF(CN142<=13000,268,IF(CN142<=21000,401,IF(CN142>21000,535)))))","v":0},{"$f":"IF(CO142<1,0,IF(CO142<=7000,161,IF(CO142<=13000,268,IF(CO142<=21000,401,IF(CO142>21000,535)))))","v":0},0,0,0,0,0,0,0,0,null,0,0]
[null,null,null,null,null,null,null,null,null,null,null,null,null,null,null,null,null,null,null,null,null,null,null,null,null,null,null,null,null,null,null,null,null,null,null,null,null,null,null,null,null,null,null,null,null,null,null,null,null,null,null,null,null,null,null,null,null,{"$f":"(BH143)-(IF(BI143=Entry!C$31,Entry!D$31/2+Entry!E$31,IF(BI143=Entry!C$32,Entry!D$32/2+Entry!E$32,IF(BI143=Entry!C$33,Entry!D$33/2+Entry!E$33,IF(BI143=Entry!C$34,Entry!D$34/2+Entry!E$34,IF(BI143=Entry!C$35,Entry!D$35/2+Entry!E$35,IF(BI143=Entry!C$36,Entry!D$36/2+Entry!E$36,IF(BI143=Entry!C$37,Entry!D$37/2+Entry!E$37))))))))","v":31},{"$f":"(BH143)-(IF(BI143=Entry!G$31,Entry!H$31/2+Entry!I$31,IF(BI143=Entry!G$32,Entry!H$32/2+Entry!I$32,IF(BI143=Entry!G$33,Entry!H$33/2+Entry!I$33,IF(BI143=Entry!G$34,Entry!H$34/2+Entry!I$34,IF(BI143=Entry!G$35,Entry!H$35/2+Entry!I$35,IF(BI143=Entry!G$36,Entry!H$36/2+Entry!I$36,IF(BI143=Entry!G$37,Entry!H$37/2+Entry!I$37))))))))","v":31},31,"2014-12-01",0,0,0,0,null,0,0,0,0,0,null,0,0,0,null,0,null,0,0,{"$f":"IF(Entry!B$27=\"Y\",0,CX143)","v":0},0,null,0,0,0,0,0,null,{"$f":"IF(IF(F$4=CM143,G$4,IF(F$8=CM143,G$8,IF(F$12=CM143,G$12,IF(F$23=CM143,G$23,IF(F$30=CM143,G$30,IF(F$37=CM143,G$37,IF(F$42=CM143,G$42,CL142)))))))=0,CL142,(IF(F$4=CM143,G$4,IF(F$8=CM143,G$8,IF(F$12=CM143,G$12,IF(F$23=CM143,G$23,IF(F$30=CM143,G$30,IF(F$37=CM143,G$37,IF(F$42=CM143,G$42,CL142)))))))))","v":107},"2014-12-01",0,0,0,0,null,0,0,0,0,0,0,0,0,0,0,0,0,0,null,0,0]
[null,null,null,null,null,null,null,null,null,null,null,null,null,null,null,null,null,null,null,null,null,null,null,null,null,null,null,null,null,null,null,null,null,null,null,null,null,null,null,null,null,null,null,null,null,null,null,null,null,null,null,null,null,null,null,null,null,{"$f":"(BH144)-(IF(BI144=Entry!C$31,Entry!D$31/2+Entry!E$31,IF(BI144=Entry!C$32,Entry!D$32/2+Entry!E$32,IF(BI144=Entry!C$33,Entry!D$33/2+Entry!E$33,IF(BI144=Entry!C$34,Entry!D$34/2+Entry!E$34,IF(BI144=Entry!C$35,Entry!D$35/2+Entry!E$35,IF(BI144=Entry!C$36,Entry!D$36/2+Entry!E$36,IF(BI144=Entry!C$37,Entry!D$37/2+Entry!E$37))))))))","v":31},{"$f":"(BH144)-(IF(BI144=Entry!G$31,Entry!H$31/2+Entry!I$31,IF(BI144=Entry!G$32,Entry!H$32/2+Entry!I$32,IF(BI144=Entry!G$33,Entry!H$33/2+Entry!I$33,IF(BI144=Entry!G$34,Entry!H$34/2+Entry!I$34,IF(BI144=Entry!G$35,Entry!H$35/2+Entry!I$35,IF(BI144=Entry!G$36,Entry!H$36/2+Entry!I$36,IF(BI144=Entry!G$37,Entry!H$37/2+Entry!I$37))))))))","v":31},31,"2015-01-01",0,{"$f":"IF(D$4=\"N\",0,(ROUND((BJ144)*(CL144%),0)))","v":0},0,0,null,{"$f":"SUM(BJ144:BM144)","v":0},0,{"$f":"IF(D$4=\"N\",0,(ROUND((BP144)*(CL144%),0)))","v":0},0,0,null,{"$f":"SUM(BP144:BS144)","v":0},{"$f":"BJ144-BP144","v":0},{"$f":"BK144-BQ144","v":0},null,{"$f":"BM144-BS144","v":0},null,{"$f":"SUM(BV144:BY144)","v":0},{"$f":"IF(CB$47=\"GPF\",CT144,IF(CB$47=\"ECpenF\",CI144,0))","v":0},{"$f":"IF(Entry!B$27=\"Y\",0,CX144)","v":0},{"$f":"IF(MONTH(BI144)=3,DA144,CD143)","v":0},null,{"$f":"ROUND(CA144*(D$16%),0)","v":0},{"$f":"SUM(CB144:CF144)","v":0},{"$f":"CA144-CG144","v":0},0,0,null,113,"2015-01-01",0,0,{"$f":"IF(CN144=0,0,IF(CN144<=9000,500,IF(CN144<=11000,650,IF(CN144<=15000,1100,IF(CN144<=20000,1450,IF(CN144<=24000,2100,IF(CN144<=28000,3300,IF(CN144<=31000,4100,IF(CN144<=45000,5200,5700)))))))))","v":0},{"$f":"IF(CO144=0,0,IF(CO144<=9000,500,IF(CO144<=11000,650,IF(CO144<=15000,1100,IF(CO144<=20000,1450,IF(CO144<=24000,2100,IF(CO144<=28000,3300,IF(CO144<=31000,4100,IF(CO144<=45000,5200,5700)))))))))","v":0},null,{"$f":"IF(H10=CM144,((ROUND(BJ144*(G$8%-I$8%),0)))-(ROUND(BP144*(G$8%-I$8%),0)),0)","v":0},0,0,0,0,{"$f":"IF(CV144>CW144,CV144-CW144,0)","v":0},{"$f":"IF(CN144<1,0,IF(CN144<=8500,330,IF(CN144<=11000,450,IF(CN144<=18000,900,IF(CN144<=28000,1300,IF(CN144>=28000,2200))))))","v":0},{"$f":"IF(CO144<1,0,IF(CO144<=8500,330,IF(CO144<=11000,450,IF(CO144<=18000,900,IF(CO144<=28000,1300,IF(CO144>=28000,2200))))))","v":0},{"$f":"IF((MONTH(CM144))=3,(CY144-CZ144),DA143)","v":0},{"$f":"IF(BJ144<1,0,IF(BJ144<=7000,130,IF(BJ144<=10000,190,IF(BJ144<=13000,300,IF(BJ144>13000,480)))))","v":0},{"$f":"IF(BJ144<1,0,IF(BJ144<=7000,50,IF(BJ144<=10000,70,IF(BJ144<=13000,130,IF(BJ144>13000,240)))))","v":0},{"$f":"IF(BP144<1,0,IF(BP144<=7000,130,IF(BP144<=10000,190,IF(BP144<=13000,300,IF(BP144>13000,480)))))","v":0},{"$f":"IF(BP144<1,0,IF(BP144<=7000,50,IF(BP144<=10000,70,IF(BP144<=13000,130,IF(BP144>13000,240)))))","v":0},null,0,0]
[null,null,null,null,null,null,null,null,null,null,null,null,null,null,null,null,null,null,null,null,null,null,null,null,null,null,null,null,null,null,null,null,null,null,null,null,null,null,null,null,null,null,null,null,null,null,null,null,null,null,null,null,null,null,null,null,null,{"$f":"(BH145)-(IF(BI145=Entry!C$31,Entry!D$31/2+Entry!E$31,IF(BI145=Entry!C$32,Entry!D$32/2+Entry!E$32,IF(BI145=Entry!C$33,Entry!D$33/2+Entry!E$33,IF(BI145=Entry!C$34,Entry!D$34/2+Entry!E$34,IF(BI145=Entry!C$35,Entry!D$35/2+Entry!E$35,IF(BI145=Entry!C$36,Entry!D$36/2+Entry!E$36,IF(BI145=Entry!C$37,Entry!D$37/2+Entry!E$37))))))))","v":28},{"$f":"(BH145)-(IF(BI145=Entry!G$31,Entry!H$31/2+Entry!I$31,IF(BI145=Entry!G$32,Entry!H$32/2+Entry!I$32,IF(BI145=Entry!G$33,Entry!H$33/2+Entry!I$33,IF(BI145=Entry!G$34,Entry!H$34/2+Entry!I$34,IF(BI145=Entry!G$35,Entry!H$35/2+Entry!I$35,IF(BI145=Entry!G$36,Entry!H$36/2+Entry!I$36,IF(BI145=Entry!G$37,Entry!H$37/2+Entry!I$37))))))))","v":28},28,"2015-02-01",0,0,0,0,null,0,0,0,0,0,null,0,0,0,null,0,null,0,0,{"$f":"IF(Entry!B$27=\"Y\",0,CX145)","v":0},0,null,0,0,0,0,0,null,{"$f":"IF(IF(F$4=CM145,G$4,IF(F$8=CM145,G$8,IF(F$12=CM145,G$12,IF(F$23=CM145,G$23,IF(F$30=CM145,G$30,IF(F$37=CM145,G$37,IF(F$42=CM145,G$42,CL144)))))))=0,CL144,(IF(F$4=CM145,G$4,IF(F$8=CM145,G$8,IF(F$12=CM145,G$12,IF(F$23=CM145,G$23,IF(F$30=CM145,G$30,IF(F$37=CM145,G$37,IF(F$42=CM145,G$42,CL144)))))))))","v":113},"2015-02-01",0,0,0,0,null,0,0,0,0,0,0,0,0,0,0,0,0,0,null,0,0]
[null,null,null,null,null,null,null,null,null,null,null,null,null,null,null,null,null,null,null,null,null,null,null,null,null,null,null,null,null,null,null,null,null,null,null,null,null,null,null,null,null,null,null,null,null,null,null,null,null,null,null,null,null,null,null,null,null,{"$f":"(BH146)-(IF(BI146=Entry!C$31,Entry!D$31/2+Entry!E$31,IF(BI146=Entry!C$32,Entry!D$32/2+Entry!E$32,IF(BI146=Entry!C$33,Entry!D$33/2+Entry!E$33,IF(BI146=Entry!C$34,Entry!D$34/2+Entry!E$34,IF(BI146=Entry!C$35,Entry!D$35/2+Entry!E$35,IF(BI146=Entry!C$36,Entry!D$36/2+Entry!E$36,IF(BI146=Entry!C$37,Entry!D$37/2+Entry!E$37))))))))","v":31},{"$f":"(BH146)-(IF(BI146=Entry!G$31,Entry!H$31/2+Entry!I$31,IF(BI146=Entry!G$32,Entry!H$32/2+Entry!I$32,IF(BI146=Entry!G$33,Entry!H$33/2+Entry!I$33,IF(BI146=Entry!G$34,Entry!H$34/2+Entry!I$34,IF(BI146=Entry!G$35,Entry!H$35/2+Entry!I$35,IF(BI146=Entry!G$36,Entry!H$36/2+Entry!I$36,IF(BI146=Entry!G$37,Entry!H$37/2+Entry!I$37))))))))","v":31},31,"2015-03-01",0,0,0,0,null,0,0,0,0,0,null,0,0,0,null,0,null,0,0,{"$f":"IF(Entry!B$27=\"Y\",0,CX146)","v":0},0,null,0,0,0,0,0,null,{"$f":"IF(IF(F$4=CM146,G$4,IF(F$8=CM146,G$8,IF(F$12=CM146,G$12,IF(F$23=CM146,G$23,IF(F$30=CM146,G$30,IF(F$37=CM146,G$37,IF(F$42=CM146,G$42,CL145)))))))=0,CL145,(IF(F$4=CM146,G$4,IF(F$8=CM146,G$8,IF(F$12=CM146,G$12,IF(F$23=CM146,G$23,IF(F$30=CM146,G$30,IF(F$37=CM146,G$37,IF(F$42=CM146,G$42,CL145)))))))))","v":113},"2015-03-01",0,0,0,0,null,0,0,0,0,0,0,0,0,0,0,0,0,0,null,0,0]
[null,null,null,null,null,null,null,null,null,null,null,null,null,null,null,null,null,null,null,null,null,null,null,null,null,null,null,null,null,null,null,null,null,null,null,null,null,null,null,null,null,null,null,null,null,null,null,null,null,null,null,null,null,null,null,null,null,{"$f":"(BH147)-(IF(BI147=Entry!C$31,Entry!D$31/2+Entry!E$31,IF(BI147=Entry!C$32,Entry!D$32/2+Entry!E$32,IF(BI147=Entry!C$33,Entry!D$33/2+Entry!E$33,IF(BI147=Entry!C$34,Entry!D$34/2+Entry!E$34,IF(BI147=Entry!C$35,Entry!D$35/2+Entry!E$35,IF(BI147=Entry!C$36,Entry!D$36/2+Entry!E$36,IF(BI147=Entry!C$37,Entry!D$37/2+Entry!E$37))))))))","v":30},{"$f":"(BH147)-(IF(BI147=Entry!G$31,Entry!H$31/2+Entry!I$31,IF(BI147=Entry!G$32,Entry!H$32/2+Entry!I$32,IF(BI147=Entry!G$33,Entry!H$33/2+Entry!I$33,IF(BI147=Entry!G$34,Entry!H$34/2+Entry!I$34,IF(BI147=Entry!G$35,Entry!H$35/2+Entry!I$35,IF(BI147=Entry!G$36,Entry!H$36/2+Entry!I$36,IF(BI147=Entry!G$37,Entry!H$37/2+Entry!I$37))))))))","v":30},30,"2015-04-01",0,0,0,0,null,0,0,0,0,0,null,0,0,0,null,0,null,0,0,{"$f":"IF(Entry!B$27=\"Y\",0,CX147)","v":0},0,null,0,0,0,0,0,null,{"$f":"IF(IF(F$4=CM147,G$4,IF(F$8=CM147,G$8,IF(F$12=CM147,G$12,IF(F$23=CM147,G$23,IF(F$30=CM147,G$30,IF(F$37=CM147,G$37,IF(F$42=CM147,G$42,CL146)))))))=0,CL146,(IF(F$4=CM147,G$4,IF(F$8=CM147,G$8,IF(F$12=CM147,G$12,IF(F$23=CM147,G$23,IF(F$30=CM147,G$30,IF(F$37=CM147,G$37,IF(F$42=CM147,G$42,CL146)))))))))","v":113},"2015-04-01",0,0,0,0,null,0,0,0,0,0,0,0,0,0,0,0,0,0,null,0,0]
[null,null,null,null,null,null,null,null,null,null,null,null,null,null,null,null,null,null,null,null,null,null,null,null,null,null,null,null,null,null,null,null,null,null,null,null,null,null,null,null,null,null,null,null,null,null,null,null,null,null,null,null,null,null,null,null,null,{"$f":"(BH148)-(IF(BI148=Entry!C$31,Entry!D$31/2+Entry!E$31,IF(BI148=Entry!C$32,Entry!D$32/2+Entry!E$32,IF(BI148=Entry!C$33,Entry!D$33/2+Entry!E$33,IF(BI148=Entry!C$34,Entry!D$34/2+Entry!E$34,IF(BI148=Entry!C$35,Entry!D$35/2+Entry!E$35,IF(BI148=Entry!C$36,Entry!D$36/2+Entry!E$36,IF(BI148=Entry!C$37,Entry!D$37/2+Entry!E$37))))))))","v":31},{"$f":"(BH148)-(IF(BI148=Entry!G$31,Entry!H$31/2+Entry!I$31,IF(BI148=Entry!G$32,Entry!H$32/2+Entry!I$32,IF(BI148=Entry!G$33,Entry!H$33/2+Entry!I$33,IF(BI148=Entry!G$34,Entry!H$34/2+Entry!I$34,IF(BI148=Entry!G$35,Entry!H$35/2+Entry!I$35,IF(BI148=Entry!G$36,Entry!H$36/2+Entry!I$36,IF(BI148=Entry!G$37,Entry!H$37/2+Entry!I$37))))))))","v":31},31,"2015-05-01",0,0,0,0,null,0,0,0,0,0,null,0,0,0,null,0,null,0,0,{"$f":"IF(Entry!B$27=\"Y\",0,CX148)","v":0},0,null,0,0,0,0,0,null,{"$f":"IF(IF(F$4=CM148,G$4,IF(F$8=CM148,G$8,IF(F$12=CM148,G$12,IF(F$23=CM148,G$23,IF(F$30=CM148,G$30,IF(F$37=CM148,G$37,IF(F$42=CM148,G$42,CL147)))))))=0,CL147,(IF(F$4=CM148,G$4,IF(F$8=CM148,G$8,IF(F$12=CM148,G$12,IF(F$23=CM148,G$23,IF(F$30=CM148,G$30,IF(F$37=CM148,G$37,IF(F$42=CM148,G$42,CL147)))))))))","v":113},"2015-05-01",0,0,0,0,null,0,0,0,{"$f":"IF(CN148<1,0,IF(CN148<=7000,170,IF(CN148<=13000,283,IF(CN148<=21000,424,IF(CN148>21000,565)))))","v":0},{"$f":"IF(CO148<1,0,IF(CO148<=7000,170,IF(CO148<=13000,283,IF(CO148<=21000,424,IF(CO148>21000,565)))))","v":0},0,0,0,0,0,0,0,0,null,0,0]
[null,null,null,null,null,null,null,null,null,null,null,null,null,null,null,null,null,null,null,null,null,null,null,null,null,null,null,null,null,null,null,null,null,null,null,null,null,null,null,null,null,null,null,null,null,null,null,null,null,null,null,null,null,null,null,null,null,{"$f":"(BH149)-(IF(BI149=Entry!C$31,Entry!D$31/2+Entry!E$31,IF(BI149=Entry!C$32,Entry!D$32/2+Entry!E$32,IF(BI149=Entry!C$33,Entry!D$33/2+Entry!E$33,IF(BI149=Entry!C$34,Entry!D$34/2+Entry!E$34,IF(BI149=Entry!C$35,Entry!D$35/2+Entry!E$35,IF(BI149=Entry!C$36,Entry!D$36/2+Entry!E$36,IF(BI149=Entry!C$37,Entry!D$37/2+Entry!E$37))))))))","v":30},{"$f":"(BH149)-(IF(BI149=Entry!G$31,Entry!H$31/2+Entry!I$31,IF(BI149=Entry!G$32,Entry!H$32/2+Entry!I$32,IF(BI149=Entry!G$33,Entry!H$33/2+Entry!I$33,IF(BI149=Entry!G$34,Entry!H$34/2+Entry!I$34,IF(BI149=Entry!G$35,Entry!H$35/2+Entry!I$35,IF(BI149=Entry!G$36,Entry!H$36/2+Entry!I$36,IF(BI149=Entry!G$37,Entry!H$37/2+Entry!I$37))))))))","v":30},30,"2015-06-01",0,0,0,0,null,0,0,0,0,0,null,0,0,0,null,0,null,0,0,{"$f":"IF(Entry!B$27=\"Y\",0,CX149)","v":0},0,null,0,0,0,0,0,null,{"$f":"IF(IF(F$4=CM149,G$4,IF(F$8=CM149,G$8,IF(F$12=CM149,G$12,IF(F$23=CM149,G$23,IF(F$30=CM149,G$30,IF(F$37=CM149,G$37,IF(F$42=CM149,G$42,CL148)))))))=0,CL148,(IF(F$4=CM149,G$4,IF(F$8=CM149,G$8,IF(F$12=CM149,G$12,IF(F$23=CM149,G$23,IF(F$30=CM149,G$30,IF(F$37=CM149,G$37,IF(F$42=CM149,G$42,CL148)))))))))","v":113},"2015-06-01",0,0,0,0,null,0,0,0,{"$f":"IF(CN149<1,0,IF(CN149<=7000,170,IF(CN149<=13000,283,IF(CN149<=21000,424,IF(CN149>21000,565)))))","v":0},{"$f":"IF(CO149<1,0,IF(CO149<=7000,170,IF(CO149<=13000,283,IF(CO149<=21000,424,IF(CO149>21000,565)))))","v":0},0,0,0,0,0,0,0,0,null,0,0]
[null,null,null,null,null,null,null,null,null,null,null,null,null,null,null,null,null,null,null,null,null,null,null,null,null,null,null,null,null,null,null,null,null,null,null,null,null,null,null,null,null,null,null,null,null,null,null,null,null,null,null,null,null,null,null,null,null,{"$f":"(BH150)-(IF(BI150=Entry!C$31,Entry!D$31/2+Entry!E$31,IF(BI150=Entry!C$32,Entry!D$32/2+Entry!E$32,IF(BI150=Entry!C$33,Entry!D$33/2+Entry!E$33,IF(BI150=Entry!C$34,Entry!D$34/2+Entry!E$34,IF(BI150=Entry!C$35,Entry!D$35/2+Entry!E$35,IF(BI150=Entry!C$36,Entry!D$36/2+Entry!E$36,IF(BI150=Entry!C$37,Entry!D$37/2+Entry!E$37))))))))","v":31},{"$f":"(BH150)-(IF(BI150=Entry!G$31,Entry!H$31/2+Entry!I$31,IF(BI150=Entry!G$32,Entry!H$32/2+Entry!I$32,IF(BI150=Entry!G$33,Entry!H$33/2+Entry!I$33,IF(BI150=Entry!G$34,Entry!H$34/2+Entry!I$34,IF(BI150=Entry!G$35,Entry!H$35/2+Entry!I$35,IF(BI150=Entry!G$36,Entry!H$36/2+Entry!I$36,IF(BI150=Entry!G$37,Entry!H$37/2+Entry!I$37))))))))","v":31},31,"2015-07-01",0,0,0,0,null,0,0,0,0,0,null,0,0,0,null,0,null,0,0,{"$f":"IF(Entry!B$27=\"Y\",0,CX150)","v":0},0,null,0,0,0,0,0,null,119,"2015-07-01",0,0,0,0,null,{"$f":"IF(H16=CM150,((ROUND(BJ150*(G$12%-I$12%),0)))-(ROUND(BP150*(G$12%-I$12%),0)),0)","v":0},0,0,0,0,0,0,0,0,0,0,0,0,null,0,0]
[null,null,null,null,null,null,null,null,null,null,null,null,null,null,null,null,null,null,null,null,null,null,null,null,null,null,null,null,null,null,null,null,null,null,null,null,null,null,null,null,null,null,null,null,null,null,null,null,null,null,null,null,null,null,null,null,null,{"$f":"(BH151)-(IF(BI151=Entry!C$31,Entry!D$31/2+Entry!E$31,IF(BI151=Entry!C$32,Entry!D$32/2+Entry!E$32,IF(BI151=Entry!C$33,Entry!D$33/2+Entry!E$33,IF(BI151=Entry!C$34,Entry!D$34/2+Entry!E$34,IF(BI151=Entry!C$35,Entry!D$35/2+Entry!E$35,IF(BI151=Entry!C$36,Entry!D$36/2+Entry!E$36,IF(BI151=Entry!C$37,Entry!D$37/2+Entry!E$37))))))))","v":31},{"$f":"(BH151)-(IF(BI151=Entry!G$31,Entry!H$31/2+Entry!I$31,IF(BI151=Entry!G$32,Entry!H$32/2+Entry!I$32,IF(BI151=Entry!G$33,Entry!H$33/2+Entry!I$33,IF(BI151=Entry!G$34,Entry!H$34/2+Entry!I$34,IF(BI151=Entry!G$35,Entry!H$35/2+Entry!I$35,IF(BI151=Entry!G$36,Entry!H$36/2+Entry!I$36,IF(BI151=Entry!G$37,Entry!H$37/2+Entry!I$37))))))))","v":31},31,"2015-08-01",0,0,0,0,null,0,0,0,0,0,null,0,0,0,null,0,null,0,0,{"$f":"IF(Entry!B$27=\"Y\",0,CX151)","v":0},0,null,0,0,0,0,0,null,{"$f":"IF(IF(F$4=CM151,G$4,IF(F$8=CM151,G$8,IF(F$12=CM151,G$12,IF(F$23=CM151,G$23,IF(F$30=CM151,G$30,IF(F$37=CM151,G$37,IF(F$42=CM151,G$42,CL150)))))))=0,CL150,(IF(F$4=CM151,G$4,IF(F$8=CM151,G$8,IF(F$12=CM151,G$12,IF(F$23=CM151,G$23,IF(F$30=CM151,G$30,IF(F$37=CM151,G$37,IF(F$42=CM151,G$42,CL150)))))))))","v":119},"2015-08-01",0,0,0,0,null,0,0,0,0,0,0,0,0,0,0,0,0,0,null,0,0]
[null,null,null,null,null,null,null,null,null,null,null,null,null,null,null,null,null,null,null,null,null,null,null,null,null,null,null,null,null,null,null,null,null,null,null,null,null,null,null,null,null,null,null,null,null,null,null,null,null,null,null,null,null,null,null,null,null,{"$f":"(BH152)-(IF(BI152=Entry!C$31,Entry!D$31/2+Entry!E$31,IF(BI152=Entry!C$32,Entry!D$32/2+Entry!E$32,IF(BI152=Entry!C$33,Entry!D$33/2+Entry!E$33,IF(BI152=Entry!C$34,Entry!D$34/2+Entry!E$34,IF(BI152=Entry!C$35,Entry!D$35/2+Entry!E$35,IF(BI152=Entry!C$36,Entry!D$36/2+Entry!E$36,IF(BI152=Entry!C$37,Entry!D$37/2+Entry!E$37))))))))","v":30},{"$f":"(BH152)-(IF(BI152=Entry!G$31,Entry!H$31/2+Entry!I$31,IF(BI152=Entry!G$32,Entry!H$32/2+Entry!I$32,IF(BI152=Entry!G$33,Entry!H$33/2+Entry!I$33,IF(BI152=Entry!G$34,Entry!H$34/2+Entry!I$34,IF(BI152=Entry!G$35,Entry!H$35/2+Entry!I$35,IF(BI152=Entry!G$36,Entry!H$36/2+Entry!I$36,IF(BI152=Entry!G$37,Entry!H$37/2+Entry!I$37))))))))","v":30},30,"2015-09-01",22599,26893,0,2260,null,51752,21411,25479,0,2141,null,49031,1188,1414,null,119,null,2721,3300,{"$f":"IF(Entry!B$27=\"Y\",0,CX152)","v":0},0,null,0,3300,-579,4949,4689,null,119,"2015-09-01",25110,23790,3300,2100,null,0,3300,2100,565,565,0,1300,1300,0,480,240,480,240,null,3300,2100]
[null,null,null,null,null,null,null,null,null,null,null,null,null,null,null,null,null,null,null,null,null,null,null,null,null,null,null,null,null,null,null,null,null,null,null,null,null,null,null,null,null,null,null,null,null,null,null,null,null,null,null,null,null,null,null,null,null,{"$f":"(BH153)-(IF(BI153=Entry!C$31,Entry!D$31/2+Entry!E$31,IF(BI153=Entry!C$32,Entry!D$32/2+Entry!E$32,IF(BI153=Entry!C$33,Entry!D$33/2+Entry!E$33,IF(BI153=Entry!C$34,Entry!D$34/2+Entry!E$34,IF(BI153=Entry!C$35,Entry!D$35/2+Entry!E$35,IF(BI153=Entry!C$36,Entry!D$36/2+Entry!E$36,IF(BI153=Entry!C$37,Entry!D$37/2+Entry!E$37))))))))","v":31},{"$f":"(BH153)-(IF(BI153=Entry!G$31,Entry!H$31/2+Entry!I$31,IF(BI153=Entry!G$32,Entry!H$32/2+Entry!I$32,IF(BI153=Entry!G$33,Entry!H$33/2+Entry!I$33,IF(BI153=Entry!G$34,Entry!H$34/2+Entry!I$34,IF(BI153=Entry!G$35,Entry!H$35/2+Entry!I$35,IF(BI153=Entry!G$36,Entry!H$36/2+Entry!I$36,IF(BI153=Entry!G$37,Entry!H$37/2+Entry!I$37))))))))","v":31},31,"2015-10-01",25110,29881,0,2511,null,57502,23790,28310,0,2379,null,54479,1320,1571,null,132,null,3023,3300,{"$f":"IF(Entry!B$27=\"Y\",0,CX153)","v":0},0,null,0,3300,-277,5499,5210,null,119,"2015-10-01",25110,23790,3300,2100,null,0,3300,2100,{"$f":"IF(CN153<1,0,IF(CN153<=7000,179,IF(CN153<=13000,298,IF(CN153<=21000,447,IF(CN153>21000,595)))))","v":595},{"$f":"IF(CO153<1,0,IF(CO153<=7000,179,IF(CO153<=13000,298,IF(CO153<=21000,447,IF(CO153>21000,595)))))","v":595},0,1300,1300,0,480,240,480,240,null,3300,2100]
[null,null,null,null,null,null,null,null,null,null,null,null,null,null,null,null,null,null,null,null,null,null,null,null,null,null,null,null,null,null,null,null,null,null,null,null,null,null,null,null,null,null,null,null,null,null,null,null,null,null,null,null,null,null,null,null,null,{"$f":"(BH154)-(IF(BI154=Entry!C$31,Entry!D$31/2+Entry!E$31,IF(BI154=Entry!C$32,Entry!D$32/2+Entry!E$32,IF(BI154=Entry!C$33,Entry!D$33/2+Entry!E$33,IF(BI154=Entry!C$34,Entry!D$34/2+Entry!E$34,IF(BI154=Entry!C$35,Entry!D$35/2+Entry!E$35,IF(BI154=Entry!C$36,Entry!D$36/2+Entry!E$36,IF(BI154=Entry!C$37,Entry!D$37/2+Entry!E$37))))))))","v":30},{"$f":"(BH154)-(IF(BI154=Entry!G$31,Entry!H$31/2+Entry!I$31,IF(BI154=Entry!G$32,Entry!H$32/2+Entry!I$32,IF(BI154=Entry!G$33,Entry!H$33/2+Entry!I$33,IF(BI154=Entry!G$34,Entry!H$34/2+Entry!I$34,IF(BI154=Entry!G$35,Entry!H$35/2+Entry!I$35,IF(BI154=Entry!G$36,Entry!H$36/2+Entry!I$36,IF(BI154=Entry!G$37,Entry!H$37/2+Entry!I$37))))))))","v":30},30,"2015-11-01",0,0,0,0,null,0,0,0,0,0,null,0,0,0,null,0,null,0,0,{"$f":"IF(Entry!B$27=\"Y\",0,CX154)","v":0},0,null,0,0,0,0,0,null,119,"2015-11-01",0,{"$f":"(IF(BJ154=0,0,IF(CN154=0,0,(LOOKUP(BI154,BV$31:BV$43,BW$31:BW$43)))))","v":0},0,0,null,0,0,0,{"$f":"IF(CN154<1,0,IF(CN154<=7000,179,IF(CN154<=13000,298,IF(CN154<=21000,447,IF(CN154>21000,595)))))","v":0},{"$f":"IF(CO154<1,0,IF(CO154<=7000,179,IF(CO154<=13000,298,IF(CO154<=21000,447,IF(CO154>21000,595)))))","v":0},0,0,0,0,0,0,0,0,null,0,0]
[null,null,null,null,null,null,null,null,null,null,null,null,null,null,null,null,null,null,null,null,null,null,null,null,null,null,null,null,null,null,null,null,null,null,null,null,null,null,null,null,null,null,null,null,null,null,null,null,null,null,null,null,null,null,null,null,null,{"$f":"(BH155)-(IF(BI155=Entry!C$31,Entry!D$31/2+Entry!E$31,IF(BI155=Entry!C$32,Entry!D$32/2+Entry!E$32,IF(BI155=Entry!C$33,Entry!D$33/2+Entry!E$33,IF(BI155=Entry!C$34,Entry!D$34/2+Entry!E$34,IF(BI155=Entry!C$35,Entry!D$35/2+Entry!E$35,IF(BI155=Entry!C$36,Entry!D$36/2+Entry!E$36,IF(BI155=Entry!C$37,Entry!D$37/2+Entry!E$37))))))))","v":31},{"$f":"(BH155)-(IF(BI155=Entry!G$31,Entry!H$31/2+Entry!I$31,IF(BI155=Entry!G$32,Entry!H$32/2+Entry!I$32,IF(BI155=Entry!G$33,Entry!H$33/2+Entry!I$33,IF(BI155=Entry!G$34,Entry!H$34/2+Entry!I$34,IF(BI155=Entry!G$35,Entry!H$35/2+Entry!I$35,IF(BI155=Entry!G$36,Entry!H$36/2+Entry!I$36,IF(BI155=Entry!G$37,Entry!H$37/2+Entry!I$37))))))))","v":31},31,"2015-12-01",0,0,0,0,null,0,0,0,0,0,null,0,0,0,null,0,null,0,0,{"$f":"IF(Entry!B$27=\"Y\",0,CX155)","v":0},0,null,0,0,0,0,0,null,119,"2015-12-01",0,0,0,0,null,0,0,0,0,0,0,0,0,0,0,0,0,0,null,0,0]
[null,null,null,null,null,null,null,null,null,null,null,null,null,null,null,null,null,null,null,null,null,null,null,null,null,null,null,null,null,null,null,null,null,null,null,null,null,null,null,null,null,null,null,null,null,null,null,null,null,null,null,null,null,null,null,null,null,{"$f":"(BH156)-(IF(BI156=Entry!C$31,Entry!D$31/2+Entry!E$31,IF(BI156=Entry!C$32,Entry!D$32/2+Entry!E$32,IF(BI156=Entry!C$33,Entry!D$33/2+Entry!E$33,IF(BI156=Entry!C$34,Entry!D$34/2+Entry!E$34,IF(BI156=Entry!C$35,Entry!D$35/2+Entry!E$35,IF(BI156=Entry!C$36,Entry!D$36/2+Entry!E$36,IF(BI156=Entry!C$37,Entry!D$37/2+Entry!E$37))))))))","v":31},{"$f":"(BH156)-(IF(BI156=Entry!G$31,Entry!H$31/2+Entry!I$31,IF(BI156=Entry!G$32,Entry!H$32/2+Entry!I$32,IF(BI156=Entry!G$33,Entry!H$33/2+Entry!I$33,IF(BI156=Entry!G$34,Entry!H$34/2+Entry!I$34,IF(BI156=Entry!G$35,Entry!H$35/2+Entry!I$35,IF(BI156=Entry!G$36,Entry!H$36/2+Entry!I$36,IF(BI156=Entry!G$37,Entry!H$37/2+Entry!I$37))))))))","v":31},31,"2016-01-01",0,0,0,0,null,0,0,0,0,0,null,0,0,0,null,0,null,0,0,{"$f":"IF(Entry!B$27=\"Y\",0,CX156)","v":0},0,null,0,0,0,0,0,null,119,"2016-01-01",0,0,0,0,null,{"$f":"IF(H22=CM156,((ROUND(BJ156*(G$16%-I$16%),0)))-(ROUND(BP156*(G$16%-I$16%),0)),0)","v":0},0,0,{"$f":"IF(CN156<1,0,IF(CN156<=7000,179,IF(CN156<=13000,298,IF(CN156<=21000,447,IF(CN156>21000,595)))))","v":0},{"$f":"IF(CO156<1,0,IF(CO156<=7000,179,IF(CO156<=13000,298,IF(CO156<=21000,447,IF(CO156>21000,595)))))","v":0},0,0,0,0,0,0,0,0,null,0,0]
[null,null,null,null,null,null,null,null,null,null,null,null,null,null,null,null,null,null,null,null,null,null,null,null,null,null,null,null,null,null,null,null,null,null,null,null,null,null,null,null,null,null,null,null,null,null,null,null,null,null,null,null,null,null,null,null,null,{"$f":"(BH157)-(IF(BI157=Entry!C$31,Entry!D$31/2+Entry!E$31,IF(BI157=Entry!C$32,Entry!D$32/2+Entry!E$32,IF(BI157=Entry!C$33,Entry!D$33/2+Entry!E$33,IF(BI157=Entry!C$34,Entry!D$34/2+Entry!E$34,IF(BI157=Entry!C$35,Entry!D$35/2+Entry!E$35,IF(BI157=Entry!C$36,Entry!D$36/2+Entry!E$36,IF(BI157=Entry!C$37,Entry!D$37/2+Entry!E$37))))))))","v":29},{"$f":"(BH157)-(IF(BI157=Entry!G$31,Entry!H$31/2+Entry!I$31,IF(BI157=Entry!G$32,Entry!H$32/2+Entry!I$32,IF(BI157=Entry!G$33,Entry!H$33/2+Entry!I$33,IF(BI157=Entry!G$34,Entry!H$34/2+Entry!I$34,IF(BI157=Entry!G$35,Entry!H$35/2+Entry!I$35,IF(BI157=Entry!G$36,Entry!H$36/2+Entry!I$36,IF(BI157=Entry!G$37,Entry!H$37/2+Entry!I$37))))))))","v":29},29,"2016-02-01",0,0,0,0,null,0,0,0,0,0,null,0,0,0,null,0,null,0,0,{"$f":"IF(Entry!B$27=\"Y\",0,CX157)","v":0},0,null,0,0,0,0,0,null,119,"2016-02-01",0,0,0,0,null,0,0,0,0,0,0,0,0,0,0,0,0,0,null,0,0]
[null,null,null,null,null,null,null,null,null,null,null,null,null,null,null,null,null,null,null,null,null,null,null,null,null,null,null,null,null,null,null,null,null,null,null,null,null,null,null,null,null,null,null,null,null,null,null,null,null,null,null,null,null,null,null,null,null,{"$f":"(BH158)-(IF(BI158=Entry!C$31,Entry!D$31/2+Entry!E$31,IF(BI158=Entry!C$32,Entry!D$32/2+Entry!E$32,IF(BI158=Entry!C$33,Entry!D$33/2+Entry!E$33,IF(BI158=Entry!C$34,Entry!D$34/2+Entry!E$34,IF(BI158=Entry!C$35,Entry!D$35/2+Entry!E$35,IF(BI158=Entry!C$36,Entry!D$36/2+Entry!E$36,IF(BI158=Entry!C$37,Entry!D$37/2+Entry!E$37))))))))","v":31},{"$f":"(BH158)-(IF(BI158=Entry!G$31,Entry!H$31/2+Entry!I$31,IF(BI158=Entry!G$32,Entry!H$32/2+Entry!I$32,IF(BI158=Entry!G$33,Entry!H$33/2+Entry!I$33,IF(BI158=Entry!G$34,Entry!H$34/2+Entry!I$34,IF(BI158=Entry!G$35,Entry!H$35/2+Entry!I$35,IF(BI158=Entry!G$36,Entry!H$36/2+Entry!I$36,IF(BI158=Entry!G$37,Entry!H$37/2+Entry!I$37))))))))","v":31},31,"2016-03-01",0,0,0,0,null,0,0,0,0,0,null,0,0,0,null,0,null,0,0,{"$f":"IF(Entry!B$27=\"Y\",0,CX158)","v":0},0,null,0,0,0,0,0,null,119,"2016-03-01",0,0,0,0,null,0,0,0,0,0,0,0,0,0,0,0,0,0,null,0,0]
[null,null,null,null,null,null,null,null,null,null,null,null,null,null,null,null,null,null,null,null,null,null,null,null,null,null,null,null,null,null,null,null,null,null,null,null,null,null,null,null,null,null,null,null,null,null,null,null,null,null,null,null,null,null,null,null,null,{"$f":"(BH159)-(IF(BI159=Entry!C$31,Entry!D$31/2+Entry!E$31,IF(BI159=Entry!C$32,Entry!D$32/2+Entry!E$32,IF(BI159=Entry!C$33,Entry!D$33/2+Entry!E$33,IF(BI159=Entry!C$34,Entry!D$34/2+Entry!E$34,IF(BI159=Entry!C$35,Entry!D$35/2+Entry!E$35,IF(BI159=Entry!C$36,Entry!D$36/2+Entry!E$36,IF(BI159=Entry!C$37,Entry!D$37/2+Entry!E$37))))))))","v":30},{"$f":"(BH159)-(IF(BI159=Entry!G$31,Entry!H$31/2+Entry!I$31,IF(BI159=Entry!G$32,Entry!H$32/2+Entry!I$32,IF(BI159=Entry!G$33,Entry!H$33/2+Entry!I$33,IF(BI159=Entry!G$34,Entry!H$34/2+Entry!I$34,IF(BI159=Entry!G$35,Entry!H$35/2+Entry!I$35,IF(BI159=Entry!G$36,Entry!H$36/2+Entry!I$36,IF(BI159=Entry!G$37,Entry!H$37/2+Entry!I$37))))))))","v":30},30,"2016-04-01",0,0,0,0,null,0,0,0,0,0,null,0,0,0,null,0,null,0,0,{"$f":"IF(Entry!B$27=\"Y\",0,CX159)","v":0},0,null,0,0,0,0,0,null,119,"2016-04-01",0,0,0,0,null,0,0,0,0,0,0,0,0,0,0,0,0,0,null,0,0]
[null,null,null,null,null,null,null,null,null,null,null,null,null,null,null,null,null,null,null,null,null,null,null,null,null,null,null,null,null,null,null,null,null,null,null,null,null,null,null,null,null,null,null,null,null,null,null,null,null,null,null,null,null,null,null,null,null,{"$f":"(BH160)-(IF(BI160=Entry!C$31,Entry!D$31/2+Entry!E$31,IF(BI160=Entry!C$32,Entry!D$32/2+Entry!E$32,IF(BI160=Entry!C$33,Entry!D$33/2+Entry!E$33,IF(BI160=Entry!C$34,Entry!D$34/2+Entry!E$34,IF(BI160=Entry!C$35,Entry!D$35/2+Entry!E$35,IF(BI160=Entry!C$36,Entry!D$36/2+Entry!E$36,IF(BI160=Entry!C$37,Entry!D$37/2+Entry!E$37))))))))","v":31},{"$f":"(BH160)-(IF(BI160=Entry!G$31,Entry!H$31/2+Entry!I$31,IF(BI160=Entry!G$32,Entry!H$32/2+Entry!I$32,IF(BI160=Entry!G$33,Entry!H$33/2+Entry!I$33,IF(BI160=Entry!G$34,Entry!H$34/2+Entry!I$34,IF(BI160=Entry!G$35,Entry!H$35/2+Entry!I$35,IF(BI160=Entry!G$36,Entry!H$36/2+Entry!I$36,IF(BI160=Entry!G$37,Entry!H$37/2+Entry!I$37))))))))","v":31},31,"2016-05-01",0,0,0,0,null,0,0,0,0,0,null,0,0,0,null,0,null,0,0,{"$f":"IF(Entry!B$27=\"Y\",0,CX160)","v":0},0,null,0,0,0,0,0,null,119,"2016-05-01",0,0,0,0,null,0,0,0,0,0,0,0,0,0,0,0,0,0,null,0,0]
[null,null,null,null,null,null,null,null,null,null,null,null,null,null,null,null,null,null,null,null,null,null,null,null,null,null,null,null,null,null,null,null,null,null,null,null,null,null,null,null,null,null,null,null,null,null,null,null,null,null,null,null,null,null,null,null,null,{"$f":"(BH161)-(IF(BI161=Entry!C$31,Entry!D$31/2+Entry!E$31,IF(BI161=Entry!C$32,Entry!D$32/2+Entry!E$32,IF(BI161=Entry!C$33,Entry!D$33/2+Entry!E$33,IF(BI161=Entry!C$34,Entry!D$34/2+Entry!E$34,IF(BI161=Entry!C$35,Entry!D$35/2+Entry!E$35,IF(BI161=Entry!C$36,Entry!D$36/2+Entry!E$36,IF(BI161=Entry!C$37,Entry!D$37/2+Entry!E$37))))))))","v":30},{"$f":"(BH161)-(IF(BI161=Entry!G$31,Entry!H$31/2+Entry!I$31,IF(BI161=Entry!G$32,Entry!H$32/2+Entry!I$32,IF(BI161=Entry!G$33,Entry!H$33/2+Entry!I$33,IF(BI161=Entry!G$34,Entry!H$34/2+Entry!I$34,IF(BI161=Entry!G$35,Entry!H$35/2+Entry!I$35,IF(BI161=Entry!G$36,Entry!H$36/2+Entry!I$36,IF(BI161=Entry!G$37,Entry!H$37/2+Entry!I$37))))))))","v":30},30,"2016-06-01",0,0,0,0,null,0,0,0,0,0,null,0,0,0,null,0,null,0,0,{"$f":"IF(Entry!B$27=\"Y\",0,CX161)","v":0},0,null,0,0,0,0,0,null,119,"2016-06-01",0,0,0,0,null,0,0,0,0,0,0,0,0,0,0,0,0,0,null,0,0]
[null,null,null,null,null,null,null,null,null,null,null,null,null,null,null,null,null,null,null,null,null,null,null,null,null,null,null,null,null,null,null,null,null,null,null,null,null,null,null,null,null,null,null,null,null,null,null,null,null,null,null,null,null,null,null,null,null,{"$f":"(BH162)-(IF(BI162=Entry!C$31,Entry!D$31/2+Entry!E$31,IF(BI162=Entry!C$32,Entry!D$32/2+Entry!E$32,IF(BI162=Entry!C$33,Entry!D$33/2+Entry!E$33,IF(BI162=Entry!C$34,Entry!D$34/2+Entry!E$34,IF(BI162=Entry!C$35,Entry!D$35/2+Entry!E$35,IF(BI162=Entry!C$36,Entry!D$36/2+Entry!E$36,IF(BI162=Entry!C$37,Entry!D$37/2+Entry!E$37))))))))","v":31},{"$f":"(BH162)-(IF(BI162=Entry!G$31,Entry!H$31/2+Entry!I$31,IF(BI162=Entry!G$32,Entry!H$32/2+Entry!I$32,IF(BI162=Entry!G$33,Entry!H$33/2+Entry!I$33,IF(BI162=Entry!G$34,Entry!H$34/2+Entry!I$34,IF(BI162=Entry!G$35,Entry!H$35/2+Entry!I$35,IF(BI162=Entry!G$36,Entry!H$36/2+Entry!I$36,IF(BI162=Entry!G$37,Entry!H$37/2+Entry!I$37))))))))","v":31},31,"2016-07-01",0,0,0,0,null,0,0,0,0,0,null,0,0,0,null,0,null,0,0,{"$f":"IF(Entry!B$27=\"Y\",0,CX162)","v":0},0,null,0,0,0,0,0,null,119,"2016-07-01",0,0,0,0,null,{"$f":"IF(H28=CM162,((ROUND(BJ162*(G$20%-I$20%),0)))-(ROUND(BP162*(G$20%-I$20%),0)),0)","v":0},0,0,0,0,0,0,0,0,0,0,0,0,null,0,0]
[null,null,null,null,null,null,null,null,null,null,null,null,null,null,null,null,null,null,null,null,null,null,null,null,null,null,null,null,null,null,null,null,null,null,null,null,null,null,null,null,null,null,null,null,null,null,null,null,null,null,null,null,null,null,null,null,null,{"$f":"(BH163)-(IF(BI163=Entry!C$31,Entry!D$31/2+Entry!E$31,IF(BI163=Entry!C$32,Entry!D$32/2+Entry!E$32,IF(BI163=Entry!C$33,Entry!D$33/2+Entry!E$33,IF(BI163=Entry!C$34,Entry!D$34/2+Entry!E$34,IF(BI163=Entry!C$35,Entry!D$35/2+Entry!E$35,IF(BI163=Entry!C$36,Entry!D$36/2+Entry!E$36,IF(BI163=Entry!C$37,Entry!D$37/2+Entry!E$37))))))))","v":31},{"$f":"(BH163)-(IF(BI163=Entry!G$31,Entry!H$31/2+Entry!I$31,IF(BI163=Entry!G$32,Entry!H$32/2+Entry!I$32,IF(BI163=Entry!G$33,Entry!H$33/2+Entry!I$33,IF(BI163=Entry!G$34,Entry!H$34/2+Entry!I$34,IF(BI163=Entry!G$35,Entry!H$35/2+Entry!I$35,IF(BI163=Entry!G$36,Entry!H$36/2+Entry!I$36,IF(BI163=Entry!G$37,Entry!H$37/2+Entry!I$37))))))))","v":31},31,"2016-08-01",0,0,0,0,null,0,0,0,0,0,null,0,0,0,null,0,null,0,0,{"$f":"IF(Entry!B$27=\"Y\",0,CX163)","v":0},0,null,0,0,0,0,0,null,119,"2016-08-01",0,0,0,0,null,0,0,0,0,0,0,0,0,0,0,0,0,0,null,0,0]
[null,null,null,null,null,null,null,null,null,null,null,null,null,null,null,null,null,null,null,null,null,null,null,null,null,null,null,null,null,null,null,null,null,null,null,null,null,null,null,null,null,null,null,null,null,null,null,null,null,null,null,null,null,null,null,null,null,{"$f":"(BH164)-(IF(BI164=Entry!C$31,Entry!D$31/2+Entry!E$31,IF(BI164=Entry!C$32,Entry!D$32/2+Entry!E$32,IF(BI164=Entry!C$33,Entry!D$33/2+Entry!E$33,IF(BI164=Entry!C$34,Entry!D$34/2+Entry!E$34,IF(BI164=Entry!C$35,Entry!D$35/2+Entry!E$35,IF(BI164=Entry!C$36,Entry!D$36/2+Entry!E$36,IF(BI164=Entry!C$37,Entry!D$37/2+Entry!E$37))))))))","v":30},{"$f":"(BH164)-(IF(BI164=Entry!G$31,Entry!H$31/2+Entry!I$31,IF(BI164=Entry!G$32,Entry!H$32/2+Entry!I$32,IF(BI164=Entry!G$33,Entry!H$33/2+Entry!I$33,IF(BI164=Entry!G$34,Entry!H$34/2+Entry!I$34,IF(BI164=Entry!G$35,Entry!H$35/2+Entry!I$35,IF(BI164=Entry!G$36,Entry!H$36/2+Entry!I$36,IF(BI164=Entry!G$37,Entry!H$37/2+Entry!I$37))))))))","v":30},30,"2016-09-01",0,0,{"$f":"IF(D$6=\"N\",0,IF(D$6=\"B\",DC164,DB164))","v":0},{"$f":"ROUND((BJ164)*(IF(D$5=\"Nill\",0,D$5)),0)","v":0},null,0,0,0,{"$f":"IF(D$6=\"N\",0,IF(D$6=\"B\",DE164,DD164))","v":0},{"$f":"ROUND((BP164)*(IF(D$5=\"Nill\",0,D$5)),0)","v":0},null,0,0,0,null,0,null,0,0,{"$f":"IF(Entry!B$27=\"Y\",0,CX164)","v":0},0,null,0,0,0,0,0,null,119,"2016-09-01",0,0,0,0,null,0,{"$f":"IF(D$10=\"Nill\",0,IF(D$10=\"ALL\",(CR164+CP164),IF(D$10=\"DA\",CR164)))","v":0},{"$f":"IF(D$10=\"Nill\",0,IF(D$10=\"ALL\",(CQ164+CS164),IF(D$10=\"DA\",CS164)))","v":0},0,0,0,0,0,0,0,0,0,0,null,0,0]
[null,null,null,null,null,null,null,null,null,null,null,null,null,null,null,null,null,null,null,null,null,null,null,null,null,null,null,null,null,null,null,null,null,null,null,null,null,null,null,null,null,null,null,null,null,null,null,null,null,null,null,null,null,null,null,null,null,{"$f":"(BH165)-(IF(BI165=Entry!C$31,Entry!D$31/2+Entry!E$31,IF(BI165=Entry!C$32,Entry!D$32/2+Entry!E$32,IF(BI165=Entry!C$33,Entry!D$33/2+Entry!E$33,IF(BI165=Entry!C$34,Entry!D$34/2+Entry!E$34,IF(BI165=Entry!C$35,Entry!D$35/2+Entry!E$35,IF(BI165=Entry!C$36,Entry!D$36/2+Entry!E$36,IF(BI165=Entry!C$37,Entry!D$37/2+Entry!E$37))))))))","v":31},{"$f":"(BH165)-(IF(BI165=Entry!G$31,Entry!H$31/2+Entry!I$31,IF(BI165=Entry!G$32,Entry!H$32/2+Entry!I$32,IF(BI165=Entry!G$33,Entry!H$33/2+Entry!I$33,IF(BI165=Entry!G$34,Entry!H$34/2+Entry!I$34,IF(BI165=Entry!G$35,Entry!H$35/2+Entry!I$35,IF(BI165=Entry!G$36,Entry!H$36/2+Entry!I$36,IF(BI165=Entry!G$37,Entry!H$37/2+Entry!I$37))))))))","v":31},31,"2016-10-01",0,0,0,0,null,0,0,0,0,0,null,0,0,0,null,0,null,0,0,{"$f":"IF(Entry!B$27=\"Y\",0,CX165)","v":0},0,null,0,0,0,0,0,null,119,"2016-10-01",0,0,0,0,null,0,0,0,0,0,0,0,0,0,0,0,0,0,null,0,0]
[null,null,null,null,null,null,null,null,null,null,null,null,null,null,null,null,null,null,null,null,null,null,null,null,null,null,null,null,null,null,null,null,null,null,null,null,null,null,null,null,null,null,null,null,null,null,null,null,null,null,null,null,null,null,null,null,null,{"$f":"(BH166)-(IF(BI166=Entry!C$31,Entry!D$31/2+Entry!E$31,IF(BI166=Entry!C$32,Entry!D$32/2+Entry!E$32,IF(BI166=Entry!C$33,Entry!D$33/2+Entry!E$33,IF(BI166=Entry!C$34,Entry!D$34/2+Entry!E$34,IF(BI166=Entry!C$35,Entry!D$35/2+Entry!E$35,IF(BI166=Entry!C$36,Entry!D$36/2+Entry!E$36,IF(BI166=Entry!C$37,Entry!D$37/2+Entry!E$37))))))))","v":30},{"$f":"(BH166)-(IF(BI166=Entry!G$31,Entry!H$31/2+Entry!I$31,IF(BI166=Entry!G$32,Entry!H$32/2+Entry!I$32,IF(BI166=Entry!G$33,Entry!H$33/2+Entry!I$33,IF(BI166=Entry!G$34,Entry!H$34/2+Entry!I$34,IF(BI166=Entry!G$35,Entry!H$35/2+Entry!I$35,IF(BI166=Entry!G$36,Entry!H$36/2+Entry!I$36,IF(BI166=Entry!G$37,Entry!H$37/2+Entry!I$37))))))))","v":30},30,"2016-11-01",0,0,0,0,null,0,0,0,0,0,null,0,0,0,null,0,null,0,0,{"$f":"IF(Entry!B$27=\"Y\",0,CX166)","v":0},0,null,0,0,0,0,0,null,119,"2016-11-01",0,0,0,0,null,0,0,0,0,0,0,0,0,0,0,0,0,0,null,0,0]
[null,null,null,null,null,null,null,null,null,null,null,null,null,null,null,null,null,null,null,null,null,null,null,null,null,null,null,null,null,null,null,null,null,null,null,null,null,null,null,null,null,null,null,null,null,null,null,null,null,null,null,null,null,null,null,null,null,{"$f":"(BH167)-(IF(BI167=Entry!C$31,Entry!D$31/2+Entry!E$31,IF(BI167=Entry!C$32,Entry!D$32/2+Entry!E$32,IF(BI167=Entry!C$33,Entry!D$33/2+Entry!E$33,IF(BI167=Entry!C$34,Entry!D$34/2+Entry!E$34,IF(BI167=Entry!C$35,Entry!D$35/2+Entry!E$35,IF(BI167=Entry!C$36,Entry!D$36/2+Entry!E$36,IF(BI167=Entry!C$37,Entry!D$37/2+Entry!E$37))))))))","v":31},{"$f":"(BH167)-(IF(BI167=Entry!G$31,Entry!H$31/2+Entry!I$31,IF(BI167=Entry!G$32,Entry!H$32/2+Entry!I$32,IF(BI167=Entry!G$33,Entry!H$33/2+Entry!I$33,IF(BI167=Entry!G$34,Entry!H$34/2+Entry!I$34,IF(BI167=Entry!G$35,Entry!H$35/2+Entry!I$35,IF(BI167=Entry!G$36,Entry!H$36/2+Entry!I$36,IF(BI167=Entry!G$37,Entry!H$37/2+Entry!I$37))))))))","v":31},31,"2016-12-01",0,0,0,0,null,0,0,0,0,0,null,0,0,0,null,0,null,0,0,{"$f":"IF(Entry!B$27=\"Y\",0,CX167)","v":0},0,null,0,0,0,0,0,null,119,"2016-12-01",0,0,0,0,null,0,0,0,0,0,0,0,0,0,0,0,0,0,null,0,0]
[null,null,null,null,null,null,null,null,null,null,null,null,null,null,null,null,null,null,null,null,null,null,null,null,null,null,null,null,null,null,null,null,null,null,null,null,null,null,null,null,null,null,null,null,null,null,null,null,null,null,null,null,null,null,null,null,null,{"$f":"(BH168)-(IF(BI168=Entry!C$31,Entry!D$31/2+Entry!E$31,IF(BI168=Entry!C$32,Entry!D$32/2+Entry!E$32,IF(BI168=Entry!C$33,Entry!D$33/2+Entry!E$33,IF(BI168=Entry!C$34,Entry!D$34/2+Entry!E$34,IF(BI168=Entry!C$35,Entry!D$35/2+Entry!E$35,IF(BI168=Entry!C$36,Entry!D$36/2+Entry!E$36,IF(BI168=Entry!C$37,Entry!D$37/2+Entry!E$37))))))))","v":31},{"$f":"(BH168)-(IF(BI168=Entry!G$31,Entry!H$31/2+Entry!I$31,IF(BI168=Entry!G$32,Entry!H$32/2+Entry!I$32,IF(BI168=Entry!G$33,Entry!H$33/2+Entry!I$33,IF(BI168=Entry!G$34,Entry!H$34/2+Entry!I$34,IF(BI168=Entry!G$35,Entry!H$35/2+Entry!I$35,IF(BI168=Entry!G$36,Entry!H$36/2+Entry!I$36,IF(BI168=Entry!G$37,Entry!H$37/2+Entry!I$37))))))))","v":31},31,"2017-01-01",{"$f":"ROUND(IF(BI168>=BM$29,0,IF(AND(BI168=BL$31,BM$31>BO$31),BO$31,IF(BI167=BL$31,BM$31,IF(ISERROR(INDEX(BM$31:BM$43,MATCH(BI168,BL$31:BL$43))),BJ167,INDEX(BM$31:BM$43,MATCH(BI168,BL$31:BL$43)))))/BH168*BF168),0)","v":0},0,0,0,null,{"$f":"SUM(BJ168:BM168)","v":0},{"$f":"ROUND(IF(BI168>=BW$29,0,IF(AND(BI168=BV$31,BW$31>BY$31),BY$31,IF(BI167=BV$31,BW$31,IF(ISERROR(INDEX(BW$31:BW$43,MATCH(BI168,BV$31:BV$43))),BJ167,INDEX(BW$31:BW$43,MATCH(BI168,BV$31:BV$43)))))/BH168*BG168),0)","v":0},0,0,0,null,{"$f":"SUM(BP168:BS168)","v":0},{"$f":"BJ168-BP168","v":0},{"$f":"BK168-BQ168","v":0},null,{"$f":"BM168-BS168","v":0},null,{"$f":"SUM(BV168:BY168)","v":0},{"$f":"IF(CB$47=\"GPF\",CT168,IF(CB$47=\"ECpenF\",CI168,0))","v":0},{"$f":"IF(Entry!B$27=\"Y\",0,CX168)","v":0},{"$f":"IF(MONTH(BI168)=3,DA168,CD167)","v":0},null,0,{"$f":"SUM(CB168:CF168)","v":0},{"$f":"CA168-CG168","v":0},0,0,null,119,{"$f":"BI168","v":"2017-01-01"},{"$f":"IF(BJ168=0,0,(IF(ISNA(LOOKUP(BI168,BL$31:BL$43,BM$31:BM$43)),0,LOOKUP(BI168,BL$31:BL$43,BM$31:BM$43))))","v":0},0,{"$f":"IF(CN168=0,0,IF(CN168<=9000,500,IF(CN168<=11000,650,IF(CN168<=15000,1100,IF(CN168<=20000,1450,IF(CN168<=24000,2100,IF(CN168<=28000,3300,IF(CN168<=31000,4100,IF(CN168<=45000,5200,5700)))))))))","v":0},{"$f":"IF(CO168=0,0,IF(CO168<=9000,500,IF(CO168<=11000,650,IF(CO168<=15000,1100,IF(CO168<=20000,1450,IF(CO168<=24000,2100,IF(CO168<=28000,3300,IF(CO168<=31000,4100,IF(CO168<=45000,5200,5700)))))))))","v":0},null,0,0,0,0,0,{"$f":"IF(CV168>CW168,CV168-CW168,0)","v":0},{"$f":"IF(CN168<1,0,IF(CN168<=8500,330,IF(CN168<=11000,450,IF(CN168<=18000,900,IF(CN168<=28000,1300,IF(CN168>=28000,2200))))))","v":0},{"$f":"IF(CO168<1,0,IF(CO168<=8500,330,IF(CO168<=11000,450,IF(CO168<=18000,900,IF(CO168<=28000,1300,IF(CO168>=28000,2200))))))","v":0},{"$f":"IF((MONTH(CM168))=3,(CY168-CZ168),DA167)","v":0},{"$f":"IF(BJ168<1,0,IF(BJ168<=7000,130,IF(BJ168<=10000,190,IF(BJ168<=13000,300,IF(BJ168>13000,480)))))","v":0},{"$f":"IF(BJ168<1,0,IF(BJ168<=7000,50,IF(BJ168<=10000,70,IF(BJ168<=13000,130,IF(BJ168>13000,240)))))","v":0},{"$f":"IF(BP168<1,0,IF(BP168<=7000,130,IF(BP168<=10000,190,IF(BP168<=13000,300,IF(BP168>13000,480)))))","v":0},{"$f":"IF(BP168<1,0,IF(BP168<=7000,50,IF(BP168<=10000,70,IF(BP168<=13000,130,IF(BP168>13000,240)))))","v":0},null,0,0]
[null,null,null,null,null,null,null,null,null,null,null,null,null,null,null,null,null,null,null,null,null,null,null,null,null,null,null,null,null,null,null,null,null,null,null,null,null,null,null,null,null,null,null,null,null,null,null,null,null,null,null,null,null,null,null,null,null,{"$f":"(BH169)-(IF(BI169=Entry!C$31,Entry!D$31/2+Entry!E$31,IF(BI169=Entry!C$32,Entry!D$32/2+Entry!E$32,IF(BI169=Entry!C$33,Entry!D$33/2+Entry!E$33,IF(BI169=Entry!C$34,Entry!D$34/2+Entry!E$34,IF(BI169=Entry!C$35,Entry!D$35/2+Entry!E$35,IF(BI169=Entry!C$36,Entry!D$36/2+Entry!E$36,IF(BI169=Entry!C$37,Entry!D$37/2+Entry!E$37))))))))","v":28},{"$f":"(BH169)-(IF(BI169=Entry!G$31,Entry!H$31/2+Entry!I$31,IF(BI169=Entry!G$32,Entry!H$32/2+Entry!I$32,IF(BI169=Entry!G$33,Entry!H$33/2+Entry!I$33,IF(BI169=Entry!G$34,Entry!H$34/2+Entry!I$34,IF(BI169=Entry!G$35,Entry!H$35/2+Entry!I$35,IF(BI169=Entry!G$36,Entry!H$36/2+Entry!I$36,IF(BI169=Entry!G$37,Entry!H$37/2+Entry!I$37))))))))","v":28},28,"2017-02-01",0,0,0,0,null,0,0,0,0,0,null,0,0,0,null,0,null,0,0,{"$f":"IF(Entry!B$27=\"Y\",0,CX169)","v":0},0,null,0,0,0,0,0,null,119,"2017-02-01",0,0,0,0,null,0,0,0,0,0,0,0,0,0,0,0,0,0,null,0,0]
[null,null,null,null,null,null,null,null,null,null,null,null,null,null,null,null,null,null,null,null,null,null,null,null,null,null,null,null,null,null,null,null,null,null,null,null,null,null,null,null,null,null,null,null,null,null,null,null,null,null,null,null,null,null,null,null,null,{"$f":"(BH170)-(IF(BI170=Entry!C$31,Entry!D$31/2+Entry!E$31,IF(BI170=Entry!C$32,Entry!D$32/2+Entry!E$32,IF(BI170=Entry!C$33,Entry!D$33/2+Entry!E$33,IF(BI170=Entry!C$34,Entry!D$34/2+Entry!E$34,IF(BI170=Entry!C$35,Entry!D$35/2+Entry!E$35,IF(BI170=Entry!C$36,Entry!D$36/2+Entry!E$36,IF(BI170=Entry!C$37,Entry!D$37/2+Entry!E$37))))))))","v":31},{"$f":"(BH170)-(IF(BI170=Entry!G$31,Entry!H$31/2+Entry!I$31,IF(BI170=Entry!G$32,Entry!H$32/2+Entry!I$32,IF(BI170=Entry!G$33,Entry!H$33/2+Entry!I$33,IF(BI170=Entry!G$34,Entry!H$34/2+Entry!I$34,IF(BI170=Entry!G$35,Entry!H$35/2+Entry!I$35,IF(BI170=Entry!G$36,Entry!H$36/2+Entry!I$36,IF(BI170=Entry!G$37,Entry!H$37/2+Entry!I$37))))))))","v":31},31,"2017-03-01",0,0,0,0,null,0,0,0,0,0,null,0,0,0,null,0,null,0,0,{"$f":"IF(Entry!B$27=\"Y\",0,CX170)","v":0},0,null,0,0,0,0,0,null,119,"2017-03-01",0,0,0,0,null,0,0,0,0,0,0,0,0,0,0,0,0,0,null,0,0]
[null,null,null,null,null,null,null,null,null,null,null,null,null,null,null,null,null,null,null,null,null,null,null,null,null,null,null,null,null,null,null,null,null,null,null,null,null,null,null,null,null,null,null,null,null,null,null,null,null,null,null,null,null,null,null,null,null,{"$f":"(BH171)-(IF(BI171=Entry!C$31,Entry!D$31/2+Entry!E$31,IF(BI171=Entry!C$32,Entry!D$32/2+Entry!E$32,IF(BI171=Entry!C$33,Entry!D$33/2+Entry!E$33,IF(BI171=Entry!C$34,Entry!D$34/2+Entry!E$34,IF(BI171=Entry!C$35,Entry!D$35/2+Entry!E$35,IF(BI171=Entry!C$36,Entry!D$36/2+Entry!E$36,IF(BI171=Entry!C$37,Entry!D$37/2+Entry!E$37))))))))","v":30},{"$f":"(BH171)-(IF(BI171=Entry!G$31,Entry!H$31/2+Entry!I$31,IF(BI171=Entry!G$32,Entry!H$32/2+Entry!I$32,IF(BI171=Entry!G$33,Entry!H$33/2+Entry!I$33,IF(BI171=Entry!G$34,Entry!H$34/2+Entry!I$34,IF(BI171=Entry!G$35,Entry!H$35/2+Entry!I$35,IF(BI171=Entry!G$36,Entry!H$36/2+Entry!I$36,IF(BI171=Entry!G$37,Entry!H$37/2+Entry!I$37))))))))","v":30},30,"2017-04-01",0,0,0,0,null,0,0,0,0,0,null,0,0,0,null,0,null,0,0,{"$f":"IF(Entry!B$27=\"Y\",0,CX171)","v":0},0,null,0,0,0,0,0,null,119,"2017-04-01",0,0,0,0,null,0,0,0,0,0,0,0,0,0,0,0,0,0,null,0,0]
[null,null,null,null,null,null,null,null,null,null,null,null,null,null,null,null,null,null,null,null,null,null,null,null,null,null,null,null,null,null,null,null,null,null,null,null,null,null,null,null,null,null,null,null,null,null,null,null,null,null,null,null,null,null,null,null,null,{"$f":"(BH172)-(IF(BI172=Entry!C$31,Entry!D$31/2+Entry!E$31,IF(BI172=Entry!C$32,Entry!D$32/2+Entry!E$32,IF(BI172=Entry!C$33,Entry!D$33/2+Entry!E$33,IF(BI172=Entry!C$34,Entry!D$34/2+Entry!E$34,IF(BI172=Entry!C$35,Entry!D$35/2+Entry!E$35,IF(BI172=Entry!C$36,Entry!D$36/2+Entry!E$36,IF(BI172=Entry!C$37,Entry!D$37/2+Entry!E$37))))))))","v":31},{"$f":"(BH172)-(IF(BI172=Entry!G$31,Entry!H$31/2+Entry!I$31,IF(BI172=Entry!G$32,Entry!H$32/2+Entry!I$32,IF(BI172=Entry!G$33,Entry!H$33/2+Entry!I$33,IF(BI172=Entry!G$34,Entry!H$34/2+Entry!I$34,IF(BI172=Entry!G$35,Entry!H$35/2+Entry!I$35,IF(BI172=Entry!G$36,Entry!H$36/2+Entry!I$36,IF(BI172=Entry!G$37,Entry!H$37/2+Entry!I$37))))))))","v":31},31,"2017-05-01",0,0,0,0,null,0,0,0,0,0,null,0,0,0,null,0,null,0,0,{"$f":"IF(Entry!B$27=\"Y\",0,CX172)","v":0},0,null,0,0,0,0,0,null,119,"2017-05-01",0,0,0,0,null,0,0,0,0,0,0,0,0,0,0,0,0,0,null,0,0]
[null,null,null,null,null,null,null,null,null,null,null,null,null,null,null,null,null,null,null,null,null,null,null,null,null,null,null,null,null,null,null,null,null,null,null,null,null,null,null,null,null,null,null,null,null,null,null,null,null,null,null,null,null,null,null,null,null,{"$f":"(BH173)-(IF(BI173=Entry!C$31,Entry!D$31/2+Entry!E$31,IF(BI173=Entry!C$32,Entry!D$32/2+Entry!E$32,IF(BI173=Entry!C$33,Entry!D$33/2+Entry!E$33,IF(BI173=Entry!C$34,Entry!D$34/2+Entry!E$34,IF(BI173=Entry!C$35,Entry!D$35/2+Entry!E$35,IF(BI173=Entry!C$36,Entry!D$36/2+Entry!E$36,IF(BI173=Entry!C$37,Entry!D$37/2+Entry!E$37))))))))","v":30},{"$f":"(BH173)-(IF(BI173=Entry!G$31,Entry!H$31/2+Entry!I$31,IF(BI173=Entry!G$32,Entry!H$32/2+Entry!I$32,IF(BI173=Entry!G$33,Entry!H$33/2+Entry!I$33,IF(BI173=Entry!G$34,Entry!H$34/2+Entry!I$34,IF(BI173=Entry!G$35,Entry!H$35/2+Entry!I$35,IF(BI173=Entry!G$36,Entry!H$36/2+Entry!I$36,IF(BI173=Entry!G$37,Entry!H$37/2+Entry!I$37))))))))","v":30},30,"2017-06-01",0,0,0,0,null,0,0,0,0,0,null,0,0,0,null,0,null,0,0,{"$f":"IF(Entry!B$27=\"Y\",0,CX173)","v":0},0,null,0,0,0,0,0,null,119,"2017-06-01",0,0,0,0,null,0,0,0,0,0,0,0,0,0,0,0,0,0,null,0,0]
[null,null,null,null,null,null,null,null,null,null,null,null,null,null,null,null,null,null,null,null,null,null,null,null,null,null,null,null,null,null,null,null,null,null,null,null,null,null,null,null,null,null,null,null,null,null,null,null,null,null,null,null,null,null,null,null,null,{"$f":"(BH174)-(IF(BI174=Entry!C$31,Entry!D$31/2+Entry!E$31,IF(BI174=Entry!C$32,Entry!D$32/2+Entry!E$32,IF(BI174=Entry!C$33,Entry!D$33/2+Entry!E$33,IF(BI174=Entry!C$34,Entry!D$34/2+Entry!E$34,IF(BI174=Entry!C$35,Entry!D$35/2+Entry!E$35,IF(BI174=Entry!C$36,Entry!D$36/2+Entry!E$36,IF(BI174=Entry!C$37,Entry!D$37/2+Entry!E$37))))))))","v":31},{"$f":"(BH174)-(IF(BI174=Entry!G$31,Entry!H$31/2+Entry!I$31,IF(BI174=Entry!G$32,Entry!H$32/2+Entry!I$32,IF(BI174=Entry!G$33,Entry!H$33/2+Entry!I$33,IF(BI174=Entry!G$34,Entry!H$34/2+Entry!I$34,IF(BI174=Entry!G$35,Entry!H$35/2+Entry!I$35,IF(BI174=Entry!G$36,Entry!H$36/2+Entry!I$36,IF(BI174=Entry!G$37,Entry!H$37/2+Entry!I$37))))))))","v":31},31,"2017-07-01",0,0,0,0,null,0,0,0,0,0,null,0,0,0,null,0,null,0,0,{"$f":"IF(Entry!B$27=\"Y\",0,CX174)","v":0},0,null,0,0,0,0,0,null,119,"2017-07-01",0,{"$f":"(IF(BJ174=0,0,IF(CN174=0,0,(LOOKUP(BI174,BV$31:BV$43,BW$31:BW$43)))))","v":0},0,0,null,0,0,0,0,0,0,0,0,0,{"$f":"IF(BJ174<1,0,IF(BJ174<=7000,130,IF(BJ174<=10000,190,IF(BJ174<=13000,300,IF(BJ174>13000,480)))))","v":0},0,0,0,null,0,0]
[null,null,null,null,null,null,null,null,null,null,null,null,null,null,null,null,null,null,null,null,null,null,null,null,null,null,null,null,null,null,null,null,null,null,null,null,null,null,null,null,null,null,null,null,null,null,null,null,null,null,null,null,null,null,null,null,null,{"$f":"(BH175)-(IF(BI175=Entry!C$31,Entry!D$31/2+Entry!E$31,IF(BI175=Entry!C$32,Entry!D$32/2+Entry!E$32,IF(BI175=Entry!C$33,Entry!D$33/2+Entry!E$33,IF(BI175=Entry!C$34,Entry!D$34/2+Entry!E$34,IF(BI175=Entry!C$35,Entry!D$35/2+Entry!E$35,IF(BI175=Entry!C$36,Entry!D$36/2+Entry!E$36,IF(BI175=Entry!C$37,Entry!D$37/2+Entry!E$37))))))))","v":31},{"$f":"(BH175)-(IF(BI175=Entry!G$31,Entry!H$31/2+Entry!I$31,IF(BI175=Entry!G$32,Entry!H$32/2+Entry!I$32,IF(BI175=Entry!G$33,Entry!H$33/2+Entry!I$33,IF(BI175=Entry!G$34,Entry!H$34/2+Entry!I$34,IF(BI175=Entry!G$35,Entry!H$35/2+Entry!I$35,IF(BI175=Entry!G$36,Entry!H$36/2+Entry!I$36,IF(BI175=Entry!G$37,Entry!H$37/2+Entry!I$37))))))))","v":31},31,"2017-08-01",0,0,0,0,null,0,0,0,0,0,null,0,0,0,null,0,null,0,0,{"$f":"IF(Entry!B$27=\"Y\",0,CX175)","v":0},0,null,0,0,0,0,0,null,119,"2017-08-01",0,{"$f":"(IF(BJ175=0,0,IF(CN175=0,0,(LOOKUP(BI175,BV$31:BV$43,BW$31:BW$43)))))","v":0},0,0,null,0,0,0,0,0,0,0,0,0,{"$f":"IF(BJ175<1,0,IF(BJ175<=7000,130,IF(BJ175<=10000,190,IF(BJ175<=13000,300,IF(BJ175>13000,480)))))","v":0},0,0,0,null,0,0]
[null,null,null,null,null,null,null,null,null,null,null,null,null,null,null,null,null,null,null,null,null,null,null,null,null,null,null,null,null,null,null,null,null,null,null,null,null,null,null,null,null,null,null,null,null,null,null,null,null,null,null,null,null,null,null,null,null,{"$f":"(BH176)-(IF(BI176=Entry!C$31,Entry!D$31/2+Entry!E$31,IF(BI176=Entry!C$32,Entry!D$32/2+Entry!E$32,IF(BI176=Entry!C$33,Entry!D$33/2+Entry!E$33,IF(BI176=Entry!C$34,Entry!D$34/2+Entry!E$34,IF(BI176=Entry!C$35,Entry!D$35/2+Entry!E$35,IF(BI176=Entry!C$36,Entry!D$36/2+Entry!E$36,IF(BI176=Entry!C$37,Entry!D$37/2+Entry!E$37))))))))","v":30},{"$f":"(BH176)-(IF(BI176=Entry!G$31,Entry!H$31/2+Entry!I$31,IF(BI176=Entry!G$32,Entry!H$32/2+Entry!I$32,IF(BI176=Entry!G$33,Entry!H$33/2+Entry!I$33,IF(BI176=Entry!G$34,Entry!H$34/2+Entry!I$34,IF(BI176=Entry!G$35,Entry!H$35/2+Entry!I$35,IF(BI176=Entry!G$36,Entry!H$36/2+Entry!I$36,IF(BI176=Entry!G$37,Entry!H$37/2+Entry!I$37))))))))","v":30},30,"2017-09-01",0,{"$f":"IF(D$4=\"N\",0,(ROUND((BJ176)*(CL176%),0)))","v":0},0,0,null,0,0,{"$f":"IF(D$4=\"N\",0,(ROUND((BP176)*(CL176%),0)))","v":0},0,0,null,0,0,0,null,0,null,0,0,{"$f":"IF(Entry!B$27=\"Y\",0,CX176)","v":0},0,null,0,0,0,0,0,null,119,"2017-09-01",0,0,0,0,null,0,0,0,0,0,0,0,0,0,0,0,0,0,null,0,0]
[null,null,null,null,null,null,null,null,null,null,null,null,null,null,null,null,null,null,null,null,null,null,null,null,null,null,null,null,null,null,null,null,null,null,null,null,null,null,null,null,null,null,null,null,null,null,null,null,null,null,null,null,null,null,null,null,null,{"$f":"(BH177)-(IF(BI177=Entry!C$31,Entry!D$31/2+Entry!E$31,IF(BI177=Entry!C$32,Entry!D$32/2+Entry!E$32,IF(BI177=Entry!C$33,Entry!D$33/2+Entry!E$33,IF(BI177=Entry!C$34,Entry!D$34/2+Entry!E$34,IF(BI177=Entry!C$35,Entry!D$35/2+Entry!E$35,IF(BI177=Entry!C$36,Entry!D$36/2+Entry!E$36,IF(BI177=Entry!C$37,Entry!D$37/2+Entry!E$37))))))))","v":31},{"$f":"(BH177)-(IF(BI177=Entry!G$31,Entry!H$31/2+Entry!I$31,IF(BI177=Entry!G$32,Entry!H$32/2+Entry!I$32,IF(BI177=Entry!G$33,Entry!H$33/2+Entry!I$33,IF(BI177=Entry!G$34,Entry!H$34/2+Entry!I$34,IF(BI177=Entry!G$35,Entry!H$35/2+Entry!I$35,IF(BI177=Entry!G$36,Entry!H$36/2+Entry!I$36,IF(BI177=Entry!G$37,Entry!H$37/2+Entry!I$37))))))))","v":31},31,"2017-10-01",0,0,0,0,null,0,0,0,0,0,null,0,0,0,null,0,null,0,0,{"$f":"IF(Entry!B$27=\"Y\",0,CX177)","v":0},0,null,0,0,0,{"$f":"ROUND((BJ177+BK177)*10%,0)","v":0},{"$f":"ROUND((BP177+BQ177)*10%,0)","v":0},null,119,"2017-10-01",0,0,0,0,null,0,0,0,0,0,0,0,0,0,0,0,0,0,null,{"$f":"IF(DF$44=\"Y\",CI177,CT177)","v":0},{"$f":"IF(DF$44=\"Y\",CJ177,CU177)","v":0}]
[null,null,null,null,null,null,null,null,null,null,null,null,null,null,null,null,null,null,null,null,null,null,null,null,null,null,null,null,null,null,null,null,null,null,null,null,null,null,null,null,null,null,null,null,null,null,null,null,null,null,null,null,null,null,null,null,null,{"$f":"(BH178)-(IF(BI178=Entry!C$31,Entry!D$31/2+Entry!E$31,IF(BI178=Entry!C$32,Entry!D$32/2+Entry!E$32,IF(BI178=Entry!C$33,Entry!D$33/2+Entry!E$33,IF(BI178=Entry!C$34,Entry!D$34/2+Entry!E$34,IF(BI178=Entry!C$35,Entry!D$35/2+Entry!E$35,IF(BI178=Entry!C$36,Entry!D$36/2+Entry!E$36,IF(BI178=Entry!C$37,Entry!D$37/2+Entry!E$37))))))))","v":30},{"$f":"(BH178)-(IF(BI178=Entry!G$31,Entry!H$31/2+Entry!I$31,IF(BI178=Entry!G$32,Entry!H$32/2+Entry!I$32,IF(BI178=Entry!G$33,Entry!H$33/2+Entry!I$33,IF(BI178=Entry!G$34,Entry!H$34/2+Entry!I$34,IF(BI178=Entry!G$35,Entry!H$35/2+Entry!I$35,IF(BI178=Entry!G$36,Entry!H$36/2+Entry!I$36,IF(BI178=Entry!G$37,Entry!H$37/2+Entry!I$37))))))))","v":30},30,"2017-11-01",0,0,0,0,null,0,0,0,0,0,null,0,0,0,null,0,null,0,0,{"$f":"IF(Entry!B$27=\"Y\",0,CX178)","v":0},0,null,0,0,0,0,0,null,119,"2017-11-01",0,0,0,0,null,0,0,0,0,0,0,0,0,0,0,0,0,0,null,0,0]
[null,null,null,null,null,null,null,null,null,null,null,null,null,null,null,null,null,null,null,null,null,null,null,null,null,null,null,null,null,null,null,null,null,null,null,null,null,null,null,null,null,null,null,null,null,null,null,null,null,null,null,null,null,null,null,null,null,{"$f":"(BH179)-(IF(BI179=Entry!C$31,Entry!D$31/2+Entry!E$31,IF(BI179=Entry!C$32,Entry!D$32/2+Entry!E$32,IF(BI179=Entry!C$33,Entry!D$33/2+Entry!E$33,IF(BI179=Entry!C$34,Entry!D$34/2+Entry!E$34,IF(BI179=Entry!C$35,Entry!D$35/2+Entry!E$35,IF(BI179=Entry!C$36,Entry!D$36/2+Entry!E$36,IF(BI179=Entry!C$37,Entry!D$37/2+Entry!E$37))))))))","v":31},{"$f":"(BH179)-(IF(BI179=Entry!G$31,Entry!H$31/2+Entry!I$31,IF(BI179=Entry!G$32,Entry!H$32/2+Entry!I$32,IF(BI179=Entry!G$33,Entry!H$33/2+Entry!I$33,IF(BI179=Entry!G$34,Entry!H$34/2+Entry!I$34,IF(BI179=Entry!G$35,Entry!H$35/2+Entry!I$35,IF(BI179=Entry!G$36,Entry!H$36/2+Entry!I$36,IF(BI179=Entry!G$37,Entry!H$37/2+Entry!I$37))))))))","v":31},31,"2017-12-01",0,0,0,0,null,0,0,0,0,0,null,0,0,0,null,0,null,0,0,{"$f":"IF(Entry!B$27=\"Y\",0,CX179)","v":0},0,null,0,0,0,0,0,null,119,"2017-12-01",0,0,0,0,null,0,0,0,0,0,0,0,0,0,0,0,0,0,null,0,0]
[]
[null,null,null,null,null,null,null,null,null,null,null,null,null,null,null,null,null,null,null,null,null,null,null,null,null,null,null,null,null,null,null,null,null,null,null,null,null,null,null,null,null,null,null,null,null,null,null,null,null,null,null,null,null,null,null,null,null,null,null,null,"SURRENDER"]
[null,null,null,null,null,null,null,null,null,null,null,null,null,null,null,null,null,null,null,null,null,null,null,null,null,null,null,null,null,null,null,null,null,null,null,null,null,null,null,null,null,null,null,null,null,null,null,null,null,null,null,null,null,null,null,null,null,{"$f":"IF(D19=\"\",0,IF(D19=0,0,D19))","v":0},{"$f":"IF(D19=\"\",0,IF(D19=0,0,D19))","v":0},30,{"$f":"C19","v":"2008-08-01"},{"$f":"IF(BI182=\"\",\"\",(ROUND(VLOOKUP(BI182,CM$48:CO$167,2,FALSE)/BH182*BF182,0)))","v":0},{"$f":"IF(BJ182=\"\",\"\",IF(D$4=\"N\",0,ROUND(BJ182*(VLOOKUP(BI182,BI$48:CN$167,30,FALSE))%,0)))","v":0},null,null,null,{"$f":"SUM(BJ182:BN182)","v":0},{"$f":"IF(BI182=\"\",\"\",(ROUND(VLOOKUP(BI182,CM$48:CO$167,3,FALSE)/BH182*BG182,0)))","v":0},{"$f":"IF(BJ182=\"\",\"\",IF(D$4=\"N\",0,ROUND(BP182*(VLOOKUP(BI182,BI$48:CN$167,30,FALSE))%,0)))","v":0},null,null,null,{"$f":"SUM(BP182:BT182)","v":0},null,null,null,null,null,null,{"$f":"IF(BJ182=\"\",\"\",IF(CB$47=C$14,0,IF(CB$47=\"GPF\",ROUND(VLOOKUP(BI182,CM$48:CS$143,7,FALSE)/2,0))))","v":0}]
[null,null,null,null,null,null,null,null,null,null,null,null,null,null,null,null,null,null,null,null,null,null,null,null,null,null,null,null,null,null,null,null,null,null,null,null,null,null,null,null,null,null,null,null,null,null,null,null,null,null,null,null,null,null,null,null,null,0,0,30,"2009-08-01",{"$f":"IF(BI183=\"\",\"\",(ROUND(VLOOKUP(BI183,CM$48:CO$167,2,FALSE)/BH183*BF183,0)))","v":0},0,null,null,null,0,{"$f":"IF(BI183=\"\",\"\",(ROUND(VLOOKUP(BI183,CM$48:CO$167,3,FALSE)/BH183*BG183,0)))","v":0},0,null,null,null,0,null,null,null,null,null,null,0]
[null,null,null,null,null,null,null,null,null,null,null,null,null,null,null,null,null,null,null,null,null,null,null,null,null,null,null,null,null,null,null,null,null,null,null,null,null,null,null,null,null,null,null,null,null,null,null,null,null,null,null,null,null,null,null,null,null,0,0,30,"2010-08-01",0,0,null,null,null,0,0,0,null,null,null,0,null,null,null,null,null,null,0]
[null,null,null,null,null,null,null,null,null,null,null,null,null,null,null,null,null,null,null,null,null,null,null,null,null,null,null,null,null,null,null,null,null,null,null,null,null,null,null,null,null,null,null,null,null,null,null,null,null,null,null,null,null,null,null,null,null,0,0,30,"2011-08-01",0,0,null,null,null,0,0,0,null,null,null,0,null,null,null,null,null,null,0]
[null,null,null,null,null,null,null,null,null,null,null,null,null,null,null,null,null,null,null,null,null,null,null,null,null,null,null,null,null,null,null,null,null,null,null,null,null,null,null,null,null,null,null,null,null,null,null,null,null,null,null,null,null,null,null,null,null,0,0,30,"2012-08-01",0,0,null,null,null,0,0,0,null,null,null,0,null,null,null,null,null,null,0]
[null,null,null,null,null,null,null,null,null,null,null,null,null,null,null,null,null,null,null,null,null,null,null,null,null,null,null,null,null,null,null,null,null,null,null,null,null,null,null,null,null,null,null,null,null,null,null,null,null,null,null,null,null,null,null,null,null,0,0,30,"2013-08-01",0,0,null,null,null,0,0,0,null,null,null,0,null,null,null,null,null,null,0]
[null,null,null,null,null,null,null,null,null,null,null,null,null,null,null,null,null,null,null,null,null,null,null,null,null,null,null,null,null,null,null,null,null,null,null,null,null,null,null,null,null,null,null,null,null,null,null,null,null,null,null,null,null,null,null,null,null,0,0,30,"2014-08-01",0,0,null,null,null,0,0,0,null,null,null,0,null,null,null,null,null,null,0]
[null,null,null,null,null,null,null,null,null,null,null,null,null,null,null,null,null,null,null,null,null,null,null,null,null,null,null,null,null,null,null,null,null,null,null,null,null,null,null,null,null,null,null,null,null,null,null,null,null,null,null,null,null,null,null,null,null,{"$f":"IF(D27=\"\",0,IF(D27=0,0,D27))","v":0},{"$f":"IF(D27=\"\",0,IF(D27=0,0,D27))","v":0},30,{"$f":"C27","v":""},"","",null,null,null,0,"","",null,null,null,0,null,null,null,null,null,null,""]
[null,null,null,null,null,null,null,null,null,null,null,null,null,null,null,null,null,null,null,null,null,null,null,null,null,null,null,null,null,null,null,null,null,null,null,null,null,null,null,null,null,null,null,null,null,null,null,null,null,null,null,null,null,null,null,null,null,{"$f":"IF(D28=\"\",0,IF(D28=0,0,D28))","v":0},{"$f":"IF(D28=\"\",0,IF(D28=0,0,D28))","v":0},30,{"$f":"C28","v":""},{"$f":"IF(BI190=\"\",\"\",(ROUND(VLOOKUP(BI190,CM$48:CO$143,2,FALSE)/BH190*BF190,0)))","v":""},"",null,null,null,0,"","",null,null,null,0,null,null,null,null,null,null,""]
[null,null,null,null,null,null,null,null,null,null,null,null,null,null,null,null,null,null,null,null,null,null,null,null,null,null,null,null,null,null,null,null,null,null,null,null,null,null,null,null,null,null,null,null,null,null,null,null,null,null,null,null,null,null,null,null,null,{"$f":"IF(D29=\"\",0,IF(D29=0,0,D29))","v":0},{"$f":"IF(D29=\"\",0,IF(D29=0,0,D29))","v":0},30,""]
[null,null,null,null,null,null,null,null,null,null,null,null,null,null,null,null,null,null,null,null,null,null,null,null,null,null,null,null,null,null,null,null,null,null,null,null,null,null,null,null,null,null,null,null,null,null,null,null,null,null,null,null,null,null,null,null,null,null,null,null,null,{"$f":"SUM(BJ48:BJ190)","v":47709},56774,0,4771,0,109254,45201,53789,0,4520,0,103510,2508,2985,0,251,0,5744,6600,0,0,0,0,6600,-856]
[]
[]
[]
[]
[]
[]
[]
[]
[]
[]
[]
[]
[]
[]
[]
[]
[]
[]
[]
[]
[]
[]
[]
[]
[]
[]
[]
[]
[]
[]
[]
[]
[]
[]
[]
[]
[]
[]
[]
[]
[]
[]
[]
[]
[]
[]
[]
[]
[]
[]
[]
[null,null,null,null,null,null,{"$f":"CONCATENATE(M244,Entry!C4,M245,Entry!C5,M246,Entry!C6,\" \",Entry!C7,M247,(TEXT(Entry!C9,\"dd&mm&yyyy\")),M248,E34,M249,D33,O247,M250,M251)","v":"           Jheku  mifuns'kd ek/;fed f'k{kk vtesj e.My vtesj ds vkns'kkad &  }kjk Jh egsUnz iky oekZ o0v0 dks fnukad 04&09&2015 ls f}rh; ,';ksjM dSfj;j izkxs'ku¼,lhih½ xszM is  5400 Lohd`r fd, tkus ls mDr vkns'kksa ds funZs'kk/khu budk osru fu/kkZj.k fuEukuqlkj fd;k tkdj vkxkeh osru o`f);ka Lohd`r dh tkrh gS A"},null,null,null,null,null,"           Jheku  "]
[null,null,null,null,null,null,null,null,null,null,null,null," ds vkns'kkad & "]
[null,null,null,null,null,null,null,null,null,null,null,null," }kjk "]
[null,null,null,null,null,null,null,null,null,null,null,null," dks fnukad ",null,{"$f":"IF(C35=\"\",\"\",\"  ,oa fnukad \"&(TEXT(C35,\"dd&mm&yyyy\"))&\" ls \"&E36&\" ,lhih xzsM is : \"&D35)","v":""}]
[null,null,null,null,null,null,null,null,null,null,null,null," ls "]
[null,null,null,null,null,null,null,null,null,null,null,null," ,';ksjM dSfj;j izkxs'ku¼,lhih½ xszM is  "]
[null,null,null,null,null,null,null,null,null,null,null,null," Lohd`r fd, tkus ls mDr vkns'kksa ds funZs'kk/khu budk osru fu/kkZj.k"]
[null,null,null,null,null,null,null,null,null,null,null,null," fuEukuqlkj fd;k tkdj vkxkeh osru o`f);ka Lohd`r dh tkrh gS A"]
[null,null,null,null,null,null,null,null,null,null,null,null,"bUgsa 31-12-06 rd dh vo/kh gsrq dksbZ ,fj;j ns; ugha gksxk"]